BEGIN:VCALENDAR
VERSION:2.0
PRODID:-//Portsmouth Historical Society - ECPv6.15.20//NONSGML v1.0//EN
CALSCALE:GREGORIAN
METHOD:PUBLISH
X-WR-CALNAME:Portsmouth Historical Society
X-ORIGINAL-URL:https://portsmouthhistory.org
X-WR-CALDESC:Events for Portsmouth Historical Society
REFRESH-INTERVAL;VALUE=DURATION:PT1H
X-Robots-Tag:noindex
X-PUBLISHED-TTL:PT1H
BEGIN:VTIMEZONE
TZID:America/New_York
BEGIN:DAYLIGHT
TZOFFSETFROM:-0500
TZOFFSETTO:-0400
TZNAME:EDT
DTSTART:20250309T070000
END:DAYLIGHT
BEGIN:STANDARD
TZOFFSETFROM:-0400
TZOFFSETTO:-0500
TZNAME:EST
DTSTART:20251102T060000
END:STANDARD
BEGIN:DAYLIGHT
TZOFFSETFROM:-0500
TZOFFSETTO:-0400
TZNAME:EDT
DTSTART:20260308T070000
END:DAYLIGHT
BEGIN:STANDARD
TZOFFSETFROM:-0400
TZOFFSETTO:-0500
TZNAME:EST
DTSTART:20261101T060000
END:STANDARD
BEGIN:DAYLIGHT
TZOFFSETFROM:-0500
TZOFFSETTO:-0400
TZNAME:EDT
DTSTART:20270314T070000
END:DAYLIGHT
BEGIN:STANDARD
TZOFFSETFROM:-0400
TZOFFSETTO:-0500
TZNAME:EST
DTSTART:20271107T060000
END:STANDARD
END:VTIMEZONE
BEGIN:VEVENT
DTSTART;TZID=America/New_York:20260501T170000
DTEND;TZID=America/New_York:20260501T200000
DTSTAMP:20260424T014912
CREATED:20260407T183818Z
LAST-MODIFIED:20260407T183826Z
UID:10000647-1777654800-1777665600@portsmouthhistory.org
SUMMARY:Art Round Town
DESCRIPTION:We’ll be open until 8 p.m. every First Friday for Art ‘Round Town!\nFree admission all day long.\nVisit our most recent exhibition\, “Betty & Barney” and view highlights from our permanent collection in our “Past & Present” exhibition. \n			\n			\n				\n				\n				\n				\n			\n				\n				\n				\n				\n				\n				\n				Learn More About the Exhibition\n			\n			\n				\n				\n				\n				\n				\n				\n				\n				\n				\n				Don’t forget about our free curator tours!\n			\n				\n				\n				\n				\n				\n				\n				\n					\n				\n					\n					\n					\n						 "Betty & Barney" Curator TourMay 1\, 2026 12:00 pm   "Betty & Barney" Curator TourMay 1\, 2026 5:30 pm   Curator Tour "Revolutionary Portsmouth"June 5\, 2026 12:00 pm   Curator Tour “Revolutionary Portsmouth”June 5\, 2026 5:30 pm   "Betty & Barney" Curator TourJuly 3\, 2026 12:00 pm   "Betty & Barney" Curator TourJuly 3\, 2026 5:30 pm
URL:https://portsmouthhistory.org/event/art-may-2026/
LOCATION:Portsmouth Historical Society at 10 Middle Street\, 10 Middle Street\, Portsmouth\, NH\, 01801\, United States
CATEGORIES:Welcome Center & Museum Shop Programs
ATTACH;FMTTYPE=image/webp:https://portsmouthhistory.org/wp-content/uploads/2025/07/New-ART-Logo-Art-Round-Town.webp
GEO:43.075448564665;-70.760680175025
X-APPLE-STRUCTURED-LOCATION;VALUE=URI;X-ADDRESS=Portsmouth Historical Society at 10 Middle Street 10 Middle Street Portsmouth NH 01801 United States;X-APPLE-RADIUS=500;X-TITLE=10 Middle Street:geo:-70.760680175025,43.075448564665
END:VEVENT
BEGIN:VEVENT
DTSTART;TZID=America/New_York:20260507T173000
DTEND;TZID=America/New_York:20260507T193000
DTSTAMP:20260424T014913
CREATED:20260406T154052Z
LAST-MODIFIED:20260406T154352Z
UID:10000643-1778175000-1778182200@portsmouthhistory.org
SUMMARY:Spring Auction
DESCRIPTION:You’re Invited!\nThis signature event offers you the opportunity to engage with hands-on history while directly supporting the students and families who benefit from our work. From our third-grade history program\, where we visit every Portsmouth public school classroom each month at no cost\, to homeschool days\, lectures\, free Family Days\, and other public programs serving learners of all ages\, your participation ensures these meaningful experiences remain accessible and impactful.\n			\n				\n				\n				\n				\n				RSVP to the Preview Party & Silent Auction\n			\n			\n				\n				\n				\n				\n			\n				\n				\n				\n				\n				\n				\n				Become a Member Today!\n			\n			\n				\n				\n				\n				\n				\n				\n				\n				\n				\n				\n			\n				Learn About the Exhibition
URL:https://portsmouthhistory.org/event/spring-auction-2026/
LOCATION:Portsmouth Historical Society at 10 Middle Street\, 10 Middle Street\, Portsmouth\, NH\, 01801\, United States
CATEGORIES:Education Programs,Welcome Center & Museum Shop Programs
ATTACH;FMTTYPE=image/webp:https://portsmouthhistory.org/wp-content/uploads/2026/04/Auction-Event.webp
GEO:43.075448564665;-70.760680175025
X-APPLE-STRUCTURED-LOCATION;VALUE=URI;X-ADDRESS=Portsmouth Historical Society at 10 Middle Street 10 Middle Street Portsmouth NH 01801 United States;X-APPLE-RADIUS=500;X-TITLE=10 Middle Street:geo:-70.760680175025,43.075448564665
END:VEVENT
END:VCALENDAR