BEGIN:VCALENDAR
VERSION:2.0
PRODID:-//Portsmouth Historical Society - ECPv6.15.20//NONSGML v1.0//EN
CALSCALE:GREGORIAN
METHOD:PUBLISH
X-ORIGINAL-URL:https://portsmouthhistory.org
X-WR-CALDESC:Events for Portsmouth Historical Society
REFRESH-INTERVAL;VALUE=DURATION:PT1H
X-Robots-Tag:noindex
X-PUBLISHED-TTL:PT1H
BEGIN:VTIMEZONE
TZID:America/New_York
BEGIN:DAYLIGHT
TZOFFSETFROM:-0500
TZOFFSETTO:-0400
TZNAME:EDT
DTSTART:20240310T070000
END:DAYLIGHT
BEGIN:STANDARD
TZOFFSETFROM:-0400
TZOFFSETTO:-0500
TZNAME:EST
DTSTART:20241103T060000
END:STANDARD
BEGIN:DAYLIGHT
TZOFFSETFROM:-0500
TZOFFSETTO:-0400
TZNAME:EDT
DTSTART:20250309T070000
END:DAYLIGHT
BEGIN:STANDARD
TZOFFSETFROM:-0400
TZOFFSETTO:-0500
TZNAME:EST
DTSTART:20251102T060000
END:STANDARD
BEGIN:DAYLIGHT
TZOFFSETFROM:-0500
TZOFFSETTO:-0400
TZNAME:EDT
DTSTART:20260308T070000
END:DAYLIGHT
BEGIN:STANDARD
TZOFFSETFROM:-0400
TZOFFSETTO:-0500
TZNAME:EST
DTSTART:20261101T060000
END:STANDARD
END:VTIMEZONE
BEGIN:VEVENT
DTSTART;TZID=America/New_York:20250606T170000
DTEND;TZID=America/New_York:20250606T200000
DTSTAMP:20260425T110617
CREATED:20250519T213625Z
LAST-MODIFIED:20250519T213631Z
UID:10000482-1749229200-1749240000@portsmouthhistory.org
SUMMARY:Art Round Town with Priscilla French
DESCRIPTION:We’ll be open until 8 p.m. every First Friday for Art ‘Round Town!\nFree admission all day long.\nVisit our most recent exhibition\, “Cabot Lyford: Winds of Change” and view highlights from our permanent collection in our “Past & Present” exhibition. \n			\n			\n				\n				\n				\n				\n			\n				\n				\n				\n				\n				\n				\n				\n				\n				\n				\n				\n			\n				\n				\n				\n				\n				About the Artist:\nPriscilla French began sketching as a young girl using pastels and paints and took a life-changing drawing class in college that opened her eyes to different ways of seeing. Since moving to Portsmouth\, NH in 1985 she has studied watercolor consistently with esteemed teachers and artists Doris Rice\, DeWitt Hardy and Russell Whitten – and  will never stop! She has taught both studio art and art history at the high school level and was recently accepted as a juried member of the New Hampshire Art Association.\n			\n			\n				\n				\n				\n				\n				\n				\n				\n				\n				\n				Don’t forget about our free curator tours!\n			\n				\n				\n				\n				\n				\n				\n				\n					\n				\n					\n					\n					\n						 May 2026"Betty & Barney" Curator TourMay 1\, 2026 12:00 pm   "Betty & Barney" Curator TourMay 1\, 2026 5:30 pm   June 2026Curator Tour "Revolutionary Portsmouth"June 5\, 2026 12:00 pm   Curator Tour “Revolutionary Portsmouth”June 5\, 2026 5:30 pm
URL:https://portsmouthhistory.org/event/art-june-2025/
LOCATION:Portsmouth Historical Society at 10 Middle Street\, 10 Middle Street\, Portsmouth\, NH\, 01801\, United States
CATEGORIES:Welcome Center & Museum Shop Programs
ATTACH;FMTTYPE=image/png:https://portsmouthhistory.org/wp-content/uploads/2023/04/Art-Round-Town.png
GEO:43.075448564665;-70.760680175025
X-APPLE-STRUCTURED-LOCATION;VALUE=URI;X-ADDRESS=Portsmouth Historical Society at 10 Middle Street 10 Middle Street Portsmouth NH 01801 United States;X-APPLE-RADIUS=500;X-TITLE=10 Middle Street:geo:-70.760680175025,43.075448564665
END:VEVENT
END:VCALENDAR