BEGIN:VCALENDAR
VERSION:2.0
PRODID:-//Portsmouth Historical Society - ECPv6.15.20//NONSGML v1.0//EN
CALSCALE:GREGORIAN
METHOD:PUBLISH
X-ORIGINAL-URL:https://portsmouthhistory.org
X-WR-CALDESC:Events for Portsmouth Historical Society
REFRESH-INTERVAL;VALUE=DURATION:PT1H
X-Robots-Tag:noindex
X-PUBLISHED-TTL:PT1H
BEGIN:VTIMEZONE
TZID:America/New_York
BEGIN:DAYLIGHT
TZOFFSETFROM:-0500
TZOFFSETTO:-0400
TZNAME:EDT
DTSTART:20240310T070000
END:DAYLIGHT
BEGIN:STANDARD
TZOFFSETFROM:-0400
TZOFFSETTO:-0500
TZNAME:EST
DTSTART:20241103T060000
END:STANDARD
BEGIN:DAYLIGHT
TZOFFSETFROM:-0500
TZOFFSETTO:-0400
TZNAME:EDT
DTSTART:20250309T070000
END:DAYLIGHT
BEGIN:STANDARD
TZOFFSETFROM:-0400
TZOFFSETTO:-0500
TZNAME:EST
DTSTART:20251102T060000
END:STANDARD
BEGIN:DAYLIGHT
TZOFFSETFROM:-0500
TZOFFSETTO:-0400
TZNAME:EDT
DTSTART:20260308T070000
END:DAYLIGHT
BEGIN:STANDARD
TZOFFSETFROM:-0400
TZOFFSETTO:-0500
TZNAME:EST
DTSTART:20261101T060000
END:STANDARD
END:VTIMEZONE
BEGIN:VEVENT
DTSTART;VALUE=DATE:20250619
DTEND;VALUE=DATE:20250620
DTSTAMP:20260425T124031
CREATED:20250515T142116Z
LAST-MODIFIED:20250515T142122Z
UID:10000480-1750291200-1750377599@portsmouthhistory.org
SUMMARY:Museum Closed
DESCRIPTION:The museum will be closed on Juneteenth\nBelow are some of the great events that other organizations have planned for city-wide Juneteenth celebrations.  \n			\n			\n				\n				\n				\n				\n			\n				\n				\n				\n				\n				\n				\n				\n				\n				\n				\n				\n			\n				\n				\n				\n				\n				Juneteenth Freedom Walk\n\nWednesday June 19\, 2024 at 9:30am\nFREE \nCelebrate Juneteenth side-by-side with others of goodwill by walking from Kittery\, Maine to the African Burying Ground in Portsmouth\, New Hampshire! \nMeet at the John Paul Jones Memorial Park on the Kittery side of the Route 1 Memorial Bridge. Walkers will gather by 9:00 AM begin the 0.8 miles at 9:30 AM to the Burying Ground\, located at 386 State Street\, Portsmouth NH this years walk will be led by The Leftist Marching Band. \nThis walk is hosted by The Seacoast African American Cultural Center.\n			\n			\n				\n				\n				\n				\n				\n				\n				\n				\n				\n				\n			\n				\n				\n				\n				\n				African Drumming at the Burial Ground\nWednesday\, June 19\, 11:00 AMFREE \nThe day opens with a soul-stirring Call to Gather by the Akwaaba Ensemble\, followed by a tribute to the ancestors led by Rev. Robert Thompson\, Director Emeritus of the Black Heritage Trail of New Hampshire. \nThe ceremony continues with a rededication of the Memorial by Assistant Mayor Joanna Kelley\, and the unveiling of our new Sankofa Augmented Reality (AR) Outdoor Museum Experience—an immersive digital storytelling initiative that brings history to life through your smartphone. \nPresented by the Black Heritage Trail of New Hampshire \n			\n			\n				\n				\n				\n				\n			\n				\n				\n				\n				\n				\n				\n				See more related Juneteenth events!
URL:https://portsmouthhistory.org/event/closed-6-19-2025/
LOCATION:Portsmouth Historical Society at 10 Middle Street\, 10 Middle Street\, Portsmouth\, NH\, 01801\, United States
CATEGORIES:Welcome Center & Museum Shop Programs
ATTACH;FMTTYPE=image/jpeg:https://portsmouthhistory.org/wp-content/uploads/2024/02/Exterior10Middle2023.jpg
GEO:43.075448564665;-70.760680175025
X-APPLE-STRUCTURED-LOCATION;VALUE=URI;X-ADDRESS=Portsmouth Historical Society at 10 Middle Street 10 Middle Street Portsmouth NH 01801 United States;X-APPLE-RADIUS=500;X-TITLE=10 Middle Street:geo:-70.760680175025,43.075448564665
END:VEVENT
END:VCALENDAR