BEGIN:VCALENDAR
VERSION:2.0
PRODID:-//Portsmouth Historical Society - ECPv6.15.20//NONSGML v1.0//EN
CALSCALE:GREGORIAN
METHOD:PUBLISH
X-WR-CALNAME:Portsmouth Historical Society
X-ORIGINAL-URL:https://portsmouthhistory.org
X-WR-CALDESC:Events for Portsmouth Historical Society
REFRESH-INTERVAL;VALUE=DURATION:PT1H
X-Robots-Tag:noindex
X-PUBLISHED-TTL:PT1H
BEGIN:VTIMEZONE
TZID:America/New_York
BEGIN:DAYLIGHT
TZOFFSETFROM:-0500
TZOFFSETTO:-0400
TZNAME:EDT
DTSTART:20210314T070000
END:DAYLIGHT
BEGIN:STANDARD
TZOFFSETFROM:-0400
TZOFFSETTO:-0500
TZNAME:EST
DTSTART:20211107T060000
END:STANDARD
BEGIN:DAYLIGHT
TZOFFSETFROM:-0500
TZOFFSETTO:-0400
TZNAME:EDT
DTSTART:20220313T070000
END:DAYLIGHT
BEGIN:STANDARD
TZOFFSETFROM:-0400
TZOFFSETTO:-0500
TZNAME:EST
DTSTART:20221106T060000
END:STANDARD
BEGIN:DAYLIGHT
TZOFFSETFROM:-0500
TZOFFSETTO:-0400
TZNAME:EDT
DTSTART:20230312T070000
END:DAYLIGHT
BEGIN:STANDARD
TZOFFSETFROM:-0400
TZOFFSETTO:-0500
TZNAME:EST
DTSTART:20231105T060000
END:STANDARD
BEGIN:DAYLIGHT
TZOFFSETFROM:-0500
TZOFFSETTO:-0400
TZNAME:EDT
DTSTART:20240310T070000
END:DAYLIGHT
BEGIN:STANDARD
TZOFFSETFROM:-0400
TZOFFSETTO:-0500
TZNAME:EST
DTSTART:20241103T060000
END:STANDARD
END:VTIMEZONE
BEGIN:VEVENT
DTSTART;TZID=America/New_York:20230524T173000
DTEND;TZID=America/New_York:20230524T190000
DTSTAMP:20260424T142455
CREATED:20230413T195137Z
LAST-MODIFIED:20230508T154205Z
UID:10000142-1684949400-1684954800@portsmouthhistory.org
SUMMARY:Book Signing: Portsmouth (a novel)
DESCRIPTION:Join us for a book signing with author James Polus\nGet a chance to meet and speak with the author of Portsmouth. \nBooks will be available for sale in the gift shop. Admission is free\, no RSVP required. \n			\n			\n				\n				\n				\n				\n			\n				\n				\n				\n				\n				\n				\n				\n				\n				\n				\n				\n			\n				\n				\n				\n				\n				About the Author:\nOriginally from Upstate New York\, a graduate of Hobart College and Columbia University\, and a former life long employee of IBM\, Polus has an amazing wife and four accomplished children. Serving in senior financial positions afforded him the opportunity to live in England for one year\, followed thereafter by four years in France. He considers himself as a citizen of the world to complement his proud American heritage. \nJame Polus published his first book\, entitled “The Dream of AO” in May 2021\, followed by the sequel\, “Dreams of Lies and Delusions”\, published in 2022. The historical backdrop is the Indus Valley civilization\, circa 1700 BCE. He believes we can reference ancient civilizations to remind us that the timeless themes of love\, courage\, honor and redemption have long competed with treachery\, deceit\, hatred and lust. Professional storytellers perfectly recited long\, epic morality tales\, illustrating for all peoples the lessons for a virtuous life. Battles over dogma\, spiritual beliefs\, and rituals date well before written texts. \nPolus enjoys creative and imaginary fiction using strong characters to espouse his ideas on human purpose and human equality. The motifs of dreaming and oral traditions serve as the backdrop for his writing. Most of his characters practice mindfulness and are skilled in various forms of meditation. As an avid cyclist\, he likes to pedal alone on quiet country roads or traverse along the long ocean stretches\, imagining the lives of his characters.\n			\n			\n				\n				\n				\n				\n				\n				Buy Portsmouth by James Polus\n			\n				\n				\n				\n				\n				About the Book:\nHistorical fiction comes to New England with the epic novel\, “Portsmouth\,” a classical saga reliving the story of a 1623 fictitious family and twelve successive generations that bring New England seacoast history to life.Memorable characters interact with real-life personalities and historical events that shaped America. From the early Puritans to the Sons of Liberty and the Revolutionary War\, up through the Great Depression and World War II\, the novel brings American notables such as George Washington\, Ona Judge Staines\, Major General Fitz-John Porter\, Frank Jones\, and Celia Thaxter into the reader’s imagination. \n The novel “Portsmouth” celebrates the 400th anniversary of the founding of this historic seaport\, so reminiscent of colonial times
URL:https://portsmouthhistory.org/event/book-signing-portsmouth-a-novel/
LOCATION:Portsmouth Historical Society at 10 Middle Street\, 10 Middle Street\, Portsmouth\, NH\, 01801\, United States
CATEGORIES:Downstairs Exhibtion,Upstairs Exhibition,Welcome Center & Museum Shop Programs
ATTACH;FMTTYPE=image/png:https://portsmouthhistory.org/wp-content/uploads/2023/04/Polus-524.png
GEO:43.075448564665;-70.760680175025
X-APPLE-STRUCTURED-LOCATION;VALUE=URI;X-ADDRESS=Portsmouth Historical Society at 10 Middle Street 10 Middle Street Portsmouth NH 01801 United States;X-APPLE-RADIUS=500;X-TITLE=10 Middle Street:geo:-70.760680175025,43.075448564665
END:VEVENT
BEGIN:VEVENT
DTSTART;TZID=America/New_York:20230505T170000
DTEND;TZID=America/New_York:20230505T200000
DTSTAMP:20260424T142455
CREATED:20230413T154910Z
LAST-MODIFIED:20230428T200359Z
UID:10000140-1683306000-1683316800@portsmouthhistory.org
SUMMARY:Art 'Round Town
DESCRIPTION:We’ll be open until 8pm on May 5th for Art ‘Round Town!\nFree admission all day long.\nVisit our two most recent exhibitions “A Sense of Place” and “Reinventing Portsmouth” both are a part of Portsmouth’s 400th anniversary celebrations. \n			\n			\n				\n				\n				\n				\n				\n				\n				\n				\n				\n				Enter our First Friday Raffle\n			\n				\n				\n				\n				\n				\n			\n				\n				\n				\n				\n				Our May raffle features a lovely straw sunhat paired with a lightweight scarf\, perfect for the sunny days and warmer weather ahead.\nRaffle tickets are $1 a piece and can be purchased in the gift shop.
URL:https://portsmouthhistory.org/event/art-round-town-5-5/
LOCATION:Portsmouth Historical Society at 10 Middle Street\, 10 Middle Street\, Portsmouth\, NH\, 01801\, United States
CATEGORIES:Welcome Center & Museum Shop Programs
ATTACH;FMTTYPE=image/png:https://portsmouthhistory.org/wp-content/uploads/2023/04/Art-Round-Town.png
GEO:43.075448564665;-70.760680175025
X-APPLE-STRUCTURED-LOCATION;VALUE=URI;X-ADDRESS=Portsmouth Historical Society at 10 Middle Street 10 Middle Street Portsmouth NH 01801 United States;X-APPLE-RADIUS=500;X-TITLE=10 Middle Street:geo:-70.760680175025,43.075448564665
END:VEVENT
BEGIN:VEVENT
DTSTART;TZID=America/New_York:20230407T170000
DTEND;TZID=America/New_York:20230407T200000
DTSTAMP:20260424T142455
CREATED:20230328T205938Z
LAST-MODIFIED:20230328T205942Z
UID:10000138-1680886800-1680897600@portsmouthhistory.org
SUMMARY:Art 'Round Town
DESCRIPTION:We’ll be open until 8pm on April 7th for Art ‘Round Town!\nFree admission all day long.\nVisit our two most recent exhibitions “A Sense of Place” and “Reinventing Portsmouth” both are a part of Portsmouth’s 400th anniversary celebrations.
URL:https://portsmouthhistory.org/event/art-round-town-april2023/
LOCATION:Portsmouth Historical Society at 10 Middle Street\, 10 Middle Street\, Portsmouth\, NH\, 01801\, United States
CATEGORIES:Welcome Center & Museum Shop Programs
ATTACH;FMTTYPE=image/png:https://portsmouthhistory.org/wp-content/uploads/2023/03/Art-Round-Town.png
GEO:43.075448564665;-70.760680175025
X-APPLE-STRUCTURED-LOCATION;VALUE=URI;X-ADDRESS=Portsmouth Historical Society at 10 Middle Street 10 Middle Street Portsmouth NH 01801 United States;X-APPLE-RADIUS=500;X-TITLE=10 Middle Street:geo:-70.760680175025,43.075448564665
END:VEVENT
BEGIN:VEVENT
DTSTART;TZID=America/New_York:20230401T100000
DTEND;TZID=America/New_York:20230430T170000
DTSTAMP:20260424T142455
CREATED:20230321T180607Z
LAST-MODIFIED:20230321T180613Z
UID:10000135-1680343200-1682874000@portsmouthhistory.org
SUMMARY:April Book Sale
DESCRIPTION:Stock your library with Portsmouth history books!\nFill one of our Portsmouth Historical Society tote bags with a selection of books from our museum store for just $25. Whether you stuff the tote bag to the brim or just choose a few volumes\, you have to be able to carry it out of the building yourself. \nThis sale will run through April or until we run out of tote bags.
URL:https://portsmouthhistory.org/event/april-book-sale/
LOCATION:Portsmouth Historical Society at 10 Middle Street\, 10 Middle Street\, Portsmouth\, NH\, 01801\, United States
CATEGORIES:Welcome Center & Museum Shop Programs
ATTACH;FMTTYPE=image/png:https://portsmouthhistory.org/wp-content/uploads/2023/03/April-Book-Sale.png
GEO:43.075448564665;-70.760680175025
X-APPLE-STRUCTURED-LOCATION;VALUE=URI;X-ADDRESS=Portsmouth Historical Society at 10 Middle Street 10 Middle Street Portsmouth NH 01801 United States;X-APPLE-RADIUS=500;X-TITLE=10 Middle Street:geo:-70.760680175025,43.075448564665
END:VEVENT
BEGIN:VEVENT
DTSTART;TZID=America/New_York:20230401T100000
DTEND;TZID=America/New_York:20230401T170000
DTSTAMP:20260424T142455
CREATED:20230123T182049Z
LAST-MODIFIED:20230126T170726Z
UID:10000128-1680343200-1680368400@portsmouthhistory.org
SUMMARY:2023 Opening Day
DESCRIPTION:Join us for the start of the 2023 season on April 1.\nFeatured Exhibition:\nA Sense of Place\, a companion exhibition to A History of Portsmouth NH in 101 Objects
URL:https://portsmouthhistory.org/event/2023-opening-day/
LOCATION:Portsmouth Historical Society at 10 Middle Street\, 10 Middle Street\, Portsmouth\, NH\, 01801\, United States
CATEGORIES:Exhibitions Programs,Welcome Center & Museum Shop Programs
ATTACH;FMTTYPE=image/jpeg:https://portsmouthhistory.org/wp-content/uploads/2023/01/Facebook-Events.jpg
GEO:43.075448564665;-70.760680175025
X-APPLE-STRUCTURED-LOCATION;VALUE=URI;X-ADDRESS=Portsmouth Historical Society at 10 Middle Street 10 Middle Street Portsmouth NH 01801 United States;X-APPLE-RADIUS=500;X-TITLE=10 Middle Street:geo:-70.760680175025,43.075448564665
END:VEVENT
BEGIN:VEVENT
DTSTART;TZID=America/New_York:20221230T100000
DTEND;TZID=America/New_York:20221230T160000
DTSTAMP:20260424T142455
CREATED:20221206T193822Z
LAST-MODIFIED:20221213T193046Z
UID:10000124-1672394400-1672416000@portsmouthhistory.org
SUMMARY:Final Day of the 2022 Season
DESCRIPTION:Visit us before we close for the season Friday\, December 30.\nCurrent Exhibitions:“Show + Tell” Greater Seacoast IllustratorsSome Gingerbread House Contest and Exhibition entries
URL:https://portsmouthhistory.org/event/final-day-of-the-2022-season/
LOCATION:Portsmouth Historical Society at 10 Middle Street\, 10 Middle Street\, Portsmouth\, NH\, 01801\, United States
CATEGORIES:Exhibitions Programs,Welcome Center & Museum Shop Programs
ATTACH;FMTTYPE=image/jpeg:https://portsmouthhistory.org/wp-content/uploads/2020/03/ROA_9391-101-scaled.jpg
GEO:43.075448564665;-70.760680175025
X-APPLE-STRUCTURED-LOCATION;VALUE=URI;X-ADDRESS=Portsmouth Historical Society at 10 Middle Street 10 Middle Street Portsmouth NH 01801 United States;X-APPLE-RADIUS=500;X-TITLE=10 Middle Street:geo:-70.760680175025,43.075448564665
END:VEVENT
BEGIN:VEVENT
DTSTART;TZID=America/New_York:20221214T123000
DTEND;TZID=America/New_York:20221214T140000
DTSTAMP:20260424T142455
CREATED:20221117T220302Z
LAST-MODIFIED:20221117T220338Z
UID:10000121-1671021000-1671026400@portsmouthhistory.org
SUMMARY:Book Signing with Lenaye Marsten
DESCRIPTION:Join us for a book signing with author Lenaye Marsten\nGet a chance to meet and speak with the author of The Secret Life of Mary White: Darkness Into Light. \nBooks will be available for sale in the gift shop. Admission is free\, no RSVP required.\n			\n			\n				\n				\n				\n				\n			\n				\n				\n				\n				\n				\n				\n				\n				\n				\n				\n				\n			\n			\n				\n				\n				\n				\n				\n				\n				\n				\n				\n				About the Author:\nAuthor Lenaye Marsten\, an alternative healer\, an award-winning artist\, and a descendant of Mary White lives in Maine with her family and a houseful of pets.\n			\n				\n				\n				\n				\n				About the Book:\nInspired by a true story from the 17th century Piscataqua region of New England. Young Mary White must walk a fine line between her healing craft and the deadly intolerance of the fearful and ignorant. From natural magic and alchemy to ancient wisdom and folklore\, she must transcend the consequences of her gift in order to survive and help others with her crucial healing talents. A story of triumph and tragedy and the transmutation of darkness into light.
URL:https://portsmouthhistory.org/event/book-signing-12-14-2022/
LOCATION:Portsmouth Historical Society at 10 Middle Street\, 10 Middle Street\, Portsmouth\, NH\, 01801\, United States
CATEGORIES:Welcome Center & Museum Shop Programs
ATTACH;FMTTYPE=image/png:https://portsmouthhistory.org/wp-content/uploads/2022/11/BookSigning-Marsten-12.14Web.png
GEO:43.075448564665;-70.760680175025
X-APPLE-STRUCTURED-LOCATION;VALUE=URI;X-ADDRESS=Portsmouth Historical Society at 10 Middle Street 10 Middle Street Portsmouth NH 01801 United States;X-APPLE-RADIUS=500;X-TITLE=10 Middle Street:geo:-70.760680175025,43.075448564665
END:VEVENT
BEGIN:VEVENT
DTSTART;TZID=America/New_York:20221202T123000
DTEND;TZID=America/New_York:20221202T143000
DTSTAMP:20260424T142455
CREATED:20221108T183207Z
LAST-MODIFIED:20221121T205740Z
UID:10000118-1669984200-1669991400@portsmouthhistory.org
SUMMARY:Vintage Christmas Kickoff Party
DESCRIPTION:Vintage Christmas in Portsmouth Kickoff Party\nJoin us on Friday\, December 3 from 5:30 to 7:30 to celebrate the season! We’ll be announcing the community judges’ winners for the Gingerbread House Contest and gearing up for Saturday’s parade and tree lighting! \nFree admission for all. \n			\n			\n				\n				\n				\n				\n			\n				\n				\n				\n				\n				\n				\n				\n				\n				\n				\n				\n			\n			\n				\n				\n				\n				\n				\n				\n				\n				\n				\n				Strawbery Banke \nThe Music Hall \nThe City of Portsmouth \nThe Chamber Collaborative of Greater Portsmouth \nPortsmouth Historical Society \nYankee Magazine
URL:https://portsmouthhistory.org/event/vintage-christmas-kickoff-party/
LOCATION:Portsmouth Historical Society at 10 Middle Street\, 10 Middle Street\, Portsmouth\, NH\, 01801\, United States
CATEGORIES:Exhibitions Programs,Welcome Center & Museum Shop Programs
ATTACH;FMTTYPE=image/png:https://portsmouthhistory.org/wp-content/uploads/2022/11/Vintage-Christmas-Kick-Off-web.png
GEO:43.075448564665;-70.760680175025
X-APPLE-STRUCTURED-LOCATION;VALUE=URI;X-ADDRESS=Portsmouth Historical Society at 10 Middle Street 10 Middle Street Portsmouth NH 01801 United States;X-APPLE-RADIUS=500;X-TITLE=10 Middle Street:geo:-70.760680175025,43.075448564665
END:VEVENT
BEGIN:VEVENT
DTSTART;TZID=America/New_York:20221130T123000
DTEND;TZID=America/New_York:20221130T140000
DTSTAMP:20260424T142455
CREATED:20221114T214921Z
LAST-MODIFIED:20221117T203001Z
UID:10000119-1669811400-1669816800@portsmouthhistory.org
SUMMARY:Sip n' Shop
DESCRIPTION:Sip n’ Shop\nJoin us for an exclusive\, members-only shopping experience with raffles\, prizes\, and refreshments. \nWhere: Portsmouth Historical Society\, 10 Middle StreetWhen: Wednesday November 30\, 2022 5:30-7:30 pm\n			\n				\n				\n				\n				\n				10% Discount for Historical Society Members\n			\n				Browse the online shop\n			\n				\n				\n				\n				\n				RSVP below:
URL:https://portsmouthhistory.org/event/sip-and-shop/
LOCATION:NH
CATEGORIES:Welcome Center & Museum Shop Programs
ATTACH;FMTTYPE=image/png:https://portsmouthhistory.org/wp-content/uploads/2022/11/SipShopEvent.png
END:VEVENT
BEGIN:VEVENT
DTSTART;VALUE=DATE:20221126
DTEND;VALUE=DATE:20221128
DTSTAMP:20260424T142455
CREATED:20221117T223014Z
LAST-MODIFIED:20221117T223017Z
UID:10000122-1669489200-1669575599@portsmouthhistory.org
SUMMARY:Museum Store Sunday
DESCRIPTION:Museum Store Sunday\nWe are proud to partner with hundreds of other museums and cultural institutions across the United States to take part in Museum Store Sunday on November 27. There are all sorts of unique and hand crafted items available for sale in our gift shop. \n			\n				\n				\n				\n				\n				Free shipping on all online orders placed on Sunday\, November 27 using the code MSS2022.\n			\n				Browse the online shop
URL:https://portsmouthhistory.org/event/museum-store-sunday/
LOCATION:Portsmouth Historical Society at 10 Middle Street\, 10 Middle Street\, Portsmouth\, NH\, 01801\, United States
CATEGORIES:Welcome Center & Museum Shop Programs
ATTACH;FMTTYPE=image/jpeg:https://portsmouthhistory.org/wp-content/uploads/2022/11/MSS_FBEventCover.jpg
GEO:43.075448564665;-70.760680175025
X-APPLE-STRUCTURED-LOCATION;VALUE=URI;X-ADDRESS=Portsmouth Historical Society at 10 Middle Street 10 Middle Street Portsmouth NH 01801 United States;X-APPLE-RADIUS=500;X-TITLE=10 Middle Street:geo:-70.760680175025,43.075448564665
END:VEVENT
BEGIN:VEVENT
DTSTART;TZID=America/New_York:20221109T120000
DTEND;TZID=America/New_York:20221109T140000
DTSTAMP:20260424T142455
CREATED:20221107T160533Z
LAST-MODIFIED:20221107T162216Z
UID:10000117-1667995200-1668002400@portsmouthhistory.org
SUMMARY:Portsmouth Advocates 2022 Awards
DESCRIPTION:Portsmouth Advocates Honors City Preservation Projects\nSince 1989 Portsmouth Advocates has honored individuals and projects that enhance the city’s unique historic character and make Portsmouth a better place to live and work. \nWhere: Portsmouth Historical Society\, 10 Middle StreetWhen: Wednesday November 9\, 2022 5-7pmAwards presentation begins at 5:30 pmLight refreshments will be served. \n			\n				\n				\n				\n				\n				Portsmouth Advocates is pleased to announce the following award winners:\n			\n			\n				\n				\n				\n				\n			\n				\n				\n				\n				\n				\n				\n				\n				\n				\n				\n				Restoring the Integrity of a Resource:\n			\n			\n				\n				\n				\n				\n				\n				\n				\n				\n				\n				State of New Hampshire Bureau of Historic Sites for restoration of the Billiard Room at the Wentworth-Coolidge Mansion\n			\n			\n				\n				\n				\n				\n			\n				\n				\n				\n				\n				\n				\n				\n				\n				\n				\n				Continued and Sensitive Maintenance of a Historic Property:\n			\n			\n				\n				\n				\n				\n				\n				\n				\n				\n				\n				Christine Dwyer and Michael Huxtable\, 600 Broad Street\n			\n			\n				\n				\n				\n				\n			\n				\n				\n				\n				\n				\n				\n				\n				\n				\n				\n				Arthur J. Gerrier Memorial Award:\n			\n			\n				\n				\n				\n				\n				\n				\n				\n				\n				\n				Bruce Blanchard \n			\n			\n				\n				\n				\n				\n			\n				\n				\n				\n				\n				\n				\n				\n				\n				\n				\n				John Grossman Memorial Award: \n			\n			\n				\n				\n				\n				\n				\n				\n				\n				\n				\n				Lawrence Yerdon\n			\n			\n				\n				\n				\n				\n			\n				\n				\n				\n				\n				\n				\n				\n				\n				\n				\n				 the new Nancy Carmer Preservation Planning Award:\n			\n			\n				\n				\n				\n				\n				\n				\n				\n				\n				\n				Nancy Carmer
URL:https://portsmouthhistory.org/event/portsmouth-advocates-2022-awards/
LOCATION:Portsmouth Historical Society at 10 Middle Street\, 10 Middle Street\, Portsmouth\, NH\, 01801\, United States
CATEGORIES:Welcome Center & Museum Shop Programs
ATTACH;FMTTYPE=image/jpeg:https://portsmouthhistory.org/wp-content/uploads/2022/11/2022-awards-logo-sml.jpg
GEO:43.075448564665;-70.760680175025
X-APPLE-STRUCTURED-LOCATION;VALUE=URI;X-ADDRESS=Portsmouth Historical Society at 10 Middle Street 10 Middle Street Portsmouth NH 01801 United States;X-APPLE-RADIUS=500;X-TITLE=10 Middle Street:geo:-70.760680175025,43.075448564665
END:VEVENT
BEGIN:VEVENT
DTSTART;TZID=America/New_York:20221104T130000
DTEND;TZID=America/New_York:20221104T160000
DTSTAMP:20260424T142455
CREATED:20221101T191110Z
LAST-MODIFIED:20221101T202514Z
UID:10000114-1667566800-1667577600@portsmouthhistory.org
SUMMARY:Art Round Town
DESCRIPTION:We’ll be open until 8pm on November 4th for Art ‘Round Town!\nFree admission all day long.\nVisit our two most recent exhibitions “Show + Tell: Greater Seacoast Illustrators” and “It’s Pastel” put on by the Pastel Society of NH.\n			\n			\n				\n				\n				\n				\n			\n				\n				\n				\n				\n				\n				\n				\n				\n				\n				\n				\n			\n			\n				\n				\n				\n				\n				\n				\n				\n				\n				\n				Meet the artist: Rebecca Dudley\n“Like most illustrators\, I start with an image in my head and make sketches. Unlike most illustrators\, I then build a place for my idea to live.” \nMore information about Rebecca’s work can be found at http://storywoods.blogspot.com/
URL:https://portsmouthhistory.org/event/art-round-town-november/
LOCATION:NH
CATEGORIES:Welcome Center & Museum Shop Programs
ATTACH;FMTTYPE=image/jpeg:https://portsmouthhistory.org/wp-content/uploads/2022/09/Dudley-Hank-finds-an-Egg.jpg
END:VEVENT
BEGIN:VEVENT
DTSTART;TZID=America/New_York:20221027T163000
DTEND;TZID=America/New_York:20221027T183000
DTSTAMP:20260424T142455
CREATED:20221006T190739Z
LAST-MODIFIED:20221006T190739Z
UID:10000108-1666888200-1666895400@portsmouthhistory.org
SUMMARY:Show & Tell Opening Reception
DESCRIPTION:You’re invited to an opening reception for Show & Tell: Greater Seacoast Illustrators! Join curator Tess Feltes and local Seacoast illustrators featured in the exhibition for a preview of Show & Tell before it opens to the public on Friday\, October 28. The reception will be held on the second floor of the Welcome Center & Galleries at 10 Middle Street. Light refreshments will be served. \nThis event is free and open to the public. No RSVP is required. 
URL:https://portsmouthhistory.org/event/show-tell-opening-reception/
LOCATION:Portsmouth Historical Society at 10 Middle Street\, 10 Middle Street\, Portsmouth\, NH\, 01801\, United States
CATEGORIES:Exhibitions Programs,Welcome Center & Museum Shop Programs
ATTACH;FMTTYPE=image/jpeg:https://portsmouthhistory.org/wp-content/uploads/2022/09/20220928-ST-logo-draft-scaled.jpg
GEO:43.075448564665;-70.760680175025
X-APPLE-STRUCTURED-LOCATION;VALUE=URI;X-ADDRESS=Portsmouth Historical Society at 10 Middle Street 10 Middle Street Portsmouth NH 01801 United States;X-APPLE-RADIUS=500;X-TITLE=10 Middle Street:geo:-70.760680175025,43.075448564665
END:VEVENT
BEGIN:VEVENT
DTSTART;TZID=America/New_York:20221022T160000
DTEND;TZID=America/New_York:20221022T190000
DTSTAMP:20260424T142455
CREATED:20221007T152923Z
LAST-MODIFIED:20221007T180250Z
UID:10000109-1666454400-1666465200@portsmouthhistory.org
SUMMARY:"It's Pastel!" Exhibition Reception
DESCRIPTION:The Pastel Society of New Hampshire will be hosting a reception for their annual exhibition It’s Pastel! This event is free and open to the public. The event will be held in the first floor gallery at the Portsmouth Historical Society’s Welcome Center & Galleries at 10 Middle Street\, Portsmouth\, NH 03801. \n  \nImage: “Winter Path” by Laurinda O’Connor
URL:https://portsmouthhistory.org/event/its-pastel-exhibition-reception/
LOCATION:Portsmouth Historical Society at 10 Middle Street\, 10 Middle Street\, Portsmouth\, NH\, 01801\, United States
CATEGORIES:Exhibitions Programs,Welcome Center & Museum Shop Programs
ATTACH;FMTTYPE=image/png:https://portsmouthhistory.org/wp-content/uploads/2022/10/Its-Pastel.png
GEO:43.075448564665;-70.760680175025
X-APPLE-STRUCTURED-LOCATION;VALUE=URI;X-ADDRESS=Portsmouth Historical Society at 10 Middle Street 10 Middle Street Portsmouth NH 01801 United States;X-APPLE-RADIUS=500;X-TITLE=10 Middle Street:geo:-70.760680175025,43.075448564665
END:VEVENT
BEGIN:VEVENT
DTSTART;TZID=America/New_York:20221007T160000
DTEND;TZID=America/New_York:20221007T190000
DTSTAMP:20260424T142455
CREATED:20221003T174131Z
LAST-MODIFIED:20221007T153046Z
UID:10000106-1665158400-1665169200@portsmouthhistory.org
SUMMARY:Art Round Town
DESCRIPTION:Join us for the monthly Art Round Town with Josh Hrehovcik\, author/photographer of the “Retro Road Trip” series on Friday\, October 7 from 5-8 pm in our Gift Shop.
URL:https://portsmouthhistory.org/event/art-round-town-4/
LOCATION:Portsmouth Historical Society at 10 Middle Street\, 10 Middle Street\, Portsmouth\, NH\, 01801\, United States
CATEGORIES:Welcome Center & Museum Shop Programs
ATTACH;FMTTYPE=image/jpeg:https://portsmouthhistory.org/wp-content/uploads/2022/10/Josh-Big-Camera-Outside-2-e1664818707160.jpg
GEO:43.075448564665;-70.760680175025
X-APPLE-STRUCTURED-LOCATION;VALUE=URI;X-ADDRESS=Portsmouth Historical Society at 10 Middle Street 10 Middle Street Portsmouth NH 01801 United States;X-APPLE-RADIUS=500;X-TITLE=10 Middle Street:geo:-70.760680175025,43.075448564665
END:VEVENT
BEGIN:VEVENT
DTSTART;TZID=America/New_York:20220902T170000
DTEND;TZID=America/New_York:20220902T170000
DTSTAMP:20260424T142455
CREATED:20220609T155805Z
LAST-MODIFIED:20220617T232029Z
UID:10000095-1662138000-1662138000@portsmouthhistory.org
SUMMARY:Art Round Town
DESCRIPTION:
URL:https://portsmouthhistory.org/event/art-round-town-3/
LOCATION:NH
CATEGORIES:Exhibitions Programs,Welcome Center & Museum Shop Programs
END:VEVENT
BEGIN:VEVENT
DTSTART;TZID=America/New_York:20220805T170000
DTEND;TZID=America/New_York:20220805T170000
DTSTAMP:20260424T142455
CREATED:20220609T155736Z
LAST-MODIFIED:20220617T232038Z
UID:10000094-1659718800-1659718800@portsmouthhistory.org
SUMMARY:Art Round Town
DESCRIPTION:
URL:https://portsmouthhistory.org/event/art-round-town-2/
LOCATION:NH
CATEGORIES:Exhibitions Programs,Welcome Center & Museum Shop Programs
END:VEVENT
BEGIN:VEVENT
DTSTART;TZID=America/New_York:20220701T170000
DTEND;TZID=America/New_York:20220701T170000
DTSTAMP:20260424T142455
CREATED:20220609T155735Z
LAST-MODIFIED:20220609T171253Z
UID:10000093-1656694800-1656694800@portsmouthhistory.org
SUMMARY:Art 'Round Town
DESCRIPTION:
URL:https://portsmouthhistory.org/event/art-round-town/
LOCATION:NH
CATEGORIES:Exhibitions Programs,Welcome Center & Museum Shop Programs
END:VEVENT
END:VCALENDAR