BEGIN:VCALENDAR
VERSION:2.0
PRODID:-//Portsmouth Historical Society - ECPv6.15.20//NONSGML v1.0//EN
CALSCALE:GREGORIAN
METHOD:PUBLISH
X-ORIGINAL-URL:https://portsmouthhistory.org
X-WR-CALDESC:Events for Portsmouth Historical Society
REFRESH-INTERVAL;VALUE=DURATION:PT1H
X-Robots-Tag:noindex
X-PUBLISHED-TTL:PT1H
BEGIN:VTIMEZONE
TZID:America/New_York
BEGIN:DAYLIGHT
TZOFFSETFROM:-0500
TZOFFSETTO:-0400
TZNAME:EDT
DTSTART:20210314T070000
END:DAYLIGHT
BEGIN:STANDARD
TZOFFSETFROM:-0400
TZOFFSETTO:-0500
TZNAME:EST
DTSTART:20211107T060000
END:STANDARD
BEGIN:DAYLIGHT
TZOFFSETFROM:-0500
TZOFFSETTO:-0400
TZNAME:EDT
DTSTART:20220313T070000
END:DAYLIGHT
BEGIN:STANDARD
TZOFFSETFROM:-0400
TZOFFSETTO:-0500
TZNAME:EST
DTSTART:20221106T060000
END:STANDARD
BEGIN:DAYLIGHT
TZOFFSETFROM:-0500
TZOFFSETTO:-0400
TZNAME:EDT
DTSTART:20230312T070000
END:DAYLIGHT
BEGIN:STANDARD
TZOFFSETFROM:-0400
TZOFFSETTO:-0500
TZNAME:EST
DTSTART:20231105T060000
END:STANDARD
END:VTIMEZONE
BEGIN:VEVENT
DTSTART;TZID=America/New_York:20221027T163000
DTEND;TZID=America/New_York:20221027T183000
DTSTAMP:20260424T200852
CREATED:20221006T190739Z
LAST-MODIFIED:20221006T190739Z
UID:10000108-1666888200-1666895400@portsmouthhistory.org
SUMMARY:Show & Tell Opening Reception
DESCRIPTION:You’re invited to an opening reception for Show & Tell: Greater Seacoast Illustrators! Join curator Tess Feltes and local Seacoast illustrators featured in the exhibition for a preview of Show & Tell before it opens to the public on Friday\, October 28. The reception will be held on the second floor of the Welcome Center & Galleries at 10 Middle Street. Light refreshments will be served. \nThis event is free and open to the public. No RSVP is required. 
URL:https://portsmouthhistory.org/event/show-tell-opening-reception/
LOCATION:Portsmouth Historical Society at 10 Middle Street\, 10 Middle Street\, Portsmouth\, NH\, 01801\, United States
CATEGORIES:Exhibitions Programs,Welcome Center & Museum Shop Programs
ATTACH;FMTTYPE=image/jpeg:https://portsmouthhistory.org/wp-content/uploads/2022/09/20220928-ST-logo-draft-scaled.jpg
GEO:43.075448564665;-70.760680175025
X-APPLE-STRUCTURED-LOCATION;VALUE=URI;X-ADDRESS=Portsmouth Historical Society at 10 Middle Street 10 Middle Street Portsmouth NH 01801 United States;X-APPLE-RADIUS=500;X-TITLE=10 Middle Street:geo:-70.760680175025,43.075448564665
END:VEVENT
BEGIN:VEVENT
DTSTART;TZID=America/New_York:20221022T160000
DTEND;TZID=America/New_York:20221022T190000
DTSTAMP:20260424T200852
CREATED:20221007T152923Z
LAST-MODIFIED:20221007T180250Z
UID:10000109-1666454400-1666465200@portsmouthhistory.org
SUMMARY:"It's Pastel!" Exhibition Reception
DESCRIPTION:The Pastel Society of New Hampshire will be hosting a reception for their annual exhibition It’s Pastel! This event is free and open to the public. The event will be held in the first floor gallery at the Portsmouth Historical Society’s Welcome Center & Galleries at 10 Middle Street\, Portsmouth\, NH 03801. \n  \nImage: “Winter Path” by Laurinda O’Connor
URL:https://portsmouthhistory.org/event/its-pastel-exhibition-reception/
LOCATION:Portsmouth Historical Society at 10 Middle Street\, 10 Middle Street\, Portsmouth\, NH\, 01801\, United States
CATEGORIES:Exhibitions Programs,Welcome Center & Museum Shop Programs
ATTACH;FMTTYPE=image/png:https://portsmouthhistory.org/wp-content/uploads/2022/10/Its-Pastel.png
GEO:43.075448564665;-70.760680175025
X-APPLE-STRUCTURED-LOCATION;VALUE=URI;X-ADDRESS=Portsmouth Historical Society at 10 Middle Street 10 Middle Street Portsmouth NH 01801 United States;X-APPLE-RADIUS=500;X-TITLE=10 Middle Street:geo:-70.760680175025,43.075448564665
END:VEVENT
BEGIN:VEVENT
DTSTART;TZID=America/New_York:20221007T160000
DTEND;TZID=America/New_York:20221007T190000
DTSTAMP:20260424T200852
CREATED:20221003T174131Z
LAST-MODIFIED:20221007T153046Z
UID:10000106-1665158400-1665169200@portsmouthhistory.org
SUMMARY:Art Round Town
DESCRIPTION:Join us for the monthly Art Round Town with Josh Hrehovcik\, author/photographer of the “Retro Road Trip” series on Friday\, October 7 from 5-8 pm in our Gift Shop.
URL:https://portsmouthhistory.org/event/art-round-town-4/
LOCATION:Portsmouth Historical Society at 10 Middle Street\, 10 Middle Street\, Portsmouth\, NH\, 01801\, United States
CATEGORIES:Welcome Center & Museum Shop Programs
ATTACH;FMTTYPE=image/jpeg:https://portsmouthhistory.org/wp-content/uploads/2022/10/Josh-Big-Camera-Outside-2-e1664818707160.jpg
GEO:43.075448564665;-70.760680175025
X-APPLE-STRUCTURED-LOCATION;VALUE=URI;X-ADDRESS=Portsmouth Historical Society at 10 Middle Street 10 Middle Street Portsmouth NH 01801 United States;X-APPLE-RADIUS=500;X-TITLE=10 Middle Street:geo:-70.760680175025,43.075448564665
END:VEVENT
BEGIN:VEVENT
DTSTART;TZID=America/New_York:20220902T170000
DTEND;TZID=America/New_York:20220902T170000
DTSTAMP:20260424T200852
CREATED:20220609T155805Z
LAST-MODIFIED:20220617T232029Z
UID:10000095-1662138000-1662138000@portsmouthhistory.org
SUMMARY:Art Round Town
DESCRIPTION:
URL:https://portsmouthhistory.org/event/art-round-town-3/
LOCATION:NH
CATEGORIES:Exhibitions Programs,Welcome Center & Museum Shop Programs
END:VEVENT
BEGIN:VEVENT
DTSTART;TZID=America/New_York:20220805T170000
DTEND;TZID=America/New_York:20220805T170000
DTSTAMP:20260424T200852
CREATED:20220609T155736Z
LAST-MODIFIED:20220617T232038Z
UID:10000094-1659718800-1659718800@portsmouthhistory.org
SUMMARY:Art Round Town
DESCRIPTION:
URL:https://portsmouthhistory.org/event/art-round-town-2/
LOCATION:NH
CATEGORIES:Exhibitions Programs,Welcome Center & Museum Shop Programs
END:VEVENT
BEGIN:VEVENT
DTSTART;TZID=America/New_York:20220701T170000
DTEND;TZID=America/New_York:20220701T170000
DTSTAMP:20260424T200852
CREATED:20220609T155735Z
LAST-MODIFIED:20220609T171253Z
UID:10000093-1656694800-1656694800@portsmouthhistory.org
SUMMARY:Art 'Round Town
DESCRIPTION:
URL:https://portsmouthhistory.org/event/art-round-town/
LOCATION:NH
CATEGORIES:Exhibitions Programs,Welcome Center & Museum Shop Programs
END:VEVENT
END:VCALENDAR