BEGIN:VCALENDAR
VERSION:2.0
PRODID:-//Portsmouth Historical Society - ECPv6.15.20//NONSGML v1.0//EN
CALSCALE:GREGORIAN
METHOD:PUBLISH
X-ORIGINAL-URL:https://portsmouthhistory.org
X-WR-CALDESC:Events for Portsmouth Historical Society
REFRESH-INTERVAL;VALUE=DURATION:PT1H
X-Robots-Tag:noindex
X-PUBLISHED-TTL:PT1H
BEGIN:VTIMEZONE
TZID:America/New_York
BEGIN:DAYLIGHT
TZOFFSETFROM:-0500
TZOFFSETTO:-0400
TZNAME:EDT
DTSTART:20220313T070000
END:DAYLIGHT
BEGIN:STANDARD
TZOFFSETFROM:-0400
TZOFFSETTO:-0500
TZNAME:EST
DTSTART:20221106T060000
END:STANDARD
BEGIN:DAYLIGHT
TZOFFSETFROM:-0500
TZOFFSETTO:-0400
TZNAME:EDT
DTSTART:20230312T070000
END:DAYLIGHT
BEGIN:STANDARD
TZOFFSETFROM:-0400
TZOFFSETTO:-0500
TZNAME:EST
DTSTART:20231105T060000
END:STANDARD
BEGIN:DAYLIGHT
TZOFFSETFROM:-0500
TZOFFSETTO:-0400
TZNAME:EDT
DTSTART:20240310T070000
END:DAYLIGHT
BEGIN:STANDARD
TZOFFSETFROM:-0400
TZOFFSETTO:-0500
TZNAME:EST
DTSTART:20241103T060000
END:STANDARD
BEGIN:DAYLIGHT
TZOFFSETFROM:-0500
TZOFFSETTO:-0400
TZNAME:EDT
DTSTART:20250309T070000
END:DAYLIGHT
BEGIN:STANDARD
TZOFFSETFROM:-0400
TZOFFSETTO:-0500
TZNAME:EST
DTSTART:20251102T060000
END:STANDARD
END:VTIMEZONE
BEGIN:VEVENT
DTSTART;TZID=America/New_York:20241114T173000
DTEND;TZID=America/New_York:20241114T190000
DTSTAMP:20260423T200422
CREATED:20241018T203013Z
LAST-MODIFIED:20241018T203025Z
UID:10000387-1731605400-1731610800@portsmouthhistory.org
SUMMARY:Intro to Pastel
DESCRIPTION:Join our own Donna Theodossiou for a beginner’s lesson in pastels! Donna is a self-taught artist who loves exploring the beauty of the world around her through her art. Learn more about Donna on her website\, Color in the Fog Studio. \n			\n				\n				\n				\n				\n				Register for our Intro to Pastels Workshop!
URL:https://portsmouthhistory.org/event/intro-to-pastel/
LOCATION:Portsmouth Historical Society at 10 Middle Street\, 10 Middle Street\, Portsmouth\, NH\, 01801\, United States
CATEGORIES:Exhibitions Programs,Upstairs Exhibition
GEO:43.075448564665;-70.760680175025
X-APPLE-STRUCTURED-LOCATION;VALUE=URI;X-ADDRESS=Portsmouth Historical Society at 10 Middle Street 10 Middle Street Portsmouth NH 01801 United States;X-APPLE-RADIUS=500;X-TITLE=10 Middle Street:geo:-70.760680175025,43.075448564665
END:VEVENT
BEGIN:VEVENT
DTSTART;TZID=America/New_York:20231126T150000
DTEND;TZID=America/New_York:20231126T170000
DTSTAMP:20260423T200422
CREATED:20231013T174022Z
LAST-MODIFIED:20231117T153609Z
UID:10000238-1701010800-1701018000@portsmouthhistory.org
SUMMARY:Opening Reception "Lost Neighborhoods"
DESCRIPTION:Celebrate the opening of “Lost Neighborhoods”\nNovember 26\, 3:00–5:00 pm\nJoin the Abstract 4 in our galleries for the opening reception of “Lost Neighborhoods!” Barbara Adams\, Peter Cady\, Tom Glover\, and Dustan Knight will be here to celebrate the neighborhoods of Portsmouth that used to be through their talents with paints and brushes. \n			\n				Learn more about the artists\n			\n			\n				\n				\n				\n				\n			\n				\n				\n				\n				\n				\n				\n			\n				\n				\n				\n				\n			\n				\n				\n				\n				\n				\n				\n				\n				\n				\n				\n				This exhibition is a part of the Portsmouth NH 400 celebrations.
URL:https://portsmouthhistory.org/event/lost-neighborhoods-reception/
LOCATION:Portsmouth Historical Society at 10 Middle Street\, 10 Middle Street\, Portsmouth\, NH\, 01801\, United States
CATEGORIES:Exhibitions Programs,Upstairs Exhibition
ATTACH;FMTTYPE=image/jpeg:https://portsmouthhistory.org/wp-content/uploads/2023/10/Lost-Neighborhoods-OPening-Recepetion-scaled.jpg
GEO:43.075448564665;-70.760680175025
X-APPLE-STRUCTURED-LOCATION;VALUE=URI;X-ADDRESS=Portsmouth Historical Society at 10 Middle Street 10 Middle Street Portsmouth NH 01801 United States;X-APPLE-RADIUS=500;X-TITLE=10 Middle Street:geo:-70.760680175025,43.075448564665
END:VEVENT
BEGIN:VEVENT
DTSTART;TZID=America/New_York:20231124T100000
DTEND;TZID=America/New_York:20231124T170000
DTSTAMP:20260423T200422
CREATED:20230915T000826Z
LAST-MODIFIED:20230929T144639Z
UID:10000223-1700820000-1700845200@portsmouthhistory.org
SUMMARY:"Lost Neighborhoods" Exhibition Opens
DESCRIPTION:“Lost Neighborhoods”\nNovember 24 – December 30\nBarbara Stevens Adams\, Peter Cady\, Tom Glover\, and Dustan Knight team up to celebrate the 400th anniversary of the founding of Portsmouth by remembering what used to be. Through their paints and brushes\, these four talented artists depict the lost neighborhoods of our beloved city such as the North End\, old Puddle Dock\, the West End and others. Works will be on display and available for sale from November 24 through December 30 in the balcony gallery at Portsmouth Historical Society.
URL:https://portsmouthhistory.org/event/lost-neighborhoods-exhibition-opens/
LOCATION:Portsmouth Historical Society at 10 Middle Street\, 10 Middle Street\, Portsmouth\, NH\, 01801\, United States
CATEGORIES:Exhibitions Programs,Upstairs Exhibition
ATTACH;FMTTYPE=image/jpeg:https://portsmouthhistory.org/wp-content/uploads/2023/09/Lost-Neighborhoods-logo-long-scaled.jpg
GEO:43.075448564665;-70.760680175025
X-APPLE-STRUCTURED-LOCATION;VALUE=URI;X-ADDRESS=Portsmouth Historical Society at 10 Middle Street 10 Middle Street Portsmouth NH 01801 United States;X-APPLE-RADIUS=500;X-TITLE=10 Middle Street:geo:-70.760680175025,43.075448564665
END:VEVENT
BEGIN:VEVENT
DTSTART;TZID=America/New_York:20231019T180000
DTEND;TZID=America/New_York:20231019T193000
DTSTAMP:20260423T200422
CREATED:20230908T184842Z
LAST-MODIFIED:20230929T182715Z
UID:10000218-1697738400-1697743800@portsmouthhistory.org
SUMMARY:Making an Impact Conversation
DESCRIPTION:October 19 panel participants \n			\n			\n				\n				\n				\n				\n			\n				\n				\n				\n				\n				\n				\n				\n				\n				\n				\n				Reagan RudigHistoric District CommissionAthenaeum Proprietor \n			\n			\n				\n				\n				\n				\n				\n				\n				\n				\n				\n				Ben VanCampChief Collaborator & PresidentPortsmouth Chamber of Commerce \n			\n			\n				\n				\n				\n				\n				\n				\n				\n				\n				\n				Ken HaleMember Services & Resource CoordinatorGather \n			\n			\n				\n				\n				\n				\n				\n				\n				\n				\n				\n				Emily ChadwickChairPortsmouth Smart Growth \n			\n			\n				\n				\n				\n				\n			\n				\n				\n				\n				\n				\n				\n				\n				\n				\n				\n				Register for the Making an Impact Conversation on 10/19
URL:https://portsmouthhistory.org/event/making-an-impact-oct19/
LOCATION:Portsmouth Historical Society at 10 Middle Street\, 10 Middle Street\, Portsmouth\, NH\, 01801\, United States
CATEGORIES:Education Programs,Upstairs Exhibition
ATTACH;FMTTYPE=image/png:https://portsmouthhistory.org/wp-content/uploads/2023/09/Impact-Panels10.19updated.png
GEO:43.075448564665;-70.760680175025
X-APPLE-STRUCTURED-LOCATION;VALUE=URI;X-ADDRESS=Portsmouth Historical Society at 10 Middle Street 10 Middle Street Portsmouth NH 01801 United States;X-APPLE-RADIUS=500;X-TITLE=10 Middle Street:geo:-70.760680175025,43.075448564665
END:VEVENT
BEGIN:VEVENT
DTSTART;TZID=America/New_York:20231009T100000
DTEND;TZID=America/New_York:20231009T170000
DTSTAMP:20260423T200422
CREATED:20230912T114102Z
LAST-MODIFIED:20230912T114107Z
UID:10000221-1696845600-1696870800@portsmouthhistory.org
SUMMARY:"Reinventing Portsmouth" Exhibition Final Day
DESCRIPTION:Visit before the exhibition closes on October 9!\n			\n				Plan Your Visit
URL:https://portsmouthhistory.org/event/reinventing-portsmouth-exhibition-final-day/
LOCATION:Portsmouth Historical Society at 10 Middle Street\, 10 Middle Street\, Portsmouth\, NH\, 01801\, United States
CATEGORIES:Exhibitions Programs,Upstairs Exhibition
ATTACH;FMTTYPE=image/jpeg:https://portsmouthhistory.org/wp-content/uploads/2023/02/Marsh-House-logo-web.jpg
GEO:43.075448564665;-70.760680175025
X-APPLE-STRUCTURED-LOCATION;VALUE=URI;X-ADDRESS=Portsmouth Historical Society at 10 Middle Street 10 Middle Street Portsmouth NH 01801 United States;X-APPLE-RADIUS=500;X-TITLE=10 Middle Street:geo:-70.760680175025,43.075448564665
END:VEVENT
BEGIN:VEVENT
DTSTART;TZID=America/New_York:20231005T180000
DTEND;TZID=America/New_York:20231005T193000
DTSTAMP:20260423T200422
CREATED:20230908T182125Z
LAST-MODIFIED:20230929T182120Z
UID:10000217-1696528800-1696534200@portsmouthhistory.org
SUMMARY:Making an Impact Conversation
DESCRIPTION:October 5 panel participants \n			\n			\n				\n				\n				\n				\n			\n				\n				\n				\n				\n				\n				\n				\n				\n				\n				\n				Jennifer KennedyExecutive Director & Co-FounderBlue Ocean Society for Marine Conservation \n			\n			\n				\n				\n				\n				\n				\n				\n				\n				\n				\n				Craig W. WelchExecutive DirectorPortsmouth Housing Authority \n			\n				\n				\n				\n				\n				Lori Waltz\nExecutive Director\nLeadership Seacoast\n			\n			\n				\n				\n				\n				\n				\n				\n				\n				\n				\n				Jessica GoffCommunity Outreach & Education CoordinatorSeacoast Outright \n			\n			\n				\n				\n				\n				\n			\n				\n				\n				\n				\n				\n				\n				\n				\n				\n				\n				Register for the Making an Impact Conversation on 10/5
URL:https://portsmouthhistory.org/event/making-an-impact-oct5/
LOCATION:Portsmouth Historical Society at 10 Middle Street\, 10 Middle Street\, Portsmouth\, NH\, 01801\, United States
CATEGORIES:Education Programs,Upstairs Exhibition
ATTACH;FMTTYPE=image/png:https://portsmouthhistory.org/wp-content/uploads/2023/09/Impact-Panels10.5updateweb.png
GEO:43.075448564665;-70.760680175025
X-APPLE-STRUCTURED-LOCATION;VALUE=URI;X-ADDRESS=Portsmouth Historical Society at 10 Middle Street 10 Middle Street Portsmouth NH 01801 United States;X-APPLE-RADIUS=500;X-TITLE=10 Middle Street:geo:-70.760680175025,43.075448564665
END:VEVENT
BEGIN:VEVENT
DTSTART;TZID=America/New_York:20231004T120000
DTEND;TZID=America/New_York:20231004T130000
DTSTAMP:20260423T200422
CREATED:20230803T140905Z
LAST-MODIFIED:20230804T134221Z
UID:10000207-1696420800-1696424400@portsmouthhistory.org
SUMMARY:"Reinventing Portsmouth" Curator Tour
DESCRIPTION:Learn just how groovy the 70s were with the curator(s) of “Reinventing Portsmouth”\nJoin exhibition curators Richard Candee and Bob Thoresen for an hour-long tour of the current exhibition. Hear what the Portsmouth Arts and Culture scene was like in the 1970s and gain a deeper understanding of how the city we know today was physically shaped by this pivotal period. Our curator tours are free with museum admission.Single site admission is $10 general ticket/ $5 discount/ free for members. \n			\n				Admission and Visit Info
URL:https://portsmouthhistory.org/event/curator-tour-10-4/
LOCATION:Portsmouth Historical Society at 10 Middle Street\, 10 Middle Street\, Portsmouth\, NH\, 01801\, United States
CATEGORIES:Exhibitions Programs,Upstairs Exhibition
ATTACH;FMTTYPE=image/png:https://portsmouthhistory.org/wp-content/uploads/2023/08/Upstairs-Curator-Tours-web-2.png
GEO:43.075448564665;-70.760680175025
X-APPLE-STRUCTURED-LOCATION;VALUE=URI;X-ADDRESS=Portsmouth Historical Society at 10 Middle Street 10 Middle Street Portsmouth NH 01801 United States;X-APPLE-RADIUS=500;X-TITLE=10 Middle Street:geo:-70.760680175025,43.075448564665
END:VEVENT
BEGIN:VEVENT
DTSTART;TZID=America/New_York:20230914T170000
DTEND;TZID=America/New_York:20230914T180000
DTSTAMP:20260423T200422
CREATED:20230803T134723Z
LAST-MODIFIED:20230804T134232Z
UID:10000206-1694710800-1694714400@portsmouthhistory.org
SUMMARY:"Reinventing Portsmouth" Curator Tour
DESCRIPTION:Learn just how groovy the 70s were with the curator(s) of “Reinventing Portsmouth”\nJoin exhibition curators Richard Candee and Bob Thoresen for an hour-long tour of the current exhibition. Hear what the Portsmouth Arts and Culture scene was like in the 1970s and gain a deeper understanding of how the city we know today was physically shaped by this pivotal period.Our curator tours are free with museum admission.Single site admission is $10 general ticket/ $5 discount/ free for members. \n			\n				Admission and Visit Info
URL:https://portsmouthhistory.org/event/curator-tour-9-14/
LOCATION:Portsmouth Historical Society at 10 Middle Street\, 10 Middle Street\, Portsmouth\, NH\, 01801\, United States
CATEGORIES:Exhibitions Programs,Upstairs Exhibition
ATTACH;FMTTYPE=image/png:https://portsmouthhistory.org/wp-content/uploads/2023/08/Upstairs-Curator-Tours-web-2.png
GEO:43.075448564665;-70.760680175025
X-APPLE-STRUCTURED-LOCATION;VALUE=URI;X-ADDRESS=Portsmouth Historical Society at 10 Middle Street 10 Middle Street Portsmouth NH 01801 United States;X-APPLE-RADIUS=500;X-TITLE=10 Middle Street:geo:-70.760680175025,43.075448564665
END:VEVENT
BEGIN:VEVENT
DTSTART;TZID=America/New_York:20230831T180000
DTEND;TZID=America/New_York:20230831T193000
DTSTAMP:20260423T200422
CREATED:20230802T182857Z
LAST-MODIFIED:20230803T134256Z
UID:10000205-1693504800-1693510200@portsmouthhistory.org
SUMMARY:Arts and Culture in 1970s Portsmouth
DESCRIPTION:Learn more about the Portsmouth arts and culture scene in the 1970s\n			\n				\n				\n				\n				\n				Register for the Arts and Culture in the 1970s Lecture
URL:https://portsmouthhistory.org/event/lecture-8-31/
LOCATION:Portsmouth Historical Society at 10 Middle Street\, 10 Middle Street\, Portsmouth\, NH\, 01801\, United States
CATEGORIES:Exhibitions Programs,Upstairs Exhibition
ATTACH;FMTTYPE=image/png:https://portsmouthhistory.org/wp-content/uploads/2023/08/Arts-Culture-Lecture.png
GEO:43.075448564665;-70.760680175025
X-APPLE-STRUCTURED-LOCATION;VALUE=URI;X-ADDRESS=Portsmouth Historical Society at 10 Middle Street 10 Middle Street Portsmouth NH 01801 United States;X-APPLE-RADIUS=500;X-TITLE=10 Middle Street:geo:-70.760680175025,43.075448564665
END:VEVENT
BEGIN:VEVENT
DTSTART;TZID=America/New_York:20230809T120000
DTEND;TZID=America/New_York:20230809T130000
DTSTAMP:20260423T200422
CREATED:20230802T171404Z
LAST-MODIFIED:20230804T134255Z
UID:10000204-1691582400-1691586000@portsmouthhistory.org
SUMMARY:"Reinventing Portsmouth" Curator Tour
DESCRIPTION:Learn just how groovy the 70s were with the curator(s) of “Reinventing Portsmouth”\nJoin exhibition curators Richard Candee and Bob Thoresen for an hour-long tour of the current exhibition. Hear what the Portsmouth Arts and Culture scene was like in the 1970s and gain a deeper understanding of how the city we know today was physically shaped by this pivotal period.Our curator tours are free with museum admission.Single site admission is $10 general ticket/ $5 discount/ free for members. \n			\n				Admission and Visit Info
URL:https://portsmouthhistory.org/event/curator-tour-8-9/
LOCATION:Portsmouth Historical Society at 10 Middle Street\, 10 Middle Street\, Portsmouth\, NH\, 01801\, United States
CATEGORIES:Exhibitions Programs,Upstairs Exhibition
ATTACH;FMTTYPE=image/png:https://portsmouthhistory.org/wp-content/uploads/2023/08/Upstairs-Curator-Tours-web-2.png
GEO:43.075448564665;-70.760680175025
X-APPLE-STRUCTURED-LOCATION;VALUE=URI;X-ADDRESS=Portsmouth Historical Society at 10 Middle Street 10 Middle Street Portsmouth NH 01801 United States;X-APPLE-RADIUS=500;X-TITLE=10 Middle Street:geo:-70.760680175025,43.075448564665
END:VEVENT
BEGIN:VEVENT
DTSTART;TZID=America/New_York:20230717T180000
DTEND;TZID=America/New_York:20230717T193000
DTSTAMP:20260423T200422
CREATED:20230510T222731Z
LAST-MODIFIED:20230510T222736Z
UID:10000157-1689616800-1689622200@portsmouthhistory.org
SUMMARY:Read It and Eat! Blue Strawbery
DESCRIPTION:Register for Read It and Eat! a community conversation and meal inspired by the Blue Strawbery cookbook. \n			\n				\n				\n				\n				\n				Copies of the cookbook are not included with registration\, but can be purchased from our shop. Please check your local library or bookshop for a copy! This cookbook is available at the Portsmouth\, Kittery\, Dover\, and Hampton libraries. If you’re unable to access a copy\, but would like to participate\, please contact programs@portsmouthhistory.org.
URL:https://portsmouthhistory.org/event/read-it-and-eat-blue-strawbery/
LOCATION:Portsmouth Historical Society at 10 Middle Street\, 10 Middle Street\, Portsmouth\, NH\, 01801\, United States
CATEGORIES:Education Programs,Upstairs Exhibition
ATTACH;FMTTYPE=image/png:https://portsmouthhistory.org/wp-content/uploads/2023/05/Read-it-and-Eat-July.png
GEO:43.075448564665;-70.760680175025
X-APPLE-STRUCTURED-LOCATION;VALUE=URI;X-ADDRESS=Portsmouth Historical Society at 10 Middle Street 10 Middle Street Portsmouth NH 01801 United States;X-APPLE-RADIUS=500;X-TITLE=10 Middle Street:geo:-70.760680175025,43.075448564665
END:VEVENT
BEGIN:VEVENT
DTSTART;TZID=America/New_York:20230615T180000
DTEND;TZID=America/New_York:20230615T190000
DTSTAMP:20260423T200422
CREATED:20230126T175125Z
LAST-MODIFIED:20230421T201257Z
UID:10000130-1686852000-1686855600@portsmouthhistory.org
SUMMARY:Does Truth Matter?
DESCRIPTION:This event is a facilitated discussion of these and related questions about one of the oldest topics in philosophy: truth. After a brief introduction to some basic concepts and distinctions\, Dr. Tepley will lead the audience in a conversation about these questions. The goal is not to tell attendees what to believe but rather to give them the opportunity explore these questions\, and possible answers to them\, together as a group. If you like big ideas and stimulating conversation\, then this event is for you. Come ready to think\, to share\, and to learn! \nAdmission is free\, pre-registration recommended. \n			\n				Register for Does Truth Matter\n			\n			\n				\n				\n				\n				\n			\n				\n				\n				\n				\n				\n				\n				\n				\n				\n				\n				\n			\n			\n				\n				\n				\n				\n				\n				\n				\n				\n				\n				About the Presenter:\nDr. Joshua Tepley is an Associate Professor and Chair of the Philosophy Department at Saint Anselm College\, where he has taught for the last decade. He received his B.A. in Philosophy from Bucknell University (2004) and his Ph.D. in Philosophy from the University of Notre Dame (2013). His research interests include free will\, personal identity\, ontology (the study of being)\, and the intersection between philosophy and science fiction. \n			\n				\n				\n				\n				\n				This event is made possible by a grant from New Hampshire Humanities
URL:https://portsmouthhistory.org/event/does-truth-matter/
LOCATION:Portsmouth Historical Society at 10 Middle Street\, 10 Middle Street\, Portsmouth\, NH\, 01801\, United States
CATEGORIES:Exhibitions Programs,Upstairs Exhibition
ATTACH;FMTTYPE=image/jpeg:https://portsmouthhistory.org/wp-content/uploads/2023/01/615-Conversation-Truth.jpg
GEO:43.075448564665;-70.760680175025
X-APPLE-STRUCTURED-LOCATION;VALUE=URI;X-ADDRESS=Portsmouth Historical Society at 10 Middle Street 10 Middle Street Portsmouth NH 01801 United States;X-APPLE-RADIUS=500;X-TITLE=10 Middle Street:geo:-70.760680175025,43.075448564665
END:VEVENT
BEGIN:VEVENT
DTSTART;TZID=America/New_York:20230524T173000
DTEND;TZID=America/New_York:20230524T190000
DTSTAMP:20260423T200422
CREATED:20230413T195137Z
LAST-MODIFIED:20230508T154205Z
UID:10000142-1684949400-1684954800@portsmouthhistory.org
SUMMARY:Book Signing: Portsmouth (a novel)
DESCRIPTION:Join us for a book signing with author James Polus\nGet a chance to meet and speak with the author of Portsmouth. \nBooks will be available for sale in the gift shop. Admission is free\, no RSVP required. \n			\n			\n				\n				\n				\n				\n			\n				\n				\n				\n				\n				\n				\n				\n				\n				\n				\n				\n			\n				\n				\n				\n				\n				About the Author:\nOriginally from Upstate New York\, a graduate of Hobart College and Columbia University\, and a former life long employee of IBM\, Polus has an amazing wife and four accomplished children. Serving in senior financial positions afforded him the opportunity to live in England for one year\, followed thereafter by four years in France. He considers himself as a citizen of the world to complement his proud American heritage. \nJame Polus published his first book\, entitled “The Dream of AO” in May 2021\, followed by the sequel\, “Dreams of Lies and Delusions”\, published in 2022. The historical backdrop is the Indus Valley civilization\, circa 1700 BCE. He believes we can reference ancient civilizations to remind us that the timeless themes of love\, courage\, honor and redemption have long competed with treachery\, deceit\, hatred and lust. Professional storytellers perfectly recited long\, epic morality tales\, illustrating for all peoples the lessons for a virtuous life. Battles over dogma\, spiritual beliefs\, and rituals date well before written texts. \nPolus enjoys creative and imaginary fiction using strong characters to espouse his ideas on human purpose and human equality. The motifs of dreaming and oral traditions serve as the backdrop for his writing. Most of his characters practice mindfulness and are skilled in various forms of meditation. As an avid cyclist\, he likes to pedal alone on quiet country roads or traverse along the long ocean stretches\, imagining the lives of his characters.\n			\n			\n				\n				\n				\n				\n				\n				Buy Portsmouth by James Polus\n			\n				\n				\n				\n				\n				About the Book:\nHistorical fiction comes to New England with the epic novel\, “Portsmouth\,” a classical saga reliving the story of a 1623 fictitious family and twelve successive generations that bring New England seacoast history to life.Memorable characters interact with real-life personalities and historical events that shaped America. From the early Puritans to the Sons of Liberty and the Revolutionary War\, up through the Great Depression and World War II\, the novel brings American notables such as George Washington\, Ona Judge Staines\, Major General Fitz-John Porter\, Frank Jones\, and Celia Thaxter into the reader’s imagination. \n The novel “Portsmouth” celebrates the 400th anniversary of the founding of this historic seaport\, so reminiscent of colonial times
URL:https://portsmouthhistory.org/event/book-signing-portsmouth-a-novel/
LOCATION:Portsmouth Historical Society at 10 Middle Street\, 10 Middle Street\, Portsmouth\, NH\, 01801\, United States
CATEGORIES:Downstairs Exhibtion,Upstairs Exhibition,Welcome Center & Museum Shop Programs
ATTACH;FMTTYPE=image/png:https://portsmouthhistory.org/wp-content/uploads/2023/04/Polus-524.png
GEO:43.075448564665;-70.760680175025
X-APPLE-STRUCTURED-LOCATION;VALUE=URI;X-ADDRESS=Portsmouth Historical Society at 10 Middle Street 10 Middle Street Portsmouth NH 01801 United States;X-APPLE-RADIUS=500;X-TITLE=10 Middle Street:geo:-70.760680175025,43.075448564665
END:VEVENT
BEGIN:VEVENT
DTSTART;TZID=America/New_York:20230508T180000
DTEND;TZID=America/New_York:20230508T193000
DTSTAMP:20260423T200423
CREATED:20230411T190248Z
LAST-MODIFIED:20230421T201331Z
UID:10000139-1683568800-1683574200@portsmouthhistory.org
SUMMARY:Read It and Eat! a Community Conversation
DESCRIPTION:Register for Read It and Eat! a community conversation and meal inspired by the Black Trumpet cookbook. \n			\n				\n				\n				\n				\n				Copies of the cookbook are not included with registration. Please check your local library or bookshop for a copy! This cookbook is available at the Portsmouth\, Kittery\, Dover\, and Hampton libraries. If you’re unable to access a copy\, but would like to participate\, please contact programs@portsmouthhistory.org.
URL:https://portsmouthhistory.org/event/read-it-and-eat-5-8/
LOCATION:Portsmouth Historical Society at 10 Middle Street\, 10 Middle Street\, Portsmouth\, NH\, 01801\, United States
CATEGORIES:Education Programs,Upstairs Exhibition
ATTACH;FMTTYPE=image/png:https://portsmouthhistory.org/wp-content/uploads/2023/04/Read-it-and-Eat-1.png
GEO:43.075448564665;-70.760680175025
X-APPLE-STRUCTURED-LOCATION;VALUE=URI;X-ADDRESS=Portsmouth Historical Society at 10 Middle Street 10 Middle Street Portsmouth NH 01801 United States;X-APPLE-RADIUS=500;X-TITLE=10 Middle Street:geo:-70.760680175025,43.075448564665
END:VEVENT
BEGIN:VEVENT
DTSTART;TZID=America/New_York:20230406T173000
DTEND;TZID=America/New_York:20230406T193000
DTSTAMP:20260423T200423
CREATED:20230309T164234Z
LAST-MODIFIED:20230421T201351Z
UID:10000133-1680802200-1680809400@portsmouthhistory.org
SUMMARY:Spring Opening Reception
DESCRIPTION:Join us to celebrate our new exhibitions!\n			\n				\n				\n				\n				\n				RSVP to the Spring Opening Reception
URL:https://portsmouthhistory.org/event/opening-reception-2023/
LOCATION:Portsmouth Historical Society at 10 Middle Street\, 10 Middle Street\, Portsmouth\, NH\, 01801\, United States
CATEGORIES:Downstairs Exhibtion,Exhibitions Programs,Upstairs Exhibition
ATTACH;FMTTYPE=image/png:https://portsmouthhistory.org/wp-content/uploads/2023/03/Spring-Opening-Reception.png
GEO:43.075448564665;-70.760680175025
X-APPLE-STRUCTURED-LOCATION;VALUE=URI;X-ADDRESS=Portsmouth Historical Society at 10 Middle Street 10 Middle Street Portsmouth NH 01801 United States;X-APPLE-RADIUS=500;X-TITLE=10 Middle Street:geo:-70.760680175025,43.075448564665
END:VEVENT
END:VCALENDAR