BEGIN:VCALENDAR
VERSION:2.0
PRODID:-//Portsmouth Historical Society - ECPv6.15.20//NONSGML v1.0//EN
CALSCALE:GREGORIAN
METHOD:PUBLISH
X-WR-CALNAME:Portsmouth Historical Society
X-ORIGINAL-URL:https://portsmouthhistory.org
X-WR-CALDESC:Events for Portsmouth Historical Society
REFRESH-INTERVAL;VALUE=DURATION:PT1H
X-Robots-Tag:noindex
X-PUBLISHED-TTL:PT1H
BEGIN:VTIMEZONE
TZID:America/New_York
BEGIN:DAYLIGHT
TZOFFSETFROM:-0500
TZOFFSETTO:-0400
TZNAME:EDT
DTSTART:20240310T070000
END:DAYLIGHT
BEGIN:STANDARD
TZOFFSETFROM:-0400
TZOFFSETTO:-0500
TZNAME:EST
DTSTART:20241103T060000
END:STANDARD
BEGIN:DAYLIGHT
TZOFFSETFROM:-0500
TZOFFSETTO:-0400
TZNAME:EDT
DTSTART:20250309T070000
END:DAYLIGHT
BEGIN:STANDARD
TZOFFSETFROM:-0400
TZOFFSETTO:-0500
TZNAME:EST
DTSTART:20251102T060000
END:STANDARD
BEGIN:DAYLIGHT
TZOFFSETFROM:-0500
TZOFFSETTO:-0400
TZNAME:EDT
DTSTART:20260308T070000
END:DAYLIGHT
BEGIN:STANDARD
TZOFFSETFROM:-0400
TZOFFSETTO:-0500
TZNAME:EST
DTSTART:20261101T060000
END:STANDARD
END:VTIMEZONE
BEGIN:VEVENT
DTSTART;TZID=America/New_York:20251003T100000
DTEND;TZID=America/New_York:20251003T113000
DTSTAMP:20260424T101635
CREATED:20250919T160451Z
LAST-MODIFIED:20250919T160457Z
UID:10000573-1759485600-1759491000@portsmouthhistory.org
SUMMARY:Homeschool Day: Using Your Voice
DESCRIPTION:Join us for hands-on lessons about Portsmouth history!\n			\n				\n				\n				\n				\n				Register for the Homeschool History Program!
URL:https://portsmouthhistory.org/event/homeschool-day-10-3/
LOCATION:Portsmouth Historical Society at 10 Middle Street\, 10 Middle Street\, Portsmouth\, NH\, 01801\, United States
CATEGORIES:Education Programs
ATTACH;FMTTYPE=image/webp:https://portsmouthhistory.org/wp-content/uploads/2025/09/Homeschool-Day-Second-Sessions-2025.webp
GEO:43.075448564665;-70.760680175025
X-APPLE-STRUCTURED-LOCATION;VALUE=URI;X-ADDRESS=Portsmouth Historical Society at 10 Middle Street 10 Middle Street Portsmouth NH 01801 United States;X-APPLE-RADIUS=500;X-TITLE=10 Middle Street:geo:-70.760680175025,43.075448564665
END:VEVENT
BEGIN:VEVENT
DTSTART;TZID=America/New_York:20251003T173000
DTEND;TZID=America/New_York:20251003T183000
DTSTAMP:20260424T101635
CREATED:20250416T152621Z
LAST-MODIFIED:20250709T165900Z
UID:10000447-1759512600-1759516200@portsmouthhistory.org
SUMMARY:"Winds of Change" Curator Tour
DESCRIPTION:A behind-the-scenes look at our current exhibition\nWalk through “Winds of Change\,” a retrospective of the work of Cabot Lyford (1925–2016)\, with Guest Curator Rachel Walls. Learn how Lyford’s experimental approach to different materials and his advocacy of environmental and political issues through his art can resonate with viewers as much now as it did in the 20th century. \nFinish your tour with a visit to the complementary\, contemporary exhibition upstairs featuring a juried selection of NHAA artists. \nTours happen at 12:00 and 5:30 pm.\nThis is a free tour\, no registration required. \nLearn more about the exhibition \n 
URL:https://portsmouthhistory.org/event/lyford-curator-tour-2/2025-10-03/
LOCATION:Portsmouth Historical Society at 10 Middle Street\, 10 Middle Street\, Portsmouth\, NH\, 01801\, United States
CATEGORIES:Exhibitions Programs
ATTACH;FMTTYPE=image/png:https://portsmouthhistory.org/wp-content/uploads/2025/02/Lyford-Curator-Tours-event-web.png
GEO:43.075448564665;-70.760680175025
X-APPLE-STRUCTURED-LOCATION;VALUE=URI;X-ADDRESS=Portsmouth Historical Society at 10 Middle Street 10 Middle Street Portsmouth NH 01801 United States;X-APPLE-RADIUS=500;X-TITLE=10 Middle Street:geo:-70.760680175025,43.075448564665
END:VEVENT
BEGIN:VEVENT
DTSTART;TZID=America/New_York:20251003T173000
DTEND;TZID=America/New_York:20251003T193000
DTSTAMP:20260424T101635
CREATED:20250912T192621Z
LAST-MODIFIED:20250912T192628Z
UID:10000567-1759512600-1759519800@portsmouthhistory.org
SUMMARY:"Contemporary Currents" Closing Reception
DESCRIPTION:“Contemporary Currents” Closing Reception\nFriday\, October 3\, 5:30–7:30 pm\nJoin Portsmouth Historical Society and the New Hampshire Art Association for the Closing Reception and People’s Choice Award reveal for “Contemporary Currents” during Art Round Town on Friday\, October 3\, from 5:30–7:30 PM. This dynamic exhibition explores themes of advocacy and experimentation in art\, offering a contemporary response to Seacoast artist Cabot Lyford’s works on view in the adjoining gallery.Enjoy an evening of art\, conversation\, and community. All works are available for purchase\, with proceeds benefiting local artists\, Portsmouth Historical Society\, and the New Hampshire Art Association. Don’t miss this inspiring celebration of artistic innovation! \nThis event is free and open to the public.\n			\n				Learn more about "Contemporary Currents"\n			\n			\n				\n				\n				\n				\n			\n				\n				\n				\n				\n				\n				\n				Browse and Buy Artwork\n			\n			\n				\n				\n				\n				\n				\n				\n				\n				\n				\n				See what’s happening at the NHAA: \n			\n				\n				\n				\n				\n				\n			\n			\n				\n				\n				\n				\n			\n				\n				\n				\n				\n				\n				\n			\n				\n				\n				\n				\n			\n				\n				\n				\n				\n				\n				\n				\n				\n				\n				\n				Thank you to the exhibition sponsors
URL:https://portsmouthhistory.org/event/cc-reception-10-3/
LOCATION:Portsmouth Historical Society at 10 Middle Street\, 10 Middle Street\, Portsmouth\, NH\, 01801\, United States
CATEGORIES:Exhibitions Programs
ATTACH;FMTTYPE=image/webp:https://portsmouthhistory.org/wp-content/uploads/2025/09/Contemporary-Currents-Closing-Reception-Oct-3.webp
GEO:43.075448564665;-70.760680175025
X-APPLE-STRUCTURED-LOCATION;VALUE=URI;X-ADDRESS=Portsmouth Historical Society at 10 Middle Street 10 Middle Street Portsmouth NH 01801 United States;X-APPLE-RADIUS=500;X-TITLE=10 Middle Street:geo:-70.760680175025,43.075448564665
END:VEVENT
BEGIN:VEVENT
DTSTART;TZID=America/New_York:20251008T180000
DTEND;TZID=America/New_York:20251008T190000
DTSTAMP:20260424T101635
CREATED:20250916T183336Z
LAST-MODIFIED:20251001T174615Z
UID:10000569-1759946400-1759950000@portsmouthhistory.org
SUMMARY:Art Advocacy Panel
DESCRIPTION:RSVP to Art and Advocacy\n			\n			\n				\n				\n				\n				\n			\n				\n				\n				\n				\n				\n				\n				\n				\n				\n				\n				\n			\n			\n				\n				\n				\n				\n				\n				\n				\n				\n				\n				This program is generously sponsored as a part of our  William and Arlene Brewster Lecture Series.\n			\n			\n				\n				\n				\n				\n			\n				\n				\n				\n				\n				\n				\n				\n				\n				\n				\n				About the Panelists\n			\n			\n				\n				\n				\n				\n			\n				\n				\n				\n				\n				\n				\n				\n				\n				\n				\n				\n			\n			\n				\n				\n				\n				\n				\n				\n				\n				\n				\n				Maria Oakley\nMy work explores elements of Culture\, Womanhood\, Armament\, and Place. I seek a discourse with the contrasts I travel within. To have beauty there must be death. \n			\n			\n				\n				\n				\n				\n			\n				\n				\n				\n				\n				\n				\n				\n				\n				\n				\n				Jim Wolcott\nMy current work has become quite complex in technique\, texture\, and color. I have expanded my techniques and materials through constant experimenta- tion and revision. Grids\, both formal and informal\, play an important role for me compositionally and emotionally. Making art is an anxiety-inducing activity. Grids calm me and my paintings. I believe they ground my artistic instincts and allow me to more fluidly explore my visual interests.\n			\n			\n				\n				\n				\n				\n				\n				\n				\n				\n				\n				\n			\n			\n				\n				\n				\n				\n			\n				\n				\n				\n				\n				\n				\n			\n				\n				\n				\n				\n				\n				\n				\n				\n				\n				Michael Rodriguez Torrent\nMy hope is that this discussion encourages reflection and dialogue about whose stories are valued and remembered in our city\, and why. While acknowledging the painful events that have shaped Portsmouth\, I also aim to highlight the ongoing efforts to uncover and elevate BIPOC narratives. History—as we present it today—is not set in stone; it changes and grows as the result of choices we make collectively.  \n			\n			\n				\n				\n				\n				\n			\n				\n				\n				\n				\n				\n				\n				\n				\n				\n				\n				Emily Cady\nEmily Cady\, an illustrator and screen printer based in southern Maine\, expresses her deep love for growing\, cooking\, and sharing food through her artwork. Rooted in themes of domesticity and nostalgia\, her work often reflects the inti- mate moments tied to generational traditions and everyday acts of sustenance.
URL:https://portsmouthhistory.org/event/art-advocacy-panel/
LOCATION:Portsmouth Historical Society at 10 Middle Street\, 10 Middle Street\, Portsmouth\, NH\, 01801\, United States
ATTACH;FMTTYPE=image/webp:https://portsmouthhistory.org/wp-content/uploads/2025/09/Art-Advocacy-Panel-10.8.webp
GEO:43.075448564665;-70.760680175025
X-APPLE-STRUCTURED-LOCATION;VALUE=URI;X-ADDRESS=Portsmouth Historical Society at 10 Middle Street 10 Middle Street Portsmouth NH 01801 United States;X-APPLE-RADIUS=500;X-TITLE=10 Middle Street:geo:-70.760680175025,43.075448564665
END:VEVENT
END:VCALENDAR