BEGIN:VCALENDAR
VERSION:2.0
PRODID:-//Portsmouth Historical Society - ECPv6.15.20//NONSGML v1.0//EN
CALSCALE:GREGORIAN
METHOD:PUBLISH
X-ORIGINAL-URL:https://portsmouthhistory.org
X-WR-CALDESC:Events for Portsmouth Historical Society
REFRESH-INTERVAL;VALUE=DURATION:PT1H
X-Robots-Tag:noindex
X-PUBLISHED-TTL:PT1H
BEGIN:VTIMEZONE
TZID:America/New_York
BEGIN:DAYLIGHT
TZOFFSETFROM:-0500
TZOFFSETTO:-0400
TZNAME:EDT
DTSTART:20240310T070000
END:DAYLIGHT
BEGIN:STANDARD
TZOFFSETFROM:-0400
TZOFFSETTO:-0500
TZNAME:EST
DTSTART:20241103T060000
END:STANDARD
BEGIN:DAYLIGHT
TZOFFSETFROM:-0500
TZOFFSETTO:-0400
TZNAME:EDT
DTSTART:20250309T070000
END:DAYLIGHT
BEGIN:STANDARD
TZOFFSETFROM:-0400
TZOFFSETTO:-0500
TZNAME:EST
DTSTART:20251102T060000
END:STANDARD
BEGIN:DAYLIGHT
TZOFFSETFROM:-0500
TZOFFSETTO:-0400
TZNAME:EDT
DTSTART:20260308T070000
END:DAYLIGHT
BEGIN:STANDARD
TZOFFSETFROM:-0400
TZOFFSETTO:-0500
TZNAME:EST
DTSTART:20261101T060000
END:STANDARD
END:VTIMEZONE
BEGIN:VEVENT
DTSTART;TZID=America/New_York:20251120T173000
DTEND;TZID=America/New_York:20251120T190000
DTSTAMP:20260424T095910
CREATED:20251028T160739Z
LAST-MODIFIED:20251031T192225Z
UID:10000592-1763659800-1763665200@portsmouthhistory.org
SUMMARY:Ten Piscataqua Writers 2026 Book Event
DESCRIPTION:Enjoy an evening celebrating the works from 2026: 10 Piscataqua Writers.\nJoin us on Thursday\, November 20 for the book launch of 10 Piscataqua Writers. Join the authors for a fun evening celebrating their accomplishment as they sign copies and discuss the work alongside light refreshments.  \nThis free event is open to the public\, no registration required.  \nCopies of the book will be available for purchase. \n			\n			\n				\n				\n				\n				\n			\n				\n				\n				\n				\n				\n				\n				\n				\n				\n				\n				Contributing Authors:\nJames Gatto Clara Beller and Larry Andrews\, fiction\, novel excerpt\, chapter opening\nPeter Welch Boyhood\, Belonging\, Becoming\, nonfiction\, memoir excerpt\nAbbie Kiefer Better Homes\, Better Gardens\, poetry\, 11 poems\nJason Allard Some Kind of Hero and Shugyōsha\, fiction\, short stories\nMatt Miller Midway Through This Journey\, nonfiction\, Short essays\nJohn Perrault Whatever You Got Going On\, 21 Poems\nBob Gielow The Culling\, fiction\, short story\nJane C. Elkin The Colors of Mourning\, nonfiction\, memoir\nPaul Goodwin The Long Perspective\, 30 Poems\nMadeline Kearin Witch Hole Pond\, fiction\, short story\n			\n			\n				\n				\n				\n				\n				\n				\n				\n				\n				\n				\n			\n				Buy Your Copy of 2026 Ten Piscataqua Writers
URL:https://portsmouthhistory.org/event/10-piscataqua-2026/
LOCATION:Portsmouth Historical Society at 10 Middle Street\, 10 Middle Street\, Portsmouth\, NH\, 01801\, United States
CATEGORIES:Welcome Center & Museum Shop Programs
ATTACH;FMTTYPE=image/webp:https://portsmouthhistory.org/wp-content/uploads/2025/10/10-Writers-1120.webp
GEO:43.075448564665;-70.760680175025
X-APPLE-STRUCTURED-LOCATION;VALUE=URI;X-ADDRESS=Portsmouth Historical Society at 10 Middle Street 10 Middle Street Portsmouth NH 01801 United States;X-APPLE-RADIUS=500;X-TITLE=10 Middle Street:geo:-70.760680175025,43.075448564665
END:VEVENT
END:VCALENDAR