BEGIN:VCALENDAR
VERSION:2.0
PRODID:-//Portsmouth Historical Society - ECPv6.15.20//NONSGML v1.0//EN
CALSCALE:GREGORIAN
METHOD:PUBLISH
X-ORIGINAL-URL:https://portsmouthhistory.org
X-WR-CALDESC:Events for Portsmouth Historical Society
REFRESH-INTERVAL;VALUE=DURATION:PT1H
X-Robots-Tag:noindex
X-PUBLISHED-TTL:PT1H
BEGIN:VTIMEZONE
TZID:America/New_York
BEGIN:DAYLIGHT
TZOFFSETFROM:-0500
TZOFFSETTO:-0400
TZNAME:EDT
DTSTART:20240310T070000
END:DAYLIGHT
BEGIN:STANDARD
TZOFFSETFROM:-0400
TZOFFSETTO:-0500
TZNAME:EST
DTSTART:20241103T060000
END:STANDARD
BEGIN:DAYLIGHT
TZOFFSETFROM:-0500
TZOFFSETTO:-0400
TZNAME:EDT
DTSTART:20250309T070000
END:DAYLIGHT
BEGIN:STANDARD
TZOFFSETFROM:-0400
TZOFFSETTO:-0500
TZNAME:EST
DTSTART:20251102T060000
END:STANDARD
BEGIN:DAYLIGHT
TZOFFSETFROM:-0500
TZOFFSETTO:-0400
TZNAME:EDT
DTSTART:20260308T070000
END:DAYLIGHT
BEGIN:STANDARD
TZOFFSETFROM:-0400
TZOFFSETTO:-0500
TZNAME:EST
DTSTART:20261101T060000
END:STANDARD
END:VTIMEZONE
BEGIN:VEVENT
DTSTART;TZID=America/New_York:20251012T130000
DTEND;TZID=America/New_York:20251012T143000
DTSTAMP:20260424T084539
CREATED:20250909T161858Z
LAST-MODIFIED:20250915T142828Z
UID:10000566-1760274000-1760279400@portsmouthhistory.org
SUMMARY:Autumn Photo Walk
DESCRIPTION:Take a leisurely stroll through Portsmouth and get expert photo tips!\n			\n				\n				\n				\n				\n				Register for the Autumn Photo Walk\n			\n			\n				\n				\n				\n				\n			\n				\n				\n				\n				\n				\n				\n				\n				\n				\n				\n				\n			\n				\n				\n				\n				\n				Portsmouth\, South End by Ken Goldman \n			\n			\n				\n				\n				\n				\n				\n				\n				\n				\n				\n				About the Artist:\n \nKen Goldman is a self-described engineer\, a photographer\, a writer\, a traveler\, a tech geek. After working 40 years at a Navy Laboratory\, he now has more time to pursue his interests\, such as photography. You’ve likely seen his images in Portsmouth social media groups\, as a part of the Portsmouth NH 400 celebrations\, at various art exhibitions around the Seacoast area\, or for various non-profits around town. His passion for photography stems from an interest in artistically sharing how he perceives the world around him.
URL:https://portsmouthhistory.org/event/autumn-photo-walk/
LOCATION:Portsmouth Historical Society at 10 Middle Street\, 10 Middle Street\, Portsmouth\, NH\, 01801\, United States
CATEGORIES:Walking Tours
ATTACH;FMTTYPE=image/webp:https://portsmouthhistory.org/wp-content/uploads/2025/09/Autumn-Photo-Walk-Goldman.webp
GEO:43.075448564665;-70.760680175025
X-APPLE-STRUCTURED-LOCATION;VALUE=URI;X-ADDRESS=Portsmouth Historical Society at 10 Middle Street 10 Middle Street Portsmouth NH 01801 United States;X-APPLE-RADIUS=500;X-TITLE=10 Middle Street:geo:-70.760680175025,43.075448564665
END:VEVENT
END:VCALENDAR