BEGIN:VCALENDAR
VERSION:2.0
PRODID:-//Portsmouth Historical Society - ECPv6.15.20//NONSGML v1.0//EN
CALSCALE:GREGORIAN
METHOD:PUBLISH
X-ORIGINAL-URL:https://portsmouthhistory.org
X-WR-CALDESC:Events for Portsmouth Historical Society
REFRESH-INTERVAL;VALUE=DURATION:PT1H
X-Robots-Tag:noindex
X-PUBLISHED-TTL:PT1H
BEGIN:VTIMEZONE
TZID:America/New_York
BEGIN:DAYLIGHT
TZOFFSETFROM:-0500
TZOFFSETTO:-0400
TZNAME:EDT
DTSTART:20240310T070000
END:DAYLIGHT
BEGIN:STANDARD
TZOFFSETFROM:-0400
TZOFFSETTO:-0500
TZNAME:EST
DTSTART:20241103T060000
END:STANDARD
BEGIN:DAYLIGHT
TZOFFSETFROM:-0500
TZOFFSETTO:-0400
TZNAME:EDT
DTSTART:20250309T070000
END:DAYLIGHT
BEGIN:STANDARD
TZOFFSETFROM:-0400
TZOFFSETTO:-0500
TZNAME:EST
DTSTART:20251102T060000
END:STANDARD
BEGIN:DAYLIGHT
TZOFFSETFROM:-0500
TZOFFSETTO:-0400
TZNAME:EDT
DTSTART:20260308T070000
END:DAYLIGHT
BEGIN:STANDARD
TZOFFSETFROM:-0400
TZOFFSETTO:-0500
TZNAME:EST
DTSTART:20261101T060000
END:STANDARD
END:VTIMEZONE
BEGIN:VEVENT
DTSTART;TZID=America/New_York:20251111T100000
DTEND;TZID=America/New_York:20251111T150000
DTSTAMP:20260424T041420
CREATED:20250917T195103Z
LAST-MODIFIED:20250917T195103Z
UID:10000571-1762855200-1762873200@portsmouthhistory.org
SUMMARY:John Paul Jones- Free Visit Day
DESCRIPTION:
URL:https://portsmouthhistory.org/event/jpj-11-11-2025/
LOCATION:John Paul Jones House\, 43 Middle Street\, Portsmouth\, NH\, 03801\, United States
CATEGORIES:John Paul Jones Programs
ATTACH;FMTTYPE=image/jpeg:https://portsmouthhistory.org/wp-content/uploads/2024/01/JPJExterior2023-web.jpg
GEO:43.075277514372;-70.76022445749
X-APPLE-STRUCTURED-LOCATION;VALUE=URI;X-ADDRESS=John Paul Jones House 43 Middle Street Portsmouth NH 03801 United States;X-APPLE-RADIUS=500;X-TITLE=43 Middle Street:geo:-70.76022445749,43.075277514372
END:VEVENT
END:VCALENDAR