BEGIN:VCALENDAR
VERSION:2.0
PRODID:-//Portsmouth Historical Society - ECPv6.15.20//NONSGML v1.0//EN
CALSCALE:GREGORIAN
METHOD:PUBLISH
X-WR-CALNAME:Portsmouth Historical Society
X-ORIGINAL-URL:https://portsmouthhistory.org
X-WR-CALDESC:Events for Portsmouth Historical Society
REFRESH-INTERVAL;VALUE=DURATION:PT1H
X-Robots-Tag:noindex
X-PUBLISHED-TTL:PT1H
BEGIN:VTIMEZONE
TZID:America/New_York
BEGIN:DAYLIGHT
TZOFFSETFROM:-0500
TZOFFSETTO:-0400
TZNAME:EDT
DTSTART:20240310T070000
END:DAYLIGHT
BEGIN:STANDARD
TZOFFSETFROM:-0400
TZOFFSETTO:-0500
TZNAME:EST
DTSTART:20241103T060000
END:STANDARD
BEGIN:DAYLIGHT
TZOFFSETFROM:-0500
TZOFFSETTO:-0400
TZNAME:EDT
DTSTART:20250309T070000
END:DAYLIGHT
BEGIN:STANDARD
TZOFFSETFROM:-0400
TZOFFSETTO:-0500
TZNAME:EST
DTSTART:20251102T060000
END:STANDARD
BEGIN:DAYLIGHT
TZOFFSETFROM:-0500
TZOFFSETTO:-0400
TZNAME:EDT
DTSTART:20260308T070000
END:DAYLIGHT
BEGIN:STANDARD
TZOFFSETFROM:-0400
TZOFFSETTO:-0500
TZNAME:EST
DTSTART:20261101T060000
END:STANDARD
END:VTIMEZONE
BEGIN:VEVENT
DTSTART;TZID=America/New_York:20250905T173000
DTEND;TZID=America/New_York:20250905T183000
DTSTAMP:20260424T041545
CREATED:20250416T152621Z
LAST-MODIFIED:20250709T165900Z
UID:10000445-1757093400-1757097000@portsmouthhistory.org
SUMMARY:"Winds of Change" Curator Tour
DESCRIPTION:A behind-the-scenes look at our current exhibition\nWalk through “Winds of Change\,” a retrospective of the work of Cabot Lyford (1925–2016)\, with Guest Curator Rachel Walls. Learn how Lyford’s experimental approach to different materials and his advocacy of environmental and political issues through his art can resonate with viewers as much now as it did in the 20th century. \nFinish your tour with a visit to the complementary\, contemporary exhibition upstairs featuring a juried selection of NHAA artists. \nTours happen at 12:00 and 5:30 pm.\nThis is a free tour\, no registration required. \nLearn more about the exhibition \n 
URL:https://portsmouthhistory.org/event/lyford-curator-tour-2/2025-09-05/
LOCATION:Portsmouth Historical Society at 10 Middle Street\, 10 Middle Street\, Portsmouth\, NH\, 01801\, United States
CATEGORIES:Exhibitions Programs
ATTACH;FMTTYPE=image/png:https://portsmouthhistory.org/wp-content/uploads/2025/02/Lyford-Curator-Tours-event-web.png
GEO:43.075448564665;-70.760680175025
X-APPLE-STRUCTURED-LOCATION;VALUE=URI;X-ADDRESS=Portsmouth Historical Society at 10 Middle Street 10 Middle Street Portsmouth NH 01801 United States;X-APPLE-RADIUS=500;X-TITLE=10 Middle Street:geo:-70.760680175025,43.075448564665
END:VEVENT
BEGIN:VEVENT
DTSTART;TZID=America/New_York:20250913T103000
DTEND;TZID=America/New_York:20250913T113000
DTSTAMP:20260424T041545
CREATED:20250812T191216Z
LAST-MODIFIED:20250812T191222Z
UID:10000550-1757759400-1757763000@portsmouthhistory.org
SUMMARY:Family Day: Sunprinting Workshop
DESCRIPTION:Create your own sunprints using the power of the sun!\n			\n				\n				\n				\n				\n				RSVP to Sunprinting\n			\n				\n				\n				\n				\n				Important Notes:\n\nSuggested objects will be smaller than 4×5″ and have some transparency or unique shape to them. Lace\, jewelry\, cut glass\, textiles with some transparency\, and small toys all work well.\nThis workshop is open to all ages\, but please note that\, while sunprinting fabric is generally safe to touch\, little ones who might put hands in mouths would need to be closely monitored.\nTo help us purchase the correct amount of supplies\, please use the “Participant” ticket if you’d like to create a sunprint\, and the “Guardian” ticket if you’re bringing a child but don’t want to make your own print. All are more than welcome to participate – we just need an accurate count to make sure we have plenty of materials and space!\n\n			\n			\n				\n				\n				\n				\n			\n				\n				\n				\n				\n				\n				\n				\n				\n				\n				\n				\n\nThank you to our event sponsor:
URL:https://portsmouthhistory.org/event/family-day-sunprinting/
LOCATION:Portsmouth Historical Society at 10 Middle Street\, 10 Middle Street\, Portsmouth\, NH\, 01801\, United States
CATEGORIES:Education Programs
ATTACH;FMTTYPE=image/webp:https://portsmouthhistory.org/wp-content/uploads/2025/08/Sept-Family-Day-Cyanotype.webp
GEO:43.075448564665;-70.760680175025
X-APPLE-STRUCTURED-LOCATION;VALUE=URI;X-ADDRESS=Portsmouth Historical Society at 10 Middle Street 10 Middle Street Portsmouth NH 01801 United States;X-APPLE-RADIUS=500;X-TITLE=10 Middle Street:geo:-70.760680175025,43.075448564665
END:VEVENT
END:VCALENDAR