BEGIN:VCALENDAR
VERSION:2.0
PRODID:-//Portsmouth Historical Society - ECPv6.15.20//NONSGML v1.0//EN
CALSCALE:GREGORIAN
METHOD:PUBLISH
X-WR-CALNAME:Portsmouth Historical Society
X-ORIGINAL-URL:https://portsmouthhistory.org
X-WR-CALDESC:Events for Portsmouth Historical Society
REFRESH-INTERVAL;VALUE=DURATION:PT1H
X-Robots-Tag:noindex
X-PUBLISHED-TTL:PT1H
BEGIN:VTIMEZONE
TZID:America/New_York
BEGIN:DAYLIGHT
TZOFFSETFROM:-0500
TZOFFSETTO:-0400
TZNAME:EDT
DTSTART:20230312T070000
END:DAYLIGHT
BEGIN:STANDARD
TZOFFSETFROM:-0400
TZOFFSETTO:-0500
TZNAME:EST
DTSTART:20231105T060000
END:STANDARD
BEGIN:DAYLIGHT
TZOFFSETFROM:-0500
TZOFFSETTO:-0400
TZNAME:EDT
DTSTART:20240310T070000
END:DAYLIGHT
BEGIN:STANDARD
TZOFFSETFROM:-0400
TZOFFSETTO:-0500
TZNAME:EST
DTSTART:20241103T060000
END:STANDARD
BEGIN:DAYLIGHT
TZOFFSETFROM:-0500
TZOFFSETTO:-0400
TZNAME:EDT
DTSTART:20250309T070000
END:DAYLIGHT
BEGIN:STANDARD
TZOFFSETFROM:-0400
TZOFFSETTO:-0500
TZNAME:EST
DTSTART:20251102T060000
END:STANDARD
END:VTIMEZONE
BEGIN:VEVENT
DTSTART;TZID=America/New_York:20241206T173000
DTEND;TZID=America/New_York:20241206T193000
DTSTAMP:20260425T102735
CREATED:20241029T173910Z
LAST-MODIFIED:20241119T184300Z
UID:10000390-1733506200-1733513400@portsmouthhistory.org
SUMMARY:Gingerbread Reception and Judges' Awards
DESCRIPTION:Gingerbread Reception and Judge’s Awards\nFriday\, December 6\, 5:30–7:30 pm\nJoin us to celebrate the opening of our 34th Annual Gingerbread House Contest and Exhibition! Get in the holiday spirit and see our marvelous cookie creations\, while also enjoying some cider and small treats. Stay for the big reveal of the winners of our Judges’ Choice prizes! \nThis event is free and open to the public.\n			\n				See all the sweet details\n			\n			\n				\n				\n				\n				\n			\n				\n				\n				\n				\n				\n				\n				\n				\n				\n				\n				Thank you to our sweet sponsors:\n			\n			\n				\n				\n				\n				\n			\n				\n				\n				\n				\n				\n				\n				\n				\n				\n				\n				\n			\n				\n				\n				\n				\n				\n			\n			\n				\n				\n				\n				\n				\n				\n				\n				\n				\n				\n\nAvery Insurance \n\n\nDevine Millimet \nSeacoast Lately \n			\n				\n				\n				\n				\n				\n\n\n\nBangor Savings Bank
URL:https://portsmouthhistory.org/event/gingerbread-reception-and-judges-awards/
LOCATION:Portsmouth Historical Society at 10 Middle Street\, 10 Middle Street\, Portsmouth\, NH\, 01801\, United States
CATEGORIES:Exhibitions Programs
ATTACH;FMTTYPE=image/png:https://portsmouthhistory.org/wp-content/uploads/2024/10/Gingerbread-ReceptionUpdateweb.png
GEO:43.075448564665;-70.760680175025
X-APPLE-STRUCTURED-LOCATION;VALUE=URI;X-ADDRESS=Portsmouth Historical Society at 10 Middle Street 10 Middle Street Portsmouth NH 01801 United States;X-APPLE-RADIUS=500;X-TITLE=10 Middle Street:geo:-70.760680175025,43.075448564665
END:VEVENT
BEGIN:VEVENT
DTSTART;TZID=America/New_York:20241207T170000
DTEND;TZID=America/New_York:20241207T210000
DTSTAMP:20260425T102735
CREATED:20240906T204734Z
LAST-MODIFIED:20240906T204734Z
UID:10000367-1733590800-1733605200@portsmouthhistory.org
SUMMARY:Open Late for Shop & Stroll
DESCRIPTION:
URL:https://portsmouthhistory.org/event/shop-stroll/
LOCATION:Portsmouth Historical Society at 10 Middle Street\, 10 Middle Street\, Portsmouth\, NH\, 01801\, United States
CATEGORIES:Exhibitions Programs,Welcome Center & Museum Shop Programs
ATTACH;FMTTYPE=image/jpeg:https://portsmouthhistory.org/wp-content/uploads/2024/08/Gingerbread-logo-9x16-1-scaled.jpg
GEO:43.075448564665;-70.760680175025
X-APPLE-STRUCTURED-LOCATION;VALUE=URI;X-ADDRESS=Portsmouth Historical Society at 10 Middle Street 10 Middle Street Portsmouth NH 01801 United States;X-APPLE-RADIUS=500;X-TITLE=10 Middle Street:geo:-70.760680175025,43.075448564665
END:VEVENT
BEGIN:VEVENT
DTSTART;TZID=America/New_York:20241211T090000
DTEND;TZID=America/New_York:20241211T100000
DTSTAMP:20260425T102735
CREATED:20240906T211116Z
LAST-MODIFIED:20240923T165053Z
UID:10000368-1733907600-1733911200@portsmouthhistory.org
SUMMARY:Members-Only Gingerbread Event
DESCRIPTION:Members only chance to see Gingerbread\nGet in one hour early and enjoy seeing the Gingerbread exhibition in the sweetest way!\n			\n			\n				\n				\n				\n				\n			\n				\n				\n				\n				\n				\n				\n				Become a Member!\n			\n			\n				\n				\n				\n				\n				\n				Learn about the exhibition\n			\n			\n				\n				\n				\n				\n			\n				\n				\n				\n				\n				\n				\n				\n				\n				\n				\n				Register for our special Members Gingerbread Event
URL:https://portsmouthhistory.org/event/members-gingerbread-12-11/
LOCATION:Portsmouth Historical Society at 10 Middle Street\, 10 Middle Street\, Portsmouth\, NH\, 01801\, United States
CATEGORIES:Exhibitions Programs
ATTACH;FMTTYPE=image/jpeg:https://portsmouthhistory.org/wp-content/uploads/2024/08/Gingerbread-logo-9x16-1-scaled.jpg
GEO:43.075448564665;-70.760680175025
X-APPLE-STRUCTURED-LOCATION;VALUE=URI;X-ADDRESS=Portsmouth Historical Society at 10 Middle Street 10 Middle Street Portsmouth NH 01801 United States;X-APPLE-RADIUS=500;X-TITLE=10 Middle Street:geo:-70.760680175025,43.075448564665
END:VEVENT
BEGIN:VEVENT
DTSTART;TZID=America/New_York:20241213T100000
DTEND;TZID=America/New_York:20241213T200000
DTSTAMP:20260425T102735
CREATED:20240905T170434Z
LAST-MODIFIED:20240905T170434Z
UID:10000365-1734084000-1734120000@portsmouthhistory.org
SUMMARY:Gingerbread Open Late
DESCRIPTION:
URL:https://portsmouthhistory.org/event/gingerbread-latenight-12-13/
LOCATION:Portsmouth Historical Society at 10 Middle Street\, 10 Middle Street\, Portsmouth\, NH\, 01801\, United States
CATEGORIES:Exhibitions Programs
ATTACH;FMTTYPE=image/jpeg:https://portsmouthhistory.org/wp-content/uploads/2024/08/Gingerbread-logo-9x16-1-scaled.jpg
GEO:43.075448564665;-70.760680175025
X-APPLE-STRUCTURED-LOCATION;VALUE=URI;X-ADDRESS=Portsmouth Historical Society at 10 Middle Street 10 Middle Street Portsmouth NH 01801 United States;X-APPLE-RADIUS=500;X-TITLE=10 Middle Street:geo:-70.760680175025,43.075448564665
END:VEVENT
BEGIN:VEVENT
DTSTART;TZID=America/New_York:20241214T130000
DTEND;TZID=America/New_York:20241214T150000
DTSTAMP:20260425T102735
CREATED:20241015T180248Z
LAST-MODIFIED:20241015T180254Z
UID:10000382-1734181200-1734188400@portsmouthhistory.org
SUMMARY:Family Favorite Cookie Swap
DESCRIPTION:Share your a family holiday tradition and enjoy the Gingerbread Contest!\n			\n				\n				\n				\n				\n				Take part in the Family Favorites Cookie Swap
URL:https://portsmouthhistory.org/event/family-favorite-cookie-swap/
LOCATION:Portsmouth Historical Society at 10 Middle Street\, 10 Middle Street\, Portsmouth\, NH\, 01801\, United States
CATEGORIES:Exhibitions Programs
ATTACH;FMTTYPE=image/png:https://portsmouthhistory.org/wp-content/uploads/2024/10/Family-Day-Cookie-Swap-December-12.14-web.png
GEO:43.075448564665;-70.760680175025
X-APPLE-STRUCTURED-LOCATION;VALUE=URI;X-ADDRESS=Portsmouth Historical Society at 10 Middle Street 10 Middle Street Portsmouth NH 01801 United States;X-APPLE-RADIUS=500;X-TITLE=10 Middle Street:geo:-70.760680175025,43.075448564665
END:VEVENT
BEGIN:VEVENT
DTSTART;TZID=America/New_York:20241218T170000
DTEND;TZID=America/New_York:20241218T180000
DTSTAMP:20260425T102735
CREATED:20240906T211421Z
LAST-MODIFIED:20241210T215550Z
UID:10000369-1734541200-1734544800@portsmouthhistory.org
SUMMARY:Members-Only Gingerbread Event
DESCRIPTION:Members-only chance to see Gingerbread\nGet in one hour early and enjoy seeing the Gingerbread exhibition in the sweetest way!\n			\n			\n				\n				\n				\n				\n			\n				\n				\n				\n				\n				\n				\n				Become a Member!\n			\n			\n				\n				\n				\n				\n				\n				Learn about the exhibition\n			\n			\n				\n				\n				\n				\n			\n				\n				\n				\n				\n				\n				\n				\n				\n				\n				\n				Register for our special Members Gingerbread Event
URL:https://portsmouthhistory.org/event/members-gingerbread-12-18/
LOCATION:Portsmouth Historical Society at 10 Middle Street\, 10 Middle Street\, Portsmouth\, NH\, 01801\, United States
CATEGORIES:Education Programs
ATTACH;FMTTYPE=image/jpeg:https://portsmouthhistory.org/wp-content/uploads/2024/08/Gingerbread-logo-9x16-1-scaled.jpg
GEO:43.075448564665;-70.760680175025
X-APPLE-STRUCTURED-LOCATION;VALUE=URI;X-ADDRESS=Portsmouth Historical Society at 10 Middle Street 10 Middle Street Portsmouth NH 01801 United States;X-APPLE-RADIUS=500;X-TITLE=10 Middle Street:geo:-70.760680175025,43.075448564665
END:VEVENT
BEGIN:VEVENT
DTSTART;TZID=America/New_York:20241220T100000
DTEND;TZID=America/New_York:20241220T200000
DTSTAMP:20260425T102735
CREATED:20240906T211701Z
LAST-MODIFIED:20240906T211701Z
UID:10000370-1734688800-1734724800@portsmouthhistory.org
SUMMARY:Gingerbread Open Late
DESCRIPTION:
URL:https://portsmouthhistory.org/event/gingerbread-open-late/
LOCATION:Portsmouth Historical Society at 10 Middle Street\, 10 Middle Street\, Portsmouth\, NH\, 01801\, United States
CATEGORIES:Exhibitions Programs
ATTACH;FMTTYPE=image/jpeg:https://portsmouthhistory.org/wp-content/uploads/2024/08/Gingerbread-logo-9x16-1-scaled.jpg
GEO:43.075448564665;-70.760680175025
X-APPLE-STRUCTURED-LOCATION;VALUE=URI;X-ADDRESS=Portsmouth Historical Society at 10 Middle Street 10 Middle Street Portsmouth NH 01801 United States;X-APPLE-RADIUS=500;X-TITLE=10 Middle Street:geo:-70.760680175025,43.075448564665
END:VEVENT
BEGIN:VEVENT
DTSTART;VALUE=DATE:20241230
DTEND;VALUE=DATE:20241231
DTSTAMP:20260425T102735
CREATED:20240906T211855Z
LAST-MODIFIED:20240906T211855Z
UID:10000371-1735516800-1735603199@portsmouthhistory.org
SUMMARY:Gingerbread Exhibition Closes
DESCRIPTION:
URL:https://portsmouthhistory.org/event/gingerbread-2024-closes/
LOCATION:Portsmouth Historical Society at 10 Middle Street\, 10 Middle Street\, Portsmouth\, NH\, 01801\, United States
CATEGORIES:Exhibitions Programs
ATTACH;FMTTYPE=image/jpeg:https://portsmouthhistory.org/wp-content/uploads/2024/08/Gingerbread-logo-9x16-1-scaled.jpg
GEO:43.075448564665;-70.760680175025
X-APPLE-STRUCTURED-LOCATION;VALUE=URI;X-ADDRESS=Portsmouth Historical Society at 10 Middle Street 10 Middle Street Portsmouth NH 01801 United States;X-APPLE-RADIUS=500;X-TITLE=10 Middle Street:geo:-70.760680175025,43.075448564665
END:VEVENT
END:VCALENDAR