BEGIN:VCALENDAR
VERSION:2.0
PRODID:-//Portsmouth Historical Society - ECPv6.15.20//NONSGML v1.0//EN
CALSCALE:GREGORIAN
METHOD:PUBLISH
X-ORIGINAL-URL:https://portsmouthhistory.org
X-WR-CALDESC:Events for Portsmouth Historical Society
REFRESH-INTERVAL;VALUE=DURATION:PT1H
X-Robots-Tag:noindex
X-PUBLISHED-TTL:PT1H
BEGIN:VTIMEZONE
TZID:America/New_York
BEGIN:DAYLIGHT
TZOFFSETFROM:-0500
TZOFFSETTO:-0400
TZNAME:EDT
DTSTART:20240310T070000
END:DAYLIGHT
BEGIN:STANDARD
TZOFFSETFROM:-0400
TZOFFSETTO:-0500
TZNAME:EST
DTSTART:20241103T060000
END:STANDARD
BEGIN:DAYLIGHT
TZOFFSETFROM:-0500
TZOFFSETTO:-0400
TZNAME:EDT
DTSTART:20250309T070000
END:DAYLIGHT
BEGIN:STANDARD
TZOFFSETFROM:-0400
TZOFFSETTO:-0500
TZNAME:EST
DTSTART:20251102T060000
END:STANDARD
BEGIN:DAYLIGHT
TZOFFSETFROM:-0500
TZOFFSETTO:-0400
TZNAME:EDT
DTSTART:20260308T070000
END:DAYLIGHT
BEGIN:STANDARD
TZOFFSETFROM:-0400
TZOFFSETTO:-0500
TZNAME:EST
DTSTART:20261101T060000
END:STANDARD
END:VTIMEZONE
BEGIN:VEVENT
DTSTART;TZID=America/New_York:20251108T110000
DTEND;TZID=America/New_York:20251108T140000
DTSTAMP:20260424T054115
CREATED:20251021T170534Z
LAST-MODIFIED:20251029T144240Z
UID:10000588-1762599600-1762610400@portsmouthhistory.org
SUMMARY:Family Day: Gingerbread Workshop
DESCRIPTION:Ready\, set\, bake!\nGet into the holiday spirit with the Portsmouth Historical Society’s hands-on Gingerbread Workshop hosted at Port City Makerspace. This event is perfect for all ages and skill levels\, inviting you to unleash your inner architect and confectioner. We’ll provide an abundance of colorful candies\, delectable icing\, and expert guidance to help you construct and decorate your very own edible masterpiece. \nKits are available with your registration\, but those who want to bring their own unique house can as well. We’ll cover expert tips for assembling gingerbread and then decorate with a variety of creative and fun edible treats. \nWant to enter the 35th Annual Gingerbread House Exhibition and Contest? Leave your creation with us and let thousands of people admire it during our annual holiday event. \nEvent cost:Portsmouth Historical Society or Makerspace Members with kit purchase $35Non-Members with kit purchase $40Bring Your Own Gingerbread Kit option $10 for members | $15 non-members \n			\n			\n				\n				\n				\n				\n			\n				\n				\n				\n				\n				\n				\n				Register for the Workshop\n			\n			\n				\n				\n				\n				\n				\n				Learn about the Gingerbread Contest
URL:https://portsmouthhistory.org/event/family-day-gingerbread-25/
LOCATION:Port City Makerspace\, 68 Morning St\, Portsmouth\, NH\, 03801\, United States
CATEGORIES:Exhibitions Programs
ATTACH;FMTTYPE=image/webp:https://portsmouthhistory.org/wp-content/uploads/2025/10/Gingerbread-House-Workshop-11.8-1.webp
END:VEVENT
BEGIN:VEVENT
DTSTART;TZID=America/New_York:20251112T180000
DTEND;TZID=America/New_York:20251112T190000
DTSTAMP:20260424T054115
CREATED:20251021T173852Z
LAST-MODIFIED:20251029T145419Z
UID:10000589-1762970400-1762974000@portsmouthhistory.org
SUMMARY:Evening Gingerbread Workshop
DESCRIPTION:Ready\, set\, bake!\nGet into the holiday spirit with the Portsmouth Historical Society’s hands-on Gingerbread Workshop hosted at Port City Makerspace. This event is perfect for all ages and skill levels\, inviting you to unleash your inner architect and confectioner. We’ll provide an abundance of colorful candies\, delectable icing\, and expert guidance to help you construct and decorate your very own edible masterpiece. \nKits are available with your registration\, but those who want to bring their own unique kits can as well. We’ll cover expert tips for assembling gingerbread and then decorate with a variety of creative and fun edible treats. \nWant to enter the 35th Annual Gingerbread House Exhibition and Contest? Leave your creation with us and let thousands of people admire it during our annual holiday event. \nEvent cost:Portsmouth Historical Society or Makerspace Members with kit purchase $35Non-Members with kit purchase $40Bring Your Own Gingerbread Kit option $10 for members | $15 non-members \n			\n			\n				\n				\n				\n				\n			\n				\n				\n				\n				\n				\n				\n				Register for the Workshop\n			\n			\n				\n				\n				\n				\n				\n				Learn about the Gingerbread Contest
URL:https://portsmouthhistory.org/event/evening-gingerbread-workshop/
LOCATION:Port City Makerspace\, 68 Morning St\, Portsmouth\, NH\, 03801\, United States
CATEGORIES:Exhibitions Programs
ATTACH;FMTTYPE=image/webp:https://portsmouthhistory.org/wp-content/uploads/2025/10/Gingerbread-House-Workshop-11.12.webp
END:VEVENT
END:VCALENDAR