BEGIN:VCALENDAR
VERSION:2.0
PRODID:-//Portsmouth Historical Society - ECPv6.15.20//NONSGML v1.0//EN
CALSCALE:GREGORIAN
METHOD:PUBLISH
X-WR-CALNAME:Portsmouth Historical Society
X-ORIGINAL-URL:https://portsmouthhistory.org
X-WR-CALDESC:Events for Portsmouth Historical Society
REFRESH-INTERVAL;VALUE=DURATION:PT1H
X-Robots-Tag:noindex
X-PUBLISHED-TTL:PT1H
BEGIN:VTIMEZONE
TZID:America/New_York
BEGIN:DAYLIGHT
TZOFFSETFROM:-0500
TZOFFSETTO:-0400
TZNAME:EDT
DTSTART:20240310T070000
END:DAYLIGHT
BEGIN:STANDARD
TZOFFSETFROM:-0400
TZOFFSETTO:-0500
TZNAME:EST
DTSTART:20241103T060000
END:STANDARD
BEGIN:DAYLIGHT
TZOFFSETFROM:-0500
TZOFFSETTO:-0400
TZNAME:EDT
DTSTART:20250309T070000
END:DAYLIGHT
BEGIN:STANDARD
TZOFFSETFROM:-0400
TZOFFSETTO:-0500
TZNAME:EST
DTSTART:20251102T060000
END:STANDARD
BEGIN:DAYLIGHT
TZOFFSETFROM:-0500
TZOFFSETTO:-0400
TZNAME:EDT
DTSTART:20260308T070000
END:DAYLIGHT
BEGIN:STANDARD
TZOFFSETFROM:-0400
TZOFFSETTO:-0500
TZNAME:EST
DTSTART:20261101T060000
END:STANDARD
END:VTIMEZONE
BEGIN:VEVENT
DTSTART;TZID=America/New_York:20250516T100000
DTEND;TZID=America/New_York:20250516T140000
DTSTAMP:20260425T064856
CREATED:20250114T201505Z
LAST-MODIFIED:20250429T155331Z
UID:10000406-1747389600-1747404000@portsmouthhistory.org
SUMMARY:Homeschool Program: Visit the John Paul Jones House
DESCRIPTION:Join us for a visit to the John Paul Jones House that shows historic preservation in action!\n			\n				\n				\n				\n				\n				Register for the Homeschool History Program Friday\, May 16th!
URL:https://portsmouthhistory.org/event/homeschool-may16/
LOCATION:John Paul Jones House\, 43 Middle Street\, Portsmouth\, NH\, 03801\, United States
CATEGORIES:Education Programs
ATTACH;FMTTYPE=image/png:https://portsmouthhistory.org/wp-content/uploads/2025/01/Homeschool-Days-May-web.png
GEO:43.075277514372;-70.76022445749
X-APPLE-STRUCTURED-LOCATION;VALUE=URI;X-ADDRESS=John Paul Jones House 43 Middle Street Portsmouth NH 03801 United States;X-APPLE-RADIUS=500;X-TITLE=43 Middle Street:geo:-70.76022445749,43.075277514372
END:VEVENT
END:VCALENDAR