BEGIN:VCALENDAR
VERSION:2.0
PRODID:-//Portsmouth Historical Society - ECPv6.15.20//NONSGML v1.0//EN
CALSCALE:GREGORIAN
METHOD:PUBLISH
X-ORIGINAL-URL:https://portsmouthhistory.org
X-WR-CALDESC:Events for Portsmouth Historical Society
REFRESH-INTERVAL;VALUE=DURATION:PT1H
X-Robots-Tag:noindex
X-PUBLISHED-TTL:PT1H
BEGIN:VTIMEZONE
TZID:America/New_York
BEGIN:DAYLIGHT
TZOFFSETFROM:-0500
TZOFFSETTO:-0400
TZNAME:EDT
DTSTART:20240310T070000
END:DAYLIGHT
BEGIN:STANDARD
TZOFFSETFROM:-0400
TZOFFSETTO:-0500
TZNAME:EST
DTSTART:20241103T060000
END:STANDARD
BEGIN:DAYLIGHT
TZOFFSETFROM:-0500
TZOFFSETTO:-0400
TZNAME:EDT
DTSTART:20250309T070000
END:DAYLIGHT
BEGIN:STANDARD
TZOFFSETFROM:-0400
TZOFFSETTO:-0500
TZNAME:EST
DTSTART:20251102T060000
END:STANDARD
BEGIN:DAYLIGHT
TZOFFSETFROM:-0500
TZOFFSETTO:-0400
TZNAME:EDT
DTSTART:20260308T070000
END:DAYLIGHT
BEGIN:STANDARD
TZOFFSETFROM:-0400
TZOFFSETTO:-0500
TZNAME:EST
DTSTART:20261101T060000
END:STANDARD
END:VTIMEZONE
BEGIN:VEVENT
DTSTART;TZID=America/New_York:20250612T173000
DTEND;TZID=America/New_York:20250612T193000
DTSTAMP:20260424T165741
CREATED:20250421T171415Z
LAST-MODIFIED:20250603T194312Z
UID:10000449-1749749400-1749756600@portsmouthhistory.org
SUMMARY:Art in Bloom Garden Party
DESCRIPTION:Bloom into history with our first annual Art in Bloom!\n			\n				\n				\n				\n				\n				RSVP to the Art in Bloom Garden Party\n			\n			\n				\n				\n				\n				\n			\n				\n				\n				\n				\n				\n				\n				\n				\n				\n				\n				Thank you to our expert judges:\n			\n			\n				\n				\n				\n				\n			\n				\n				\n				\n				\n				\n				\n				\n				\n				\n				\n				\n			\n				\n				\n				\n				\n				Jamie Colen of Fuller Gardens\n			\n			\n				\n				\n				\n				\n				\n				\n				\n				\n				\n				\n			\n				\n				\n				\n				\n				Beth Fischer\,a Strafford County Master Gardener\n			\n			\n				\n				\n				\n				\n				\n				\n				\n				\n				\n				\n			\n				\n				\n				\n				\n				John Forti of Bedrock Gardens\n			\n			\n				\n				\n				\n				\n				\n				\n				\n				\n				\n				\n			\n				\n				\n				\n				\n				Betsy Brown Scott\,\nformer owner of the Flower Kiosk\n			\n			\n				\n				\n				\n				\n			\n				\n				\n				\n				\n				\n				\n				\n				\n				\n				\n				\n			\n			\n				\n				\n				\n				\n				\n				\n				\n				\n				\n				UNABLE TO ATTEND?Consider a donation to support Portsmouth Historical Society’s mission to connect the community to our past\, present and future through collections\, interpretation\, education\, and preservation. \n			\n				Keep Portsmouth's history alive!\n			\n			\n				\n				\n				\n				\n			\n				\n				\n				\n				\n				\n				\n				\n				\n				\n				\n				Make a splash with wearable art headpieces provided by Grace & Diggs at our event photo-op.\n			\n				\n				\n				\n				\n				\n			\n			\n				\n				\n				\n				\n				\n				\n				\n				\n				\n				Thank you to our food and beverage sponsor:\n			\n				\n				\n				\n				\n				\n			\n				\n				\n				\n				\n				Tent provided by:
URL:https://portsmouthhistory.org/event/art-in-bloom-party/
LOCATION:John Paul Jones House\, 43 Middle Street\, Portsmouth\, NH\, 03801\, United States
CATEGORIES:John Paul Jones Programs
ATTACH;FMTTYPE=image/png:https://portsmouthhistory.org/wp-content/uploads/2025/04/Art-in-Bloom-Garden-Party-web.png
GEO:43.075277514372;-70.76022445749
X-APPLE-STRUCTURED-LOCATION;VALUE=URI;X-ADDRESS=John Paul Jones House 43 Middle Street Portsmouth NH 03801 United States;X-APPLE-RADIUS=500;X-TITLE=43 Middle Street:geo:-70.76022445749,43.075277514372
END:VEVENT
BEGIN:VEVENT
DTSTART;VALUE=DATE:20250613
DTEND;VALUE=DATE:20250617
DTSTAMP:20260424T165741
CREATED:20250502T014502Z
LAST-MODIFIED:20250609T200127Z
UID:10000453-1749772800-1750118399@portsmouthhistory.org
SUMMARY:Art in Bloom
DESCRIPTION:Bloom into history with our first annual Art in Bloom!\nCelebrate the creative fusion of fine art and floral design as you tour stunning arrangements inspired by the art\, architecture\, and collection of our John Paul Jones House. Experience these blooming masterpieces while experiencing the home’s history. \nThis inaugural event runs from Friday\, June 13 through Monday\, June 16 at the John Paul Jones House. Experience the magic during regular museum hours of 10 am to 4 pm\, with extended evening hours until 7 pm on Friday and Saturday. \nArt in Bloom is included with the price of admission; tickets available at John Paul Jones House or 10 Middle Street. \n			\n				Join us for the Garden Party on June 12\n			\n			\n				\n				\n				\n				\n			\n				\n				\n				\n				\n				\n				\n				\n				\n				\n				\n				Partnering with the Pocket Gardens of Portsmouth Tour \n			\n				\n				\n				\n				\n				\n			\n				\n				\n				\n				\n				Pocket Garden Tour ticket holders recieve discounted admission to Art in Bloom! \n			\n			\n				\n				\n				\n				\n				\n				\n				\n				\n				\n				UNABLE TO ATTEND?Consider a donation to support Portsmouth Historical Society’s mission to connect the community to our past\, present and future through collections\, interpretation\, education\, and preservation. \n			\n				Keep Portsmouth's history alive!
URL:https://portsmouthhistory.org/event/art-in-bloom/
LOCATION:John Paul Jones House\, 43 Middle Street\, Portsmouth\, NH\, 03801\, United States
CATEGORIES:John Paul Jones Programs
ATTACH;FMTTYPE=image/webp:https://portsmouthhistory.org/wp-content/uploads/2025/04/Art-in-Bloom-Event-web.webp
GEO:43.075277514372;-70.76022445749
X-APPLE-STRUCTURED-LOCATION;VALUE=URI;X-ADDRESS=John Paul Jones House 43 Middle Street Portsmouth NH 03801 United States;X-APPLE-RADIUS=500;X-TITLE=43 Middle Street:geo:-70.76022445749,43.075277514372
END:VEVENT
BEGIN:VEVENT
DTSTART;TZID=America/New_York:20250626T120000
DTEND;TZID=America/New_York:20250626T130000
DTSTAMP:20260424T165741
CREATED:20250527T195000Z
LAST-MODIFIED:20250527T195006Z
UID:10000483-1750939200-1750942800@portsmouthhistory.org
SUMMARY:Yoga on the Lawn
DESCRIPTION:Register for Yoge on the Lawn!\n			\n				\n				\n				\n				\n				Meet the Instructors:\n			\n			\n				\n				\n				\n				\n			\n				\n				\n				\n				\n				\n				\n				\n				\n				\n				\n				Chetana Parmar\n			\n				\n				\n				\n				\n				\n			\n				\n				\n				\n				\n				Chetana knows what it means to feel you belong and feel connected to where you call hOMe. A dedicated yoga practice grounds and brings her hOMe and is a ritual that forms her daily life. She truly believes in yoga being accessible to all\, being open and inclusive to every body and every one and coming to your yoga mat should never be a barrier. Her practices are always guided by intuition and she adapts for those that sheI is leading. She also writes her own meditations and is available on the Insight Timer app. \nShe is an Advanced registered yoga teacher E-RYT500\, through Yoga Alliance and continue to learn and grow in my teaching and practice. She lead practices and workshops in power\, flow\, restorative\, yin\, meditation\, The Power of She (menopause and yoga)\, yoga nidra as well as sound baths with crystal and Tibetan bowls healing and offer Reiki throughout.\n			\n				\n				\n				\n				\n				Follow\n			\n			\n				\n				\n				\n				\n				\n				\n				\n				\n				\n				Michelle Gonzales Verdi\n			\n				\n				\n				\n				\n				\n			\n				\n				\n				\n				\n				Michelle’s yoga journey began as a child in military base housing alongside her mom during a yoga broadcast on PBS. Realizing her need to move\, Michelle’s parents enrolled her in dance at a young age\, which sparked her love of movement. She studied ballet\, tap\, and jazz for more than twenty years. Upon entering the corporate world\, sheneeded something to burn off stress. One day during a long run after work\, she remembered standing in the living room lifting her arms next to her mom doing yoga. Eventually\, her practice led her to Ashtanga Yoga with Kimberly Dahlmann at Yoga East\, where she deepened her personal understanding of yoga and began teaching. \nMichelle is trained in and teaches Ashtanga\, Yin\, Pranayama\, and Pilates. Additionally\, she studies Yoga Philosophy\, Iyengar Yoga\, and meditation. Michelle teaches yoga at Yoga East in Kittery\, Maine\, and is a teacher and volunteer at Yoga in\nAction throughout the Seacoast.
URL:https://portsmouthhistory.org/event/yoga-6-28/
LOCATION:John Paul Jones House\, 43 Middle Street\, Portsmouth\, NH\, 03801\, United States
CATEGORIES:John Paul Jones Programs
ATTACH;FMTTYPE=image/webp:https://portsmouthhistory.org/wp-content/uploads/2025/05/Yoga-on-the-Lawn-Series.webp
GEO:43.075277514372;-70.76022445749
X-APPLE-STRUCTURED-LOCATION;VALUE=URI;X-ADDRESS=John Paul Jones House 43 Middle Street Portsmouth NH 03801 United States;X-APPLE-RADIUS=500;X-TITLE=43 Middle Street:geo:-70.76022445749,43.075277514372
END:VEVENT
END:VCALENDAR