BEGIN:VCALENDAR
VERSION:2.0
PRODID:-//Portsmouth Historical Society - ECPv6.15.20//NONSGML v1.0//EN
CALSCALE:GREGORIAN
METHOD:PUBLISH
X-WR-CALNAME:Portsmouth Historical Society
X-ORIGINAL-URL:https://portsmouthhistory.org
X-WR-CALDESC:Events for Portsmouth Historical Society
REFRESH-INTERVAL;VALUE=DURATION:PT1H
X-Robots-Tag:noindex
X-PUBLISHED-TTL:PT1H
BEGIN:VTIMEZONE
TZID:America/New_York
BEGIN:DAYLIGHT
TZOFFSETFROM:-0500
TZOFFSETTO:-0400
TZNAME:EDT
DTSTART:20240310T070000
END:DAYLIGHT
BEGIN:STANDARD
TZOFFSETFROM:-0400
TZOFFSETTO:-0500
TZNAME:EST
DTSTART:20241103T060000
END:STANDARD
BEGIN:DAYLIGHT
TZOFFSETFROM:-0500
TZOFFSETTO:-0400
TZNAME:EDT
DTSTART:20250309T070000
END:DAYLIGHT
BEGIN:STANDARD
TZOFFSETFROM:-0400
TZOFFSETTO:-0500
TZNAME:EST
DTSTART:20251102T060000
END:STANDARD
BEGIN:DAYLIGHT
TZOFFSETFROM:-0500
TZOFFSETTO:-0400
TZNAME:EDT
DTSTART:20260308T070000
END:DAYLIGHT
BEGIN:STANDARD
TZOFFSETFROM:-0400
TZOFFSETTO:-0500
TZNAME:EST
DTSTART:20261101T060000
END:STANDARD
END:VTIMEZONE
BEGIN:VEVENT
DTSTART;TZID=America/New_York:20250821T120000
DTEND;TZID=America/New_York:20250821T130000
DTSTAMP:20260424T095604
CREATED:20250527T201618Z
LAST-MODIFIED:20250527T201627Z
UID:10000491-1755777600-1755781200@portsmouthhistory.org
SUMMARY:Yoga on the Lawn
DESCRIPTION:Register for Yoge on the Lawn!\n			\n				\n				\n				\n				\n				Meet the Instructors:\n			\n			\n				\n				\n				\n				\n			\n				\n				\n				\n				\n				\n				\n				\n				\n				\n				\n				Chetana Parmar\n			\n				\n				\n				\n				\n				\n			\n				\n				\n				\n				\n				Chetana knows what it means to feel you belong and feel connected to where you call hOMe. A dedicated yoga practice grounds and brings her hOMe and is a ritual that forms her daily life. She truly believes in yoga being accessible to all\, being open and inclusive to every body and every one and coming to your yoga mat should never be a barrier. Her practices are always guided by intuition and she adapts for those that sheI is leading. She also writes her own meditations and is available on the Insight Timer app. \nShe is an Advanced registered yoga teacher E-RYT500\, through Yoga Alliance and continue to learn and grow in my teaching and practice. She lead practices and workshops in power\, flow\, restorative\, yin\, meditation\, The Power of She (menopause and yoga)\, yoga nidra as well as sound baths with crystal and Tibetan bowls healing and offer Reiki throughout.\n			\n				\n				\n				\n				\n				Follow\n			\n			\n				\n				\n				\n				\n				\n				\n				\n				\n				\n				Michelle Gonzales Verdi\n			\n				\n				\n				\n				\n				\n			\n				\n				\n				\n				\n				Michelle’s yoga journey began as a child in military base housing alongside her mom during a yoga broadcast on PBS. Realizing her need to move\, Michelle’s parents enrolled her in dance at a young age\, which sparked her love of movement. She studied ballet\, tap\, and jazz for more than twenty years. Upon entering the corporate world\, sheneeded something to burn off stress. One day during a long run after work\, she remembered standing in the living room lifting her arms next to her mom doing yoga. Eventually\, her practice led her to Ashtanga Yoga with Kimberly Dahlmann at Yoga East\, where she deepened her personal understanding of yoga and began teaching. \nMichelle is trained in and teaches Ashtanga\, Yin\, Pranayama\, and Pilates. Additionally\, she studies Yoga Philosophy\, Iyengar Yoga\, and meditation. Michelle teaches yoga at Yoga East in Kittery\, Maine\, and is a teacher and volunteer at Yoga in\nAction throughout the Seacoast.
URL:https://portsmouthhistory.org/event/yoga-8-21/
LOCATION:John Paul Jones House\, 43 Middle Street\, Portsmouth\, NH\, 03801\, United States
CATEGORIES:John Paul Jones Programs
ATTACH;FMTTYPE=image/webp:https://portsmouthhistory.org/wp-content/uploads/2025/05/Yoga-on-the-Lawn-Series.webp
GEO:43.075277514372;-70.76022445749
X-APPLE-STRUCTURED-LOCATION;VALUE=URI;X-ADDRESS=John Paul Jones House 43 Middle Street Portsmouth NH 03801 United States;X-APPLE-RADIUS=500;X-TITLE=43 Middle Street:geo:-70.76022445749,43.075277514372
END:VEVENT
END:VCALENDAR