BEGIN:VCALENDAR
VERSION:2.0
PRODID:-//Portsmouth Historical Society - ECPv6.15.20//NONSGML v1.0//EN
CALSCALE:GREGORIAN
METHOD:PUBLISH
X-WR-CALNAME:Portsmouth Historical Society
X-ORIGINAL-URL:https://portsmouthhistory.org
X-WR-CALDESC:Events for Portsmouth Historical Society
REFRESH-INTERVAL;VALUE=DURATION:PT1H
X-Robots-Tag:noindex
X-PUBLISHED-TTL:PT1H
BEGIN:VTIMEZONE
TZID:America/New_York
BEGIN:DAYLIGHT
TZOFFSETFROM:-0500
TZOFFSETTO:-0400
TZNAME:EDT
DTSTART:20240310T070000
END:DAYLIGHT
BEGIN:STANDARD
TZOFFSETFROM:-0400
TZOFFSETTO:-0500
TZNAME:EST
DTSTART:20241103T060000
END:STANDARD
BEGIN:DAYLIGHT
TZOFFSETFROM:-0500
TZOFFSETTO:-0400
TZNAME:EDT
DTSTART:20250309T070000
END:DAYLIGHT
BEGIN:STANDARD
TZOFFSETFROM:-0400
TZOFFSETTO:-0500
TZNAME:EST
DTSTART:20251102T060000
END:STANDARD
BEGIN:DAYLIGHT
TZOFFSETFROM:-0500
TZOFFSETTO:-0400
TZNAME:EDT
DTSTART:20260308T070000
END:DAYLIGHT
BEGIN:STANDARD
TZOFFSETFROM:-0400
TZOFFSETTO:-0500
TZNAME:EST
DTSTART:20261101T060000
END:STANDARD
END:VTIMEZONE
BEGIN:VEVENT
DTSTART;TZID=America/New_York:20250905T154700
DTEND;TZID=America/New_York:20250905T160000
DTSTAMP:20260424T082249
CREATED:20250821T140720Z
LAST-MODIFIED:20250821T140725Z
UID:10000553-1757087220-1757088000@portsmouthhistory.org
SUMMARY:Portsmouth Peace Treaty Bell Ringing
DESCRIPTION:Join us below the cherry tree at the John Paul Jones House to celebrate the Portsmouth Peace Treaty!\nThis year is the 120th Anniversary of the signing of the Portsmouth Peace Treaty on September 5\, 1905. The spirit of the Treaty\, the statesmanship of the diplomats and President Roosevelt\, and the citizen diplomacy of local people is a legacy that is perhaps more important than ever in these turbulent global times — and is echoed in the themes of the “Diplomats in Portsmouth” exhibit displayed at the John Paul Jones House. \nBy re-enacting the bellringing that occurred when the Treaty was signed on September 5\, 1905\, we echo the celebration all around the Seacoast that welcomed the news that the Russo-Japanese War was over and we commemorate the active role local citizens played in helping to achieve that peace. So the sounding of bells around the state at 3:47 pm on September 5th is the historical\, and in many ways most meaningful celebration of Portsmouth Peace Treaty Day\, an official statewide observance since unanimous legislation was passed in 2010.
URL:https://portsmouthhistory.org/event/ppt-bell-ringing-2025/
LOCATION:John Paul Jones House\, 43 Middle Street\, Portsmouth\, NH\, 03801\, United States
CATEGORIES:John Paul Jones Programs
ATTACH;FMTTYPE=image/webp:https://portsmouthhistory.org/wp-content/uploads/2025/08/JPJ-Bell-Ringing-95.webp
GEO:43.075277514372;-70.76022445749
X-APPLE-STRUCTURED-LOCATION;VALUE=URI;X-ADDRESS=John Paul Jones House 43 Middle Street Portsmouth NH 03801 United States;X-APPLE-RADIUS=500;X-TITLE=43 Middle Street:geo:-70.76022445749,43.075277514372
END:VEVENT
END:VCALENDAR