BEGIN:VCALENDAR
VERSION:2.0
PRODID:-//Portsmouth Historical Society - ECPv6.15.20//NONSGML v1.0//EN
CALSCALE:GREGORIAN
METHOD:PUBLISH
X-WR-CALNAME:Portsmouth Historical Society
X-ORIGINAL-URL:https://portsmouthhistory.org
X-WR-CALDESC:Events for Portsmouth Historical Society
REFRESH-INTERVAL;VALUE=DURATION:PT1H
X-Robots-Tag:noindex
X-PUBLISHED-TTL:PT1H
BEGIN:VTIMEZONE
TZID:America/New_York
BEGIN:DAYLIGHT
TZOFFSETFROM:-0500
TZOFFSETTO:-0400
TZNAME:EDT
DTSTART:20240310T070000
END:DAYLIGHT
BEGIN:STANDARD
TZOFFSETFROM:-0400
TZOFFSETTO:-0500
TZNAME:EST
DTSTART:20241103T060000
END:STANDARD
BEGIN:DAYLIGHT
TZOFFSETFROM:-0500
TZOFFSETTO:-0400
TZNAME:EDT
DTSTART:20250309T070000
END:DAYLIGHT
BEGIN:STANDARD
TZOFFSETFROM:-0400
TZOFFSETTO:-0500
TZNAME:EST
DTSTART:20251102T060000
END:STANDARD
BEGIN:DAYLIGHT
TZOFFSETFROM:-0500
TZOFFSETTO:-0400
TZNAME:EDT
DTSTART:20260308T070000
END:DAYLIGHT
BEGIN:STANDARD
TZOFFSETFROM:-0400
TZOFFSETTO:-0500
TZNAME:EST
DTSTART:20261101T060000
END:STANDARD
END:VTIMEZONE
BEGIN:VEVENT
DTSTART;TZID=America/New_York:20251019T143000
DTEND;TZID=America/New_York:20251019T160000
DTSTAMP:20260424T044022
CREATED:20250602T171233Z
LAST-MODIFIED:20250604T161332Z
UID:10000515-1760884200-1760889600@portsmouthhistory.org
SUMMARY:LGBTQ+ Walking Tour
DESCRIPTION:“Gay” Old Times: Stories of Portsmouth’s LGBTQ+ Community\nAdditional Pride Month walking tour begins at 10:00 am\nEnds in time to attend the Portsmouth Pride Parade\nLearn about the hidden history of LGBT clubs\, organizations\, and people who impacted the Seacoast of NH on this 90-minute walking tour.\n				\n \n\n					Tour Description:\nTour guide Tom Kaufhold will take you through Portsmouth for this engaging 90-minute tour. You will pass by many beautiful historic sites and learn some important facts about Portsmouth LGBTQ+ people\, places and events\, including: \n\nHow UNH and the NH Supreme Court impacted Portsmouth’s LGBTQ+ community\nWhere the first gay and women’s bars were in Portsmouth\nThe restaurant credited with starting Portsmouth’s restaurant renaissance\nThe church that supported two LGBTQ+ organizations for decades.\n\n				\n\n					Walking Tour Rates:\nTours are $15 for members\, $20 for non-members\, $15 for discounted groups (Children 5-18\, Seniors 62+\, Students\, Portsmouth Residents)\, and free for children 5 and under.\nAll tours depart from Portsmouth Historical Society\, 10 Middle Street\, Portsmouth NH.\nOnline reservations close 30 minutes prior to tour departure. Please call (603) 436-8433 for last minute bookings.\nUpgrade your ticket for just $5 to also visit our galleries and John Paul Jones House.
URL:https://portsmouthhistory.org/event/lgbtq-walking-tour/2025-10-19/
LOCATION:Portsmouth Historical Society at 10 Middle Street\, 10 Middle Street\, Portsmouth\, NH\, 01801\, United States
CATEGORIES:Walking Tours
ATTACH;FMTTYPE=image/png:https://portsmouthhistory.org/wp-content/uploads/2025/04/LGBTQ-Tour-2025-web.png
GEO:43.075448564665;-70.760680175025
X-APPLE-STRUCTURED-LOCATION;VALUE=URI;X-ADDRESS=Portsmouth Historical Society at 10 Middle Street 10 Middle Street Portsmouth NH 01801 United States;X-APPLE-RADIUS=500;X-TITLE=10 Middle Street:geo:-70.760680175025,43.075448564665
END:VEVENT
BEGIN:VEVENT
DTSTART;TZID=America/New_York:20251022T173000
DTEND;TZID=America/New_York:20251022T193000
DTSTAMP:20260424T044022
CREATED:20250917T192228Z
LAST-MODIFIED:20251008T180929Z
UID:10000570-1761154200-1761161400@portsmouthhistory.org
SUMMARY:Rainbow Symposium
DESCRIPTION:Join us for the annual Rainbow Symposium\n			\n				\n				\n				\n				\n				RSVP to Rainbow Symposium \n			\n			\n				\n				\n				\n				\n			\n				\n				\n				\n				\n				\n				\n				\n				\n				\n				\n				\n			\n			\n				\n				\n				\n				\n				\n				\n				\n				\n				\n				This program is generously sponsored as a part of our  William and Arlene Brewster Lecture Series.\n			\n			\n				\n				\n				\n				\n			\n				\n				\n				\n				\n				\n				\n				\n				\n				\n				\n				In partnership with:
URL:https://portsmouthhistory.org/event/rainbow-symposium-2025/
LOCATION:Portsmouth Historical Society at 10 Middle Street\, 10 Middle Street\, Portsmouth\, NH\, 01801\, United States
CATEGORIES:Education Programs
ATTACH;FMTTYPE=image/webp:https://portsmouthhistory.org/wp-content/uploads/2025/09/Rainbow-Symposium-10.22.webp
GEO:43.075448564665;-70.760680175025
X-APPLE-STRUCTURED-LOCATION;VALUE=URI;X-ADDRESS=Portsmouth Historical Society at 10 Middle Street 10 Middle Street Portsmouth NH 01801 United States;X-APPLE-RADIUS=500;X-TITLE=10 Middle Street:geo:-70.760680175025,43.075448564665
END:VEVENT
END:VCALENDAR