BEGIN:VCALENDAR
VERSION:2.0
PRODID:-//Portsmouth Historical Society - ECPv6.15.20//NONSGML v1.0//EN
CALSCALE:GREGORIAN
METHOD:PUBLISH
X-ORIGINAL-URL:https://portsmouthhistory.org
X-WR-CALDESC:Events for Portsmouth Historical Society
REFRESH-INTERVAL;VALUE=DURATION:PT1H
X-Robots-Tag:noindex
X-PUBLISHED-TTL:PT1H
BEGIN:VTIMEZONE
TZID:America/New_York
BEGIN:DAYLIGHT
TZOFFSETFROM:-0500
TZOFFSETTO:-0400
TZNAME:EDT
DTSTART:20240310T070000
END:DAYLIGHT
BEGIN:STANDARD
TZOFFSETFROM:-0400
TZOFFSETTO:-0500
TZNAME:EST
DTSTART:20241103T060000
END:STANDARD
BEGIN:DAYLIGHT
TZOFFSETFROM:-0500
TZOFFSETTO:-0400
TZNAME:EDT
DTSTART:20250309T070000
END:DAYLIGHT
BEGIN:STANDARD
TZOFFSETFROM:-0400
TZOFFSETTO:-0500
TZNAME:EST
DTSTART:20251102T060000
END:STANDARD
BEGIN:DAYLIGHT
TZOFFSETFROM:-0500
TZOFFSETTO:-0400
TZNAME:EDT
DTSTART:20260308T070000
END:DAYLIGHT
BEGIN:STANDARD
TZOFFSETFROM:-0400
TZOFFSETTO:-0500
TZNAME:EST
DTSTART:20261101T060000
END:STANDARD
END:VTIMEZONE
BEGIN:VEVENT
DTSTART;TZID=America/New_York:20250801T170000
DTEND;TZID=America/New_York:20250801T200000
DTSTAMP:20260424T081514
CREATED:20250702T203829Z
LAST-MODIFIED:20250716T165056Z
UID:10000540-1754067600-1754078400@portsmouthhistory.org
SUMMARY:Art Round Town
DESCRIPTION:We’ll be open until 8 p.m. every First Friday for Art ‘Round Town!\nFree admission all day long.\nVisit our most recent exhibition\, “Cabot Lyford: Winds of Change” and view highlights from our permanent collection in our “Past & Present” exhibition. \nIn addition to being open until 8 pm\, our August ART will feature live music performed by Julia Lane\, artist Cabot Lyford’s daughter\, at 12pm and 5:30pm! \nJulia Lyford Lane\, daughter of sculptor Cabot Lyford\, is an award-winning player of the Celtic Harp. She has performed with her husband\, Fred Gosbee\, as the duo Castlebay for 30 years throughout the Eastern US\, British Isles\, Ireland\, and Scotland. In addition to his musical expertise\, Gosbee is a skilled luthier\, having designed and built Celtic harps\, guitars\, and lutes. Several years ago\, Cabot Lyford gifted the couple with a carved female figurehead to be placed on the pillar of one of Gosbee’s harps. Lyford passed away in 2016 before Fred could design and build a harp big enough to accommodate the sculpture. This past spring\, coinciding with what would have been Cabot’s 100th birthday\, the harp was completed and\, after settling into its final form\, is ready to be played in honor of the sculptor. \n \nJoin Julia for a short presentation at both noon and 5:30pm about the instrument and then listen as she brings it to life playing music as people enjoy a spectrum of art from Cabot’s extraordinary career. \n			\n			\n				\n				\n				\n				\n			\n				\n				\n				\n				\n				\n				\n				Add the 12:00 pm curator tour to your calendar\n			\n			\n				\n				\n				\n				\n				\n				\n				\n				\n				\n				Don’t forget about our free curator tours!\n			\n				\n				\n				\n				\n				\n				\n				\n					\n				\n					\n					\n					\n						 May 2026"Betty & Barney" Curator TourMay 1\, 2026 12:00 pm   "Betty & Barney" Curator TourMay 1\, 2026 5:30 pm   June 2026Curator Tour "Revolutionary Portsmouth"June 5\, 2026 12:00 pm
URL:https://portsmouthhistory.org/event/art-aug-2025/
LOCATION:Portsmouth Historical Society at 10 Middle Street\, 10 Middle Street\, Portsmouth\, NH\, 01801\, United States
CATEGORIES:Welcome Center & Museum Shop Programs
ATTACH;FMTTYPE=image/webp:https://portsmouthhistory.org/wp-content/uploads/2025/07/New-ART-Logo-Art-Round-Town.webp
GEO:43.075448564665;-70.760680175025
X-APPLE-STRUCTURED-LOCATION;VALUE=URI;X-ADDRESS=Portsmouth Historical Society at 10 Middle Street 10 Middle Street Portsmouth NH 01801 United States;X-APPLE-RADIUS=500;X-TITLE=10 Middle Street:geo:-70.760680175025,43.075448564665
END:VEVENT
END:VCALENDAR