BEGIN:VCALENDAR
VERSION:2.0
PRODID:-//Portsmouth Historical Society - ECPv6.15.20//NONSGML v1.0//EN
CALSCALE:GREGORIAN
METHOD:PUBLISH
X-WR-CALNAME:Portsmouth Historical Society
X-ORIGINAL-URL:https://portsmouthhistory.org
X-WR-CALDESC:Events for Portsmouth Historical Society
REFRESH-INTERVAL;VALUE=DURATION:PT1H
X-Robots-Tag:noindex
X-PUBLISHED-TTL:PT1H
BEGIN:VTIMEZONE
TZID:America/New_York
BEGIN:DAYLIGHT
TZOFFSETFROM:-0500
TZOFFSETTO:-0400
TZNAME:EDT
DTSTART:20240310T070000
END:DAYLIGHT
BEGIN:STANDARD
TZOFFSETFROM:-0400
TZOFFSETTO:-0500
TZNAME:EST
DTSTART:20241103T060000
END:STANDARD
BEGIN:DAYLIGHT
TZOFFSETFROM:-0500
TZOFFSETTO:-0400
TZNAME:EDT
DTSTART:20250309T070000
END:DAYLIGHT
BEGIN:STANDARD
TZOFFSETFROM:-0400
TZOFFSETTO:-0500
TZNAME:EST
DTSTART:20251102T060000
END:STANDARD
BEGIN:DAYLIGHT
TZOFFSETFROM:-0500
TZOFFSETTO:-0400
TZNAME:EDT
DTSTART:20260308T070000
END:DAYLIGHT
BEGIN:STANDARD
TZOFFSETFROM:-0400
TZOFFSETTO:-0500
TZNAME:EST
DTSTART:20261101T060000
END:STANDARD
END:VTIMEZONE
BEGIN:VEVENT
DTSTART;TZID=America/New_York:20250905T170000
DTEND;TZID=America/New_York:20250905T200000
DTSTAMP:20260424T064220
CREATED:20250807T135554Z
LAST-MODIFIED:20250807T135600Z
UID:10000548-1757091600-1757102400@portsmouthhistory.org
SUMMARY:Art Round Town
DESCRIPTION:We’ll be open until 8 p.m. every First Friday for Art ‘Round Town!\nFree admission all day long.\nVisit our most recent exhibition\, “Cabot Lyford: Winds of Change” and view highlights from our permanent collection in our “Past & Present” exhibition. \n			\n			\n				\n				\n				\n				\n			\n				\n				\n				\n				\n				\n				\n				Learn More About the Exhibition\n			\n			\n				\n				\n				\n				\n				\n				\n				\n				\n				\n				Don’t forget about our free curator tours!\n			\n				\n				\n				\n				\n				\n				\n				\n					\n				\n					\n					\n					\n						 "Betty & Barney" Curator TourMay 1\, 2026 12:00 pm   "Betty & Barney" Curator TourMay 1\, 2026 5:30 pm   Curator Tour "Revolutionary Portsmouth"June 5\, 2026 12:00 pm   Curator Tour “Revolutionary Portsmouth”June 5\, 2026 5:30 pm   "Betty & Barney" Curator TourJuly 3\, 2026 12:00 pm   "Betty & Barney" Curator TourJuly 3\, 2026 5:30 pm
URL:https://portsmouthhistory.org/event/art-sept25/
LOCATION:Portsmouth Historical Society at 10 Middle Street\, 10 Middle Street\, Portsmouth\, NH\, 01801\, United States
CATEGORIES:Welcome Center & Museum Shop Programs
ATTACH;FMTTYPE=image/webp:https://portsmouthhistory.org/wp-content/uploads/2025/07/New-ART-Logo-Art-Round-Town.webp
GEO:43.075448564665;-70.760680175025
X-APPLE-STRUCTURED-LOCATION;VALUE=URI;X-ADDRESS=Portsmouth Historical Society at 10 Middle Street 10 Middle Street Portsmouth NH 01801 United States;X-APPLE-RADIUS=500;X-TITLE=10 Middle Street:geo:-70.760680175025,43.075448564665
END:VEVENT
END:VCALENDAR