BEGIN:VCALENDAR
VERSION:2.0
PRODID:-//Portsmouth Historical Society - ECPv6.15.20//NONSGML v1.0//EN
CALSCALE:GREGORIAN
METHOD:PUBLISH
X-WR-CALNAME:Portsmouth Historical Society
X-ORIGINAL-URL:https://portsmouthhistory.org
X-WR-CALDESC:Events for Portsmouth Historical Society
REFRESH-INTERVAL;VALUE=DURATION:PT1H
X-Robots-Tag:noindex
X-PUBLISHED-TTL:PT1H
BEGIN:VTIMEZONE
TZID:America/New_York
BEGIN:DAYLIGHT
TZOFFSETFROM:-0500
TZOFFSETTO:-0400
TZNAME:EDT
DTSTART:20240310T070000
END:DAYLIGHT
BEGIN:STANDARD
TZOFFSETFROM:-0400
TZOFFSETTO:-0500
TZNAME:EST
DTSTART:20241103T060000
END:STANDARD
BEGIN:DAYLIGHT
TZOFFSETFROM:-0500
TZOFFSETTO:-0400
TZNAME:EDT
DTSTART:20250309T070000
END:DAYLIGHT
BEGIN:STANDARD
TZOFFSETFROM:-0400
TZOFFSETTO:-0500
TZNAME:EST
DTSTART:20251102T060000
END:STANDARD
BEGIN:DAYLIGHT
TZOFFSETFROM:-0500
TZOFFSETTO:-0400
TZNAME:EDT
DTSTART:20260308T070000
END:DAYLIGHT
BEGIN:STANDARD
TZOFFSETFROM:-0400
TZOFFSETTO:-0500
TZNAME:EST
DTSTART:20261101T060000
END:STANDARD
END:VTIMEZONE
BEGIN:VEVENT
DTSTART;TZID=America/New_York:20251011T103000
DTEND;TZID=America/New_York:20251011T113000
DTSTAMP:20260424T074435
CREATED:20250919T142440Z
LAST-MODIFIED:20250919T142446Z
UID:10000572-1760178600-1760182200@portsmouthhistory.org
SUMMARY:Family Day: Cemetery Tours
DESCRIPTION:Costumes\, candy\, and a scavenger hunt in North Cemetery\n			\n				\n				\n				\n				\n				Join us for some history and Halloween fun at North Cemetery! Come in costume (if you want!)\, participate in a scavenger hunt with candy prizes\, and learn about the history of North Cemetery and some of the famous Portsmouth figures buried there.  \nThis program is designed for families and will highlight what an important resource cemeteries are for learning about the past. Though we will not be discussing anything gruesome\, haunted\, or scary\, we will be talking about things like colonial funerals and headstone symbols\, which include images of skulls and bones. If you’re unsure whether this program would be a little too spooky\, please reach out to our cemetery guide\, Sarah Robbitts-Terry ( sarah@portsmouthhistory.org) with any questions. \n			\n			\n				\n				\n				\n				\n			\n				\n				\n				\n				\n				\n				\n				\n				\n				\n				\n				\n\nThank you to our event sponsor:
URL:https://portsmouthhistory.org/event/family-day-cemetery-tours/
LOCATION:North Cemetery\, 114 Maplewood Ave\, Portsmouth\, NH\, 03801\, United States
CATEGORIES:Education Programs
ATTACH;FMTTYPE=image/webp:https://portsmouthhistory.org/wp-content/uploads/2025/09/Cemetery-Tours-2025-Family-Tour.webp
END:VEVENT
BEGIN:VEVENT
DTSTART;TZID=America/New_York:20251011T160000
DTEND;TZID=America/New_York:20251011T173000
DTSTAMP:20260424T074435
CREATED:20250903T202742Z
LAST-MODIFIED:20250903T202747Z
UID:10000556-1760198400-1760203800@portsmouthhistory.org
SUMMARY:Cemetery Tours: North Cemetery
DESCRIPTION:Take a walk through Portsmouth cemeteries to learn the meaningful\, odd\, and sometimes spooky traditions of Portsmouth’s past\n			\n				\n				\n				\n				\n				Register for our Cemetery Walking Tour
URL:https://portsmouthhistory.org/event/north-cemetery-10-11/
LOCATION:North Cemetery\, 114 Maplewood Ave\, Portsmouth\, NH\, 03801\, United States
CATEGORIES:Education Programs,Walking Tours
ATTACH;FMTTYPE=image/webp:https://portsmouthhistory.org/wp-content/uploads/2025/09/Cemetery-Tours-2025-Alt.webp
END:VEVENT
END:VCALENDAR