BEGIN:VCALENDAR
VERSION:2.0
PRODID:-//Portsmouth Historical Society - ECPv6.15.20//NONSGML v1.0//EN
CALSCALE:GREGORIAN
METHOD:PUBLISH
X-WR-CALNAME:Portsmouth Historical Society
X-ORIGINAL-URL:https://portsmouthhistory.org
X-WR-CALDESC:Events for Portsmouth Historical Society
REFRESH-INTERVAL;VALUE=DURATION:PT1H
X-Robots-Tag:noindex
X-PUBLISHED-TTL:PT1H
BEGIN:VTIMEZONE
TZID:America/New_York
BEGIN:DAYLIGHT
TZOFFSETFROM:-0500
TZOFFSETTO:-0400
TZNAME:EDT
DTSTART:20240310T070000
END:DAYLIGHT
BEGIN:STANDARD
TZOFFSETFROM:-0400
TZOFFSETTO:-0500
TZNAME:EST
DTSTART:20241103T060000
END:STANDARD
BEGIN:DAYLIGHT
TZOFFSETFROM:-0500
TZOFFSETTO:-0400
TZNAME:EDT
DTSTART:20250309T070000
END:DAYLIGHT
BEGIN:STANDARD
TZOFFSETFROM:-0400
TZOFFSETTO:-0500
TZNAME:EST
DTSTART:20251102T060000
END:STANDARD
BEGIN:DAYLIGHT
TZOFFSETFROM:-0500
TZOFFSETTO:-0400
TZNAME:EDT
DTSTART:20260308T070000
END:DAYLIGHT
BEGIN:STANDARD
TZOFFSETFROM:-0400
TZOFFSETTO:-0500
TZNAME:EST
DTSTART:20261101T060000
END:STANDARD
END:VTIMEZONE
BEGIN:VEVENT
DTSTART;TZID=America/New_York:20251008T143000
DTEND;TZID=America/New_York:20251008T160000
DTSTAMP:20260424T015808
CREATED:20250602T163857Z
LAST-MODIFIED:20250602T163857Z
UID:10000497-1759933800-1759939200@portsmouthhistory.org
SUMMARY:Women of Portsmouth Walking Tour
DESCRIPTION:Women of Portsmouth Walking Tour\nLearn the untold stories of navigators\, preachers\, artists\, authors\, tavern keepers\, and madams who defied stereotypes and shaped Portsmouth on this 90 minutes tour.\n				\n \n\n					Tour Description:\nFor over 400 years women have been shaping the course of Portsmouth’s history. After the 90-minute walking tour\, we hope you will walk away surprised by all the ways that women have impacted the fabric of this city. Your tour will cover almost two miles including Prescott Park and the Old Harbor.\n				\n\n					Walking Tour Rates:\nTours are $15 for members\, $20 for non-members\, $15 for discounted groups (Children 5-18\, Seniors 62+\, Students\, Portsmouth Residents)\, and free for children 5 and under.\nAll tours depart from Portsmouth Historical Society\, 10 Middle Street\, Portsmouth NH.\nOnline reservations close 30 minutes prior to tour departure. Please call (603) 436-8433 for last minute bookings.
URL:https://portsmouthhistory.org/event/women-of-portsmouth-walking-tour/2025-10-08/
LOCATION:Portsmouth Historical Society at 10 Middle Street\, 10 Middle Street\, Portsmouth\, NH\, 01801\, United States
CATEGORIES:Walking Tours
ATTACH;FMTTYPE=image/png:https://portsmouthhistory.org/wp-content/uploads/2025/04/Womens-Walking-Tour-2025-web.png
GEO:43.075448564665;-70.760680175025
X-APPLE-STRUCTURED-LOCATION;VALUE=URI;X-ADDRESS=Portsmouth Historical Society at 10 Middle Street 10 Middle Street Portsmouth NH 01801 United States;X-APPLE-RADIUS=500;X-TITLE=10 Middle Street:geo:-70.760680175025,43.075448564665
END:VEVENT
BEGIN:VEVENT
DTSTART;TZID=America/New_York:20251015T143000
DTEND;TZID=America/New_York:20251015T163000
DTSTAMP:20260424T015808
CREATED:20250618T171128Z
LAST-MODIFIED:20250618T171129Z
UID:10000524-1760538600-1760545800@portsmouthhistory.org
SUMMARY:Along the Waterfront Walking Tour
DESCRIPTION: \n				\n\n					Along the Waterfront\nTwice a Month at 2:30 pm\nThird and fourth Wednesdays of the month\nStretch your legs on our longest walking tour! This two-hour tour includes Prescott Park\, the working waterfront\, the tugboats\, a bit of beer history and more. Born and bred Portsmouth local\, Ron Sher\, adds personal anecdotes and depth to this extended tour.\n				\n \n\n					Walking Tour Rates:\nTours are $15 for members\, $20 for non-members\, $15 for discounted groups (Children 5-18\, Seniors 62+\, Students\, Portsmouth Residents)\, and free for children 5 and under.\nAll tours depart from Portsmouth Historical Society\, 10 Middle Street\, Portsmouth NH.\nOnline reservations close 30 minutes prior to tour departure. Please call (603) 436-8433 for last minute bookings.\nUpgrade your ticket for just $5 to also visit our galleries and John Paul Jones House.
URL:https://portsmouthhistory.org/event/along-the-waterfront-walking-tour-2/2025-10-15/
LOCATION:Portsmouth Historical Society at 10 Middle Street\, 10 Middle Street\, Portsmouth\, NH\, 01801\, United States
CATEGORIES:Walking Tours
ATTACH;FMTTYPE=image/webp:https://portsmouthhistory.org/wp-content/uploads/2025/06/Along-the-Waterfront-Tour-2025-most-updated.webp
GEO:43.075448564665;-70.760680175025
X-APPLE-STRUCTURED-LOCATION;VALUE=URI;X-ADDRESS=Portsmouth Historical Society at 10 Middle Street 10 Middle Street Portsmouth NH 01801 United States;X-APPLE-RADIUS=500;X-TITLE=10 Middle Street:geo:-70.760680175025,43.075448564665
END:VEVENT
BEGIN:VEVENT
DTSTART;TZID=America/New_York:20251022T143000
DTEND;TZID=America/New_York:20251022T163000
DTSTAMP:20260424T015808
CREATED:20250618T171128Z
LAST-MODIFIED:20250618T171129Z
UID:10000525-1761143400-1761150600@portsmouthhistory.org
SUMMARY:Along the Waterfront Walking Tour
DESCRIPTION: \n				\n\n					Along the Waterfront\nTwice a Month at 2:30 pm\nThird and fourth Wednesdays of the month\nStretch your legs on our longest walking tour! This two-hour tour includes Prescott Park\, the working waterfront\, the tugboats\, a bit of beer history and more. Born and bred Portsmouth local\, Ron Sher\, adds personal anecdotes and depth to this extended tour.\n				\n \n\n					Walking Tour Rates:\nTours are $15 for members\, $20 for non-members\, $15 for discounted groups (Children 5-18\, Seniors 62+\, Students\, Portsmouth Residents)\, and free for children 5 and under.\nAll tours depart from Portsmouth Historical Society\, 10 Middle Street\, Portsmouth NH.\nOnline reservations close 30 minutes prior to tour departure. Please call (603) 436-8433 for last minute bookings.\nUpgrade your ticket for just $5 to also visit our galleries and John Paul Jones House.
URL:https://portsmouthhistory.org/event/along-the-waterfront-walking-tour-2/2025-10-22/
LOCATION:Portsmouth Historical Society at 10 Middle Street\, 10 Middle Street\, Portsmouth\, NH\, 01801\, United States
CATEGORIES:Walking Tours
ATTACH;FMTTYPE=image/webp:https://portsmouthhistory.org/wp-content/uploads/2025/06/Along-the-Waterfront-Tour-2025-most-updated.webp
GEO:43.075448564665;-70.760680175025
X-APPLE-STRUCTURED-LOCATION;VALUE=URI;X-ADDRESS=Portsmouth Historical Society at 10 Middle Street 10 Middle Street Portsmouth NH 01801 United States;X-APPLE-RADIUS=500;X-TITLE=10 Middle Street:geo:-70.760680175025,43.075448564665
END:VEVENT
END:VCALENDAR