BEGIN:VCALENDAR
VERSION:2.0
PRODID:-//Portsmouth Historical Society - ECPv6.15.20//NONSGML v1.0//EN
CALSCALE:GREGORIAN
METHOD:PUBLISH
X-WR-CALNAME:Portsmouth Historical Society
X-ORIGINAL-URL:https://portsmouthhistory.org
X-WR-CALDESC:Events for Portsmouth Historical Society
REFRESH-INTERVAL;VALUE=DURATION:PT1H
X-Robots-Tag:noindex
X-PUBLISHED-TTL:PT1H
BEGIN:VTIMEZONE
TZID:America/New_York
BEGIN:DAYLIGHT
TZOFFSETFROM:-0500
TZOFFSETTO:-0400
TZNAME:EDT
DTSTART:20250309T070000
END:DAYLIGHT
BEGIN:STANDARD
TZOFFSETFROM:-0400
TZOFFSETTO:-0500
TZNAME:EST
DTSTART:20251102T060000
END:STANDARD
BEGIN:DAYLIGHT
TZOFFSETFROM:-0500
TZOFFSETTO:-0400
TZNAME:EDT
DTSTART:20260308T070000
END:DAYLIGHT
BEGIN:STANDARD
TZOFFSETFROM:-0400
TZOFFSETTO:-0500
TZNAME:EST
DTSTART:20261101T060000
END:STANDARD
BEGIN:DAYLIGHT
TZOFFSETFROM:-0500
TZOFFSETTO:-0400
TZNAME:EDT
DTSTART:20270314T070000
END:DAYLIGHT
BEGIN:STANDARD
TZOFFSETFROM:-0400
TZOFFSETTO:-0500
TZNAME:EST
DTSTART:20271107T060000
END:STANDARD
END:VTIMEZONE
BEGIN:VEVENT
DTSTART;TZID=America/New_York:20260909T143000
DTEND;TZID=America/New_York:20260909T160000
DTSTAMP:20260423T153337
CREATED:20260116T144333Z
LAST-MODIFIED:20260414T155049Z
UID:10000508-1788964200-1788969600@portsmouthhistory.org
SUMMARY:Women of Portsmouth Walking Tour
DESCRIPTION:Women of Portsmouth Walking Tour\nLearn the untold stories of navigators\, preachers\, artists\, authors\, tavern keepers\, and madams who defied stereotypes and shaped Portsmouth on this 90 minutes tour.\n				\n \n\n					Tour Description:\nFor over 400 years women have been shaping the course of Portsmouth’s history. After the 90-minute walking tour\, we hope you will walk away surprised by all the ways that women have impacted the fabric of this city. Your tour will cover almost two miles including Prescott Park and the Old Harbor.\n				\n\n					Walking Tour Rates:\nTours are $15 for members\, $20 for non-members\, $15 for discounted groups (Children 5-18\, Seniors 62+\, Students\, Portsmouth Residents)\, and free for children 5 and under.\nAll tours depart from Portsmouth Historical Society\, 10 Middle Street\, Portsmouth NH.\nOnline reservations close 30 minutes prior to tour departure. Please call (603) 436-8433 for last minute bookings.
URL:https://portsmouthhistory.org/event/women-of-portsmouth-walking-tour-3/2026-09-09/
LOCATION:Portsmouth Historical Society at 10 Middle Street\, 10 Middle Street\, Portsmouth\, NH\, 01801\, United States
CATEGORIES:Walking Tours
ATTACH;FMTTYPE=image/png:https://portsmouthhistory.org/wp-content/uploads/2025/04/Womens-Walking-Tour-2025-web.png
GEO:43.075448564665;-70.760680175025
X-APPLE-STRUCTURED-LOCATION;VALUE=URI;X-ADDRESS=Portsmouth Historical Society at 10 Middle Street 10 Middle Street Portsmouth NH 01801 United States;X-APPLE-RADIUS=500;X-TITLE=10 Middle Street:geo:-70.760680175025,43.075448564665
END:VEVENT
BEGIN:VEVENT
DTSTART;TZID=America/New_York:20260916T143000
DTEND;TZID=America/New_York:20260916T163000
DTSTAMP:20260423T153337
CREATED:20260423T160539Z
LAST-MODIFIED:20260423T160539Z
UID:10000667-1789569000-1789576200@portsmouthhistory.org
SUMMARY:Historic Portsmouth Extended Walking Tour
DESCRIPTION:Historic Portsmouth Extended Walking Tour\nTwice a Month at 2:30 pm Third and fourth Wednesdays of the month\nStretch your legs on our longest walking tour! This two-hour tour includes all the highlights of the daily Historic Portsmouth tour and brings visitors to Prescott Park and the waterfront.\n				\n \n\n					Walking Tour Rates:\nTours are $15 for members\, $20 for non-members\, $15 for discounted groups (Children 5-18\, Seniors 62+\, Students\, Portsmouth Residents)\, and free for children 5 and under. All tours depart from Portsmouth Historical Society\, 10 Middle Street\, Portsmouth NH. Online reservations close 30 minutes prior to tour departure. Please call (603) 436-8433 for last minute bookings. Upgrade your ticket for just $5 to also visit our galleries and John Paul Jones House.
URL:https://portsmouthhistory.org/event/historic-portsmouth-xl/2026-09-16/
LOCATION:Portsmouth Historical Society at 10 Middle Street\, 10 Middle Street\, Portsmouth\, NH\, 01801\, United States
CATEGORIES:Walking Tours
ATTACH;FMTTYPE=image/jpeg:https://portsmouthhistory.org/wp-content/uploads/2026/04/Extended-Historic-Portsmouth-Tour-2026.webp
GEO:43.075448564665;-70.760680175025
X-APPLE-STRUCTURED-LOCATION;VALUE=URI;X-ADDRESS=Portsmouth Historical Society at 10 Middle Street 10 Middle Street Portsmouth NH 01801 United States;X-APPLE-RADIUS=500;X-TITLE=10 Middle Street:geo:-70.760680175025,43.075448564665
END:VEVENT
BEGIN:VEVENT
DTSTART;TZID=America/New_York:20260923T143000
DTEND;TZID=America/New_York:20260923T163000
DTSTAMP:20260423T153337
CREATED:20260423T160539Z
LAST-MODIFIED:20260423T160539Z
UID:10000668-1790173800-1790181000@portsmouthhistory.org
SUMMARY:Historic Portsmouth Extended Walking Tour
DESCRIPTION:Historic Portsmouth Extended Walking Tour\nTwice a Month at 2:30 pm Third and fourth Wednesdays of the month\nStretch your legs on our longest walking tour! This two-hour tour includes all the highlights of the daily Historic Portsmouth tour and brings visitors to Prescott Park and the waterfront.\n				\n \n\n					Walking Tour Rates:\nTours are $15 for members\, $20 for non-members\, $15 for discounted groups (Children 5-18\, Seniors 62+\, Students\, Portsmouth Residents)\, and free for children 5 and under. All tours depart from Portsmouth Historical Society\, 10 Middle Street\, Portsmouth NH. Online reservations close 30 minutes prior to tour departure. Please call (603) 436-8433 for last minute bookings. Upgrade your ticket for just $5 to also visit our galleries and John Paul Jones House.
URL:https://portsmouthhistory.org/event/historic-portsmouth-xl/2026-09-23/
LOCATION:Portsmouth Historical Society at 10 Middle Street\, 10 Middle Street\, Portsmouth\, NH\, 01801\, United States
CATEGORIES:Walking Tours
ATTACH;FMTTYPE=image/jpeg:https://portsmouthhistory.org/wp-content/uploads/2026/04/Extended-Historic-Portsmouth-Tour-2026.webp
GEO:43.075448564665;-70.760680175025
X-APPLE-STRUCTURED-LOCATION;VALUE=URI;X-ADDRESS=Portsmouth Historical Society at 10 Middle Street 10 Middle Street Portsmouth NH 01801 United States;X-APPLE-RADIUS=500;X-TITLE=10 Middle Street:geo:-70.760680175025,43.075448564665
END:VEVENT
BEGIN:VEVENT
DTSTART;TZID=America/New_York:20261014T143000
DTEND;TZID=America/New_York:20261014T160000
DTSTAMP:20260423T153337
CREATED:20260116T144333Z
LAST-MODIFIED:20260414T155049Z
UID:10000509-1791988200-1791993600@portsmouthhistory.org
SUMMARY:Women of Portsmouth Walking Tour
DESCRIPTION:Women of Portsmouth Walking Tour\nLearn the untold stories of navigators\, preachers\, artists\, authors\, tavern keepers\, and madams who defied stereotypes and shaped Portsmouth on this 90 minutes tour.\n				\n \n\n					Tour Description:\nFor over 400 years women have been shaping the course of Portsmouth’s history. After the 90-minute walking tour\, we hope you will walk away surprised by all the ways that women have impacted the fabric of this city. Your tour will cover almost two miles including Prescott Park and the Old Harbor.\n				\n\n					Walking Tour Rates:\nTours are $15 for members\, $20 for non-members\, $15 for discounted groups (Children 5-18\, Seniors 62+\, Students\, Portsmouth Residents)\, and free for children 5 and under.\nAll tours depart from Portsmouth Historical Society\, 10 Middle Street\, Portsmouth NH.\nOnline reservations close 30 minutes prior to tour departure. Please call (603) 436-8433 for last minute bookings.
URL:https://portsmouthhistory.org/event/women-of-portsmouth-walking-tour-3/2026-10-14/
LOCATION:Portsmouth Historical Society at 10 Middle Street\, 10 Middle Street\, Portsmouth\, NH\, 01801\, United States
CATEGORIES:Walking Tours
ATTACH;FMTTYPE=image/png:https://portsmouthhistory.org/wp-content/uploads/2025/04/Womens-Walking-Tour-2025-web.png
GEO:43.075448564665;-70.760680175025
X-APPLE-STRUCTURED-LOCATION;VALUE=URI;X-ADDRESS=Portsmouth Historical Society at 10 Middle Street 10 Middle Street Portsmouth NH 01801 United States;X-APPLE-RADIUS=500;X-TITLE=10 Middle Street:geo:-70.760680175025,43.075448564665
END:VEVENT
BEGIN:VEVENT
DTSTART;TZID=America/New_York:20261021T143000
DTEND;TZID=America/New_York:20261021T163000
DTSTAMP:20260423T153337
CREATED:20260423T160539Z
LAST-MODIFIED:20260423T160539Z
UID:10000669-1792593000-1792600200@portsmouthhistory.org
SUMMARY:Historic Portsmouth Extended Walking Tour
DESCRIPTION:Historic Portsmouth Extended Walking Tour\nTwice a Month at 2:30 pm Third and fourth Wednesdays of the month\nStretch your legs on our longest walking tour! This two-hour tour includes all the highlights of the daily Historic Portsmouth tour and brings visitors to Prescott Park and the waterfront.\n				\n \n\n					Walking Tour Rates:\nTours are $15 for members\, $20 for non-members\, $15 for discounted groups (Children 5-18\, Seniors 62+\, Students\, Portsmouth Residents)\, and free for children 5 and under. All tours depart from Portsmouth Historical Society\, 10 Middle Street\, Portsmouth NH. Online reservations close 30 minutes prior to tour departure. Please call (603) 436-8433 for last minute bookings. Upgrade your ticket for just $5 to also visit our galleries and John Paul Jones House.
URL:https://portsmouthhistory.org/event/historic-portsmouth-xl/2026-10-21/
LOCATION:Portsmouth Historical Society at 10 Middle Street\, 10 Middle Street\, Portsmouth\, NH\, 01801\, United States
CATEGORIES:Walking Tours
ATTACH;FMTTYPE=image/jpeg:https://portsmouthhistory.org/wp-content/uploads/2026/04/Extended-Historic-Portsmouth-Tour-2026.webp
GEO:43.075448564665;-70.760680175025
X-APPLE-STRUCTURED-LOCATION;VALUE=URI;X-ADDRESS=Portsmouth Historical Society at 10 Middle Street 10 Middle Street Portsmouth NH 01801 United States;X-APPLE-RADIUS=500;X-TITLE=10 Middle Street:geo:-70.760680175025,43.075448564665
END:VEVENT
BEGIN:VEVENT
DTSTART;TZID=America/New_York:20261028T143000
DTEND;TZID=America/New_York:20261028T163000
DTSTAMP:20260423T153337
CREATED:20260423T160539Z
LAST-MODIFIED:20260423T160539Z
UID:10000670-1793197800-1793205000@portsmouthhistory.org
SUMMARY:Historic Portsmouth Extended Walking Tour
DESCRIPTION:Historic Portsmouth Extended Walking Tour\nTwice a Month at 2:30 pm Third and fourth Wednesdays of the month\nStretch your legs on our longest walking tour! This two-hour tour includes all the highlights of the daily Historic Portsmouth tour and brings visitors to Prescott Park and the waterfront.\n				\n \n\n					Walking Tour Rates:\nTours are $15 for members\, $20 for non-members\, $15 for discounted groups (Children 5-18\, Seniors 62+\, Students\, Portsmouth Residents)\, and free for children 5 and under. All tours depart from Portsmouth Historical Society\, 10 Middle Street\, Portsmouth NH. Online reservations close 30 minutes prior to tour departure. Please call (603) 436-8433 for last minute bookings. Upgrade your ticket for just $5 to also visit our galleries and John Paul Jones House.
URL:https://portsmouthhistory.org/event/historic-portsmouth-xl/2026-10-28/
LOCATION:Portsmouth Historical Society at 10 Middle Street\, 10 Middle Street\, Portsmouth\, NH\, 01801\, United States
CATEGORIES:Walking Tours
ATTACH;FMTTYPE=image/jpeg:https://portsmouthhistory.org/wp-content/uploads/2026/04/Extended-Historic-Portsmouth-Tour-2026.webp
GEO:43.075448564665;-70.760680175025
X-APPLE-STRUCTURED-LOCATION;VALUE=URI;X-ADDRESS=Portsmouth Historical Society at 10 Middle Street 10 Middle Street Portsmouth NH 01801 United States;X-APPLE-RADIUS=500;X-TITLE=10 Middle Street:geo:-70.760680175025,43.075448564665
END:VEVENT
END:VCALENDAR