BEGIN:VCALENDAR
VERSION:2.0
PRODID:-//Portsmouth Historical Society - ECPv6.15.20//NONSGML v1.0//EN
CALSCALE:GREGORIAN
METHOD:PUBLISH
X-WR-CALNAME:Portsmouth Historical Society
X-ORIGINAL-URL:https://portsmouthhistory.org
X-WR-CALDESC:Events for Portsmouth Historical Society
REFRESH-INTERVAL;VALUE=DURATION:PT1H
X-Robots-Tag:noindex
X-PUBLISHED-TTL:PT1H
BEGIN:VTIMEZONE
TZID:America/New_York
BEGIN:DAYLIGHT
TZOFFSETFROM:-0500
TZOFFSETTO:-0400
TZNAME:EDT
DTSTART:20240310T070000
END:DAYLIGHT
BEGIN:STANDARD
TZOFFSETFROM:-0400
TZOFFSETTO:-0500
TZNAME:EST
DTSTART:20241103T060000
END:STANDARD
BEGIN:DAYLIGHT
TZOFFSETFROM:-0500
TZOFFSETTO:-0400
TZNAME:EDT
DTSTART:20250309T070000
END:DAYLIGHT
BEGIN:STANDARD
TZOFFSETFROM:-0400
TZOFFSETTO:-0500
TZNAME:EST
DTSTART:20251102T060000
END:STANDARD
BEGIN:DAYLIGHT
TZOFFSETFROM:-0500
TZOFFSETTO:-0400
TZNAME:EDT
DTSTART:20260308T070000
END:DAYLIGHT
BEGIN:STANDARD
TZOFFSETFROM:-0400
TZOFFSETTO:-0500
TZNAME:EST
DTSTART:20261101T060000
END:STANDARD
END:VTIMEZONE
BEGIN:VEVENT
DTSTART;TZID=America/New_York:20250607T110000
DTEND;TZID=America/New_York:20250607T140000
DTSTAMP:20260424T150907
CREATED:20250403T151034Z
LAST-MODIFIED:20250509T185421Z
UID:10000421-1749294000-1749304800@portsmouthhistory.org
SUMMARY:Family Day: Portsmouth on Foot
DESCRIPTION:Explore Portsmouth during Preservation Month!\nRescheduled to Saturday\, June 7\n			\n				\n				\n				\n				\n				RRSVP to Portsmouth on Foot (our May Family Day)\n			\n			\n				\n				\n				\n				\n			\n				\n				\n				\n				\n				\n				\n				\n				\n				\n				\n				\n\nThank you to our event sponsor:
URL:https://portsmouthhistory.org/event/portsmouth-on-foot/
LOCATION:Portsmouth Historical Society at 10 Middle Street\, 10 Middle Street\, Portsmouth\, NH\, 01801\, United States
CATEGORIES:Education Programs,Walking Tours
ATTACH;FMTTYPE=image/png:https://portsmouthhistory.org/wp-content/uploads/2025/04/May-Family-Day-2025-Family-Walking-Tour-web.png
GEO:43.075448564665;-70.760680175025
X-APPLE-STRUCTURED-LOCATION;VALUE=URI;X-ADDRESS=Portsmouth Historical Society at 10 Middle Street 10 Middle Street Portsmouth NH 01801 United States;X-APPLE-RADIUS=500;X-TITLE=10 Middle Street:geo:-70.760680175025,43.075448564665
END:VEVENT
END:VCALENDAR