BEGIN:VCALENDAR
VERSION:2.0
PRODID:-//Portsmouth Historical Society - ECPv6.15.20//NONSGML v1.0//EN
CALSCALE:GREGORIAN
METHOD:PUBLISH
X-ORIGINAL-URL:https://portsmouthhistory.org
X-WR-CALDESC:Events for Portsmouth Historical Society
REFRESH-INTERVAL;VALUE=DURATION:PT1H
X-Robots-Tag:noindex
X-PUBLISHED-TTL:PT1H
BEGIN:VTIMEZONE
TZID:America/New_York
BEGIN:DAYLIGHT
TZOFFSETFROM:-0500
TZOFFSETTO:-0400
TZNAME:EDT
DTSTART:20240310T070000
END:DAYLIGHT
BEGIN:STANDARD
TZOFFSETFROM:-0400
TZOFFSETTO:-0500
TZNAME:EST
DTSTART:20241103T060000
END:STANDARD
BEGIN:DAYLIGHT
TZOFFSETFROM:-0500
TZOFFSETTO:-0400
TZNAME:EDT
DTSTART:20250309T070000
END:DAYLIGHT
BEGIN:STANDARD
TZOFFSETFROM:-0400
TZOFFSETTO:-0500
TZNAME:EST
DTSTART:20251102T060000
END:STANDARD
BEGIN:DAYLIGHT
TZOFFSETFROM:-0500
TZOFFSETTO:-0400
TZNAME:EDT
DTSTART:20260308T070000
END:DAYLIGHT
BEGIN:STANDARD
TZOFFSETFROM:-0400
TZOFFSETTO:-0500
TZNAME:EST
DTSTART:20261101T060000
END:STANDARD
END:VTIMEZONE
BEGIN:VEVENT
DTSTART;TZID=America/New_York:20250507T173000
DTEND;TZID=America/New_York:20250507T190000
DTSTAMP:20260424T235258
CREATED:20250402T193033Z
LAST-MODIFIED:20250429T155200Z
UID:10000420-1746639000-1746644400@portsmouthhistory.org
SUMMARY:Sustainability in Historic Preservation Panel
DESCRIPTION:Preservation practices and a sustainable future work hand in hand\n			\n				\n				\n				\n				\n				RSVP to "Advocacy and Environment: Sustainability in Historic Preservation"\n			\n			\n				\n				\n				\n				\n			\n				\n				\n				\n				\n				\n				\n				\n				\n				\n				\n				About the Presenters\n			\n			\n				\n				\n				\n				\n			\n				\n				\n				\n				\n				\n				\n				\n				\n				\n				\n				\n			\n			\n				\n				\n				\n				\n				\n				\n				\n				\n				\n				Rodney Rowland\nRodney Rowland is the Director of Environmental Sustainability at Strawbery Banke Museum. He began his career at this important\, National Register listed site in Portsmouth over 30 years ago. Over those years\, he has worked to make the museum more financially sustainable while broadening the visitor experience. His focus is now on overcoming what is\, arguably\, the biggest challenge the museum has ever faced\, adapting for increased impacts from flooding. Part of this is public outreach and assistance. Teaching others what we do and learn at Strawbery Banke Museum so that they can\, in turn\, help themselves and their community.\n			\n			\n				\n				\n				\n				\n			\n				\n				\n				\n				\n				\n				\n				\n				\n				\n				\n				David Reidmiller\nDr. Dave Reidmiller is the Chief Impact Officer at the Gulf of Maine Research Institute. Dave joined GMRI in 2020 to launch and lead a new Climate Center focused on delivering climate services to coastal and marine stakeholders. He was appointed as a climate advisor to the Biden-Harris Presidential Transition Team. Prior to joining GMRI\, Dave served in a number of climate science policy positions in the federal government\, including as Director of the Northeast & Southeast Climate Adaptation Science Centers at the U.S. Geological Survey\, Director of the Fourth National Climate Assessment with the White House Office of Science & Technology Policy\, and as Chief Climate Scientist at the State Department where he led U.S. negotiations on science and technology for the Paris Agreement.\n			\n			\n				\n				\n				\n				\n				\n				\n				\n				\n				\n				\n			\n			\n				\n				\n				\n				\n			\n				\n				\n				\n				\n				\n				\n				\n				\n				\n				\n				\n			\n			\n				\n				\n				\n				\n				\n				\n				\n				\n				\n				Johanna Lyons\nJohanna Lyons is the State Park Planner and Land Use Administrator for the NH Division of Parks and Recreation. Starting her state park career as a field manager at Hampton Beach State Park she has developed her career within the Division and has been the planner since 2003. A majority of the State Park facilities are greater than 50 years old and much of the park infrastructure is eligible for the National Register. In addition\, the parks contain cultural resources\, special habitats and natural features. Balancing public use and stewardship of the natural and cultural resources is a daily negotiation. Ms. Lyons is a resident of Portsmouth\, growing up downtown during the revitalization of Market Square.\n			\n			\n				\n				\n				\n				\n			\n				\n				\n				\n				\n				\n				\n				\n				\n				\n				\n				Joie Grandbois\nJoie Grandbois is the Director of Sustainability for Historic New England. Joie is a skilled storyteller who excels in conveying complex environmental concepts with clarity and passion. Born and raised in New England\, she has witnessed the impacts of climate change and observed the remarkable recovery of rivers and forests due to environmental legislation. Her firsthand experience of New England’s changing climate led Joie to leverage her deep-rooted connection to the region and her background in environmental economics consulting to become a powerful advocate for environmental stewardship.
URL:https://portsmouthhistory.org/event/historic-preservation-panel/
LOCATION:Portsmouth Historical Society at 10 Middle Street\, 10 Middle Street\, Portsmouth\, NH\, 01801\, United States
CATEGORIES:Education Programs
ATTACH;FMTTYPE=image/png:https://portsmouthhistory.org/wp-content/uploads/2025/04/Sustainability-Panel-5.7-web.png
GEO:43.075448564665;-70.760680175025
X-APPLE-STRUCTURED-LOCATION;VALUE=URI;X-ADDRESS=Portsmouth Historical Society at 10 Middle Street 10 Middle Street Portsmouth NH 01801 United States;X-APPLE-RADIUS=500;X-TITLE=10 Middle Street:geo:-70.760680175025,43.075448564665
END:VEVENT
END:VCALENDAR