BEGIN:VCALENDAR
VERSION:2.0
PRODID:-//Portsmouth Historical Society - ECPv6.15.20//NONSGML v1.0//EN
CALSCALE:GREGORIAN
METHOD:PUBLISH
X-ORIGINAL-URL:https://portsmouthhistory.org
X-WR-CALDESC:Events for Portsmouth Historical Society
REFRESH-INTERVAL;VALUE=DURATION:PT1H
X-Robots-Tag:noindex
X-PUBLISHED-TTL:PT1H
BEGIN:VTIMEZONE
TZID:America/New_York
BEGIN:DAYLIGHT
TZOFFSETFROM:-0500
TZOFFSETTO:-0400
TZNAME:EDT
DTSTART:20240310T070000
END:DAYLIGHT
BEGIN:STANDARD
TZOFFSETFROM:-0400
TZOFFSETTO:-0500
TZNAME:EST
DTSTART:20241103T060000
END:STANDARD
BEGIN:DAYLIGHT
TZOFFSETFROM:-0500
TZOFFSETTO:-0400
TZNAME:EDT
DTSTART:20250309T070000
END:DAYLIGHT
BEGIN:STANDARD
TZOFFSETFROM:-0400
TZOFFSETTO:-0500
TZNAME:EST
DTSTART:20251102T060000
END:STANDARD
BEGIN:DAYLIGHT
TZOFFSETFROM:-0500
TZOFFSETTO:-0400
TZNAME:EDT
DTSTART:20260308T070000
END:DAYLIGHT
BEGIN:STANDARD
TZOFFSETFROM:-0400
TZOFFSETTO:-0500
TZNAME:EST
DTSTART:20261101T060000
END:STANDARD
END:VTIMEZONE
BEGIN:VEVENT
DTSTART;TZID=America/New_York:20250721T180000
DTEND;TZID=America/New_York:20250721T193000
DTSTAMP:20260425T123230
CREATED:20250617T204146Z
LAST-MODIFIED:20250617T204154Z
UID:10000536-1753120800-1753126200@portsmouthhistory.org
SUMMARY:Read it and Eat: Celebrating Women Chefs
DESCRIPTION:Register for Read It and Eat! Celebrating Women Chefs\n			\n				\n				\n				\n				\n				FAQs\n			\n				\n				\n				\n				\n				\n				\n				\n				\n				\n				How many people should my dish serve?\n				We usually have 15-20 people at each Read It and Eat event\, however each of those individuals will all be making a dish! If your recipe serves 4-6\, that should be more than enough. People tend to take small portions so they can try everything.\n			\n				\n				\n				\n				\n				Will alcohol be served? Can I use it in a recipe?\n				Per the conditions of our liquor license with the city\, we do not serve alcohol at these events\, and guests cannot bring alcohol to drink. However\, dishes with cooked alcohol are perfectly fine to bring.\n			\n				\n				\n				\n				\n				How are food allergies handled?\n				We do ask people to provide us with a list of ingredients in their dishes\, but this is a potluck-style dinner with dishes all laid out together on a long table and served family-style. Dishes are prepared at individuals’ homes and cross-contamination cannot be ruled out.\n			\n				\n				\n				\n				\n				Are non-alcoholic drinks provided?\n				Yes! In addition to water and seltzer\, we provide fun mocktails for everyone to enjoy!\n			\n				\n				\n				\n				\n				Can I plug in my crock pot?\n				Unfortunately\, we do not have enough outlets to accommodate crock pots or other electrical equipment. Dishes must come ready to be served.
URL:https://portsmouthhistory.org/event/read-it-and-eat-july/
LOCATION:Portsmouth Historical Society at 10 Middle Street\, 10 Middle Street\, Portsmouth\, NH\, 01801\, United States
CATEGORIES:Education Programs
ATTACH;FMTTYPE=image/jpeg:https://portsmouthhistory.org/wp-content/uploads/2025/06/Read-it-and-Eat-July.webp
GEO:43.075448564665;-70.760680175025
X-APPLE-STRUCTURED-LOCATION;VALUE=URI;X-ADDRESS=Portsmouth Historical Society at 10 Middle Street 10 Middle Street Portsmouth NH 01801 United States;X-APPLE-RADIUS=500;X-TITLE=10 Middle Street:geo:-70.760680175025,43.075448564665
END:VEVENT
END:VCALENDAR