BEGIN:VCALENDAR
VERSION:2.0
PRODID:-//Portsmouth Historical Society - ECPv6.15.20//NONSGML v1.0//EN
CALSCALE:GREGORIAN
METHOD:PUBLISH
X-ORIGINAL-URL:https://portsmouthhistory.org
X-WR-CALDESC:Events for Portsmouth Historical Society
REFRESH-INTERVAL;VALUE=DURATION:PT1H
X-Robots-Tag:noindex
X-PUBLISHED-TTL:PT1H
BEGIN:VTIMEZONE
TZID:America/New_York
BEGIN:DAYLIGHT
TZOFFSETFROM:-0500
TZOFFSETTO:-0400
TZNAME:EDT
DTSTART:20250309T070000
END:DAYLIGHT
BEGIN:STANDARD
TZOFFSETFROM:-0400
TZOFFSETTO:-0500
TZNAME:EST
DTSTART:20251102T060000
END:STANDARD
BEGIN:DAYLIGHT
TZOFFSETFROM:-0500
TZOFFSETTO:-0400
TZNAME:EDT
DTSTART:20260308T070000
END:DAYLIGHT
BEGIN:STANDARD
TZOFFSETFROM:-0400
TZOFFSETTO:-0500
TZNAME:EST
DTSTART:20261101T060000
END:STANDARD
BEGIN:DAYLIGHT
TZOFFSETFROM:-0500
TZOFFSETTO:-0400
TZNAME:EDT
DTSTART:20270314T070000
END:DAYLIGHT
BEGIN:STANDARD
TZOFFSETFROM:-0400
TZOFFSETTO:-0500
TZNAME:EST
DTSTART:20271107T060000
END:STANDARD
END:VTIMEZONE
BEGIN:VEVENT
DTSTART;TZID=America/New_York:20260328T140000
DTEND;TZID=America/New_York:20260328T153000
DTSTAMP:20260423T164846
CREATED:20260116T162715Z
LAST-MODIFIED:20260116T162722Z
UID:10000608-1774706400-1774711800@portsmouthhistory.org
SUMMARY:Women's History Month Walking Tour
DESCRIPTION:Women of Portsmouth Walking Tour\nLearn the untold stories of navigators\, preachers\, artists\, authors\, tavern keepers\, and madams who defied stereotypes and shaped Portsmouth on this 90 minutes tour. \n			\n			\n				\n				\n				\n				\n			\n				\n				\n				\n				\n				\n				\n				Join the Women's History Month Walking Tour\n			\n			\n				\n				\n				\n				\n			\n				\n				\n				\n				\n				\n				\n				\n				\n				\n				\n				Tour Description:\n For over 400 years women have been shaping the course of Portsmouth’s history. After the 90-minute walking tour\, we hope you will walk away surprised by all the ways that women have impacted the fabric of this city. Your tour will cover almost two miles including Prescott Park and the Old Harbor. \n			\n			\n				\n				\n				\n				\n				\n				\n				\n				\n				\n				Walking Tour Rates:\nTours are $15 for members\, $20 for non-members\, $15 for discounted groups (Children 5-18\, Seniors 62+\, Students\, Portsmouth Residents)\, and free for children 5 and under.All tours depart from Portsmouth Historical Society\, 10 Middle Street\, Portsmouth NH.Online reservations close 30 minutes prior to tour departure. Please call (603) 436-8433 for last minute bookings.
URL:https://portsmouthhistory.org/event/womens-history-month-2026/
LOCATION:Portsmouth Historical Society at 10 Middle Street\, 10 Middle Street\, Portsmouth\, NH\, 01801\, United States
CATEGORIES:Walking Tours
ATTACH;FMTTYPE=image/webp:https://portsmouthhistory.org/wp-content/uploads/2026/01/Womens-History-Month-Tours-2026.webp
GEO:43.075448564665;-70.760680175025
X-APPLE-STRUCTURED-LOCATION;VALUE=URI;X-ADDRESS=Portsmouth Historical Society at 10 Middle Street 10 Middle Street Portsmouth NH 01801 United States;X-APPLE-RADIUS=500;X-TITLE=10 Middle Street:geo:-70.760680175025,43.075448564665
END:VEVENT
BEGIN:VEVENT
DTSTART;TZID=America/New_York:20260329T140000
DTEND;TZID=America/New_York:20260329T153000
DTSTAMP:20260423T164846
CREATED:20260116T163013Z
LAST-MODIFIED:20260116T163020Z
UID:10000609-1774792800-1774798200@portsmouthhistory.org
SUMMARY:Women's History Month Walking Tour
DESCRIPTION:Women of Portsmouth Walking Tour\nLearn the untold stories of navigators\, preachers\, artists\, authors\, tavern keepers\, and madams who defied stereotypes and shaped Portsmouth on this 90 minutes tour. \n			\n			\n				\n				\n				\n				\n			\n				\n				\n				\n				\n				\n				\n				Join the Women's History Month Walking Tour\n			\n			\n				\n				\n				\n				\n			\n				\n				\n				\n				\n				\n				\n				\n				\n				\n				\n				Tour Description:\n For over 400 years women have been shaping the course of Portsmouth’s history. After the 90-minute walking tour\, we hope you will walk away surprised by all the ways that women have impacted the fabric of this city. Your tour will cover almost two miles including Prescott Park and the Old Harbor. \n			\n			\n				\n				\n				\n				\n				\n				\n				\n				\n				\n				Walking Tour Rates:\nTours are $15 for members\, $20 for non-members\, $15 for discounted groups (Children 5-18\, Seniors 62+\, Students\, Portsmouth Residents)\, and free for children 5 and under.All tours depart from Portsmouth Historical Society\, 10 Middle Street\, Portsmouth NH.Online reservations close 30 minutes prior to tour departure. Please call (603) 436-8433 for last minute bookings.
URL:https://portsmouthhistory.org/event/2026-womens-history-month/
LOCATION:Portsmouth Historical Society at 10 Middle Street\, 10 Middle Street\, Portsmouth\, NH\, 01801\, United States
CATEGORIES:Walking Tours
ATTACH;FMTTYPE=image/webp:https://portsmouthhistory.org/wp-content/uploads/2026/01/Womens-History-Month-Tours-2026.webp
GEO:43.075448564665;-70.760680175025
X-APPLE-STRUCTURED-LOCATION;VALUE=URI;X-ADDRESS=Portsmouth Historical Society at 10 Middle Street 10 Middle Street Portsmouth NH 01801 United States;X-APPLE-RADIUS=500;X-TITLE=10 Middle Street:geo:-70.760680175025,43.075448564665
END:VEVENT
END:VCALENDAR