BEGIN:VCALENDAR
VERSION:2.0
PRODID:-//Portsmouth Historical Society - ECPv6.15.20//NONSGML v1.0//EN
CALSCALE:GREGORIAN
METHOD:PUBLISH
X-ORIGINAL-URL:https://portsmouthhistory.org
X-WR-CALDESC:Events for Portsmouth Historical Society
REFRESH-INTERVAL;VALUE=DURATION:PT1H
X-Robots-Tag:noindex
X-PUBLISHED-TTL:PT1H
BEGIN:VTIMEZONE
TZID:America/New_York
BEGIN:DAYLIGHT
TZOFFSETFROM:-0500
TZOFFSETTO:-0400
TZNAME:EDT
DTSTART:20240310T070000
END:DAYLIGHT
BEGIN:STANDARD
TZOFFSETFROM:-0400
TZOFFSETTO:-0500
TZNAME:EST
DTSTART:20241103T060000
END:STANDARD
BEGIN:DAYLIGHT
TZOFFSETFROM:-0500
TZOFFSETTO:-0400
TZNAME:EDT
DTSTART:20250309T070000
END:DAYLIGHT
BEGIN:STANDARD
TZOFFSETFROM:-0400
TZOFFSETTO:-0500
TZNAME:EST
DTSTART:20251102T060000
END:STANDARD
BEGIN:DAYLIGHT
TZOFFSETFROM:-0500
TZOFFSETTO:-0400
TZNAME:EDT
DTSTART:20260308T070000
END:DAYLIGHT
BEGIN:STANDARD
TZOFFSETFROM:-0400
TZOFFSETTO:-0500
TZNAME:EST
DTSTART:20261101T060000
END:STANDARD
END:VTIMEZONE
BEGIN:VEVENT
DTSTART;TZID=America/New_York:20250501T160000
DTEND;TZID=America/New_York:20250501T210000
DTSTAMP:20260423T145032
CREATED:20250414T182404Z
LAST-MODIFIED:20250414T182410Z
UID:10000435-1746115200-1746133200@portsmouthhistory.org
SUMMARY:Community Fundraiser Night at Ore Nell's
DESCRIPTION:Come enjoy great BBQ and make a difference in your community—one bite at a time!\n			\n			\n				\n				\n				\n				\n			\n				\n				\n				\n				\n				\n				\n				\n				\n				\n				\n				Thursday\, May 1\, 2025\nJoin us for a delicious way to support the Portsmouth Historical Society! From 4:00 to 9:00 PM\, Ore Nell’s in Kittery will generously donate 20% of all dine-in sales to help fund our exhibitions\, education programs\, and preservation initiatives. \n			\n				\n				\n				\n				\n				\n			\n			\n				\n				\n				\n				\n				\n				\n				\n				\n				\n				UNABLE TO ATTEND? You can still keep Portsmouth’s history alive. Consider a donation to support Portsmouth Historical Society’s mission to connect the community to our past\, present and future through collections\, interpretation\, education\, and preservation. \n			\n				Keep History Alive!
URL:https://portsmouthhistory.org/event/fundraiser-ore-nells/
LOCATION:Ore Nell’s Kittery\, 2 Badgers Island West\, Kittery\, ME\, United States
ATTACH;FMTTYPE=image/png:https://portsmouthhistory.org/wp-content/uploads/2025/04/Ore-Nells-Web-Event.png
END:VEVENT
END:VCALENDAR